BEGIN:VCALENDAR
VERSION:2.0
PRODID:-//Georgia Society, Sons of the American Revolution - ECPv6.15.20//NONSGML v1.0//EN
CALSCALE:GREGORIAN
METHOD:PUBLISH
X-ORIGINAL-URL:https://gasocietysar.org
X-WR-CALDESC:Events for Georgia Society, Sons of the American Revolution
REFRESH-INTERVAL;VALUE=DURATION:PT1H
X-Robots-Tag:noindex
X-PUBLISHED-TTL:PT1H
BEGIN:VTIMEZONE
TZID:America/New_York
BEGIN:DAYLIGHT
TZOFFSETFROM:-0500
TZOFFSETTO:-0400
TZNAME:EDT
DTSTART:20240310T070000
END:DAYLIGHT
BEGIN:STANDARD
TZOFFSETFROM:-0400
TZOFFSETTO:-0500
TZNAME:EST
DTSTART:20241103T060000
END:STANDARD
BEGIN:DAYLIGHT
TZOFFSETFROM:-0500
TZOFFSETTO:-0400
TZNAME:EDT
DTSTART:20250309T070000
END:DAYLIGHT
BEGIN:STANDARD
TZOFFSETFROM:-0400
TZOFFSETTO:-0500
TZNAME:EST
DTSTART:20251102T060000
END:STANDARD
BEGIN:DAYLIGHT
TZOFFSETFROM:-0500
TZOFFSETTO:-0400
TZNAME:EDT
DTSTART:20260308T070000
END:DAYLIGHT
BEGIN:STANDARD
TZOFFSETFROM:-0400
TZOFFSETTO:-0500
TZNAME:EST
DTSTART:20261101T060000
END:STANDARD
END:VTIMEZONE
BEGIN:VEVENT
DTSTART;TZID=America/New_York:20251007T090000
DTEND;TZID=America/New_York:20251007T120000
DTSTAMP:20260423T181043
CREATED:20250520T233252Z
LAST-MODIFIED:20251003T143349Z
UID:18073-1759827600-1759838400@gasocietysar.org
SUMMARY:National (NC) - Kings Mountain - CHANGE OF LOCATION
DESCRIPTION:King’s Mountain Military Battlefield Park is currently closed as part of the federal government shutdown. \nThe Commemoration of the Battle of King’s Mountain has been moved to Jolly Park in Gaffney South Carolina. \nLocation: Jolly Park\, 102 Railroad Ave\, Gaffney\, SC 29340 \nEvent Time: 11:00 AM \n 
URL:https://gasocietysar.org/event/national-nc-kings-mountain/
LOCATION:GA
CATEGORIES:National Events
END:VEVENT
END:VCALENDAR