BEGIN:VCALENDAR
VERSION:2.0
PRODID:-//Georgia Society, Sons of the American Revolution - ECPv6.15.20//NONSGML v1.0//EN
CALSCALE:GREGORIAN
METHOD:PUBLISH
X-ORIGINAL-URL:https://gasocietysar.org
X-WR-CALDESC:Events for Georgia Society, Sons of the American Revolution
REFRESH-INTERVAL;VALUE=DURATION:PT1H
X-Robots-Tag:noindex
X-PUBLISHED-TTL:PT1H
BEGIN:VTIMEZONE
TZID:America/New_York
BEGIN:DAYLIGHT
TZOFFSETFROM:-0500
TZOFFSETTO:-0400
TZNAME:EDT
DTSTART:20240310T070000
END:DAYLIGHT
BEGIN:STANDARD
TZOFFSETFROM:-0400
TZOFFSETTO:-0500
TZNAME:EST
DTSTART:20241103T060000
END:STANDARD
BEGIN:DAYLIGHT
TZOFFSETFROM:-0500
TZOFFSETTO:-0400
TZNAME:EDT
DTSTART:20250309T070000
END:DAYLIGHT
BEGIN:STANDARD
TZOFFSETFROM:-0400
TZOFFSETTO:-0500
TZNAME:EST
DTSTART:20251102T060000
END:STANDARD
BEGIN:DAYLIGHT
TZOFFSETFROM:-0500
TZOFFSETTO:-0400
TZNAME:EDT
DTSTART:20260308T070000
END:DAYLIGHT
BEGIN:STANDARD
TZOFFSETFROM:-0400
TZOFFSETTO:-0500
TZNAME:EST
DTSTART:20261101T060000
END:STANDARD
END:VTIMEZONE
BEGIN:VEVENT
DTSTART;TZID=America/New_York:20251016T143000
DTEND;TZID=America/New_York:20251016T153000
DTSTAMP:20260423T181137
CREATED:20250805T140523Z
LAST-MODIFIED:20250805T140523Z
UID:18341-1760625000-1760628600@gasocietysar.org
SUMMARY:Liberty Tree Dedication - The Carter Center - 2:30 PM
DESCRIPTION:Liberty Tree Dedication \nThe Carter Center\, 453 John Lewis Freedom Parkway\, NE\, Atlanta\, GA   30307 \n2:30 PM \nContact is Ron Redner – ronredner@renderad.com \n 
URL:https://gasocietysar.org/event/liberty-tree-dedication-the-carter-center-230-pm/
LOCATION:The Carter Center\, 453 John Lewis Freedom Parkway\, NC\, Atlanta\, GA\, 30307\, United States
CATEGORIES:GASSAR Color Guard
END:VEVENT
BEGIN:VEVENT
DTSTART;TZID=America/New_York:20251016T180000
DTEND;TZID=America/New_York:20251016T190000
DTSTAMP:20260423T181137
CREATED:20250805T135710Z
LAST-MODIFIED:20250805T135710Z
UID:18338-1760637600-1760641200@gasocietysar.org
SUMMARY:Liberty Tree Dedication Ceremony - Monroe\, Ga - 6:00 PM
DESCRIPTION:Liberty Tree Dedication Ceremony – October 16th at 6:00PM \nThe Historic McDaniel-Tichenor House\, 319 McDaniel Street\, Monroe\, GA\, 30655-2060 \nJoin us for a ceremony on the grounds.  A House reception will immediately follow.  Attire is business casual with Revolutionary “period correct” most welcome. \nKindly RSVP to Jimmy Norton at jrn2inc@gmail.com
URL:https://gasocietysar.org/event/liberty-tree-dedication-ceremony-monroe-ga-600-pm/
LOCATION:McDaniel-Tichenor House\, 319 McDaniel Street\, Monroe\, GA\, 30655\, United States
CATEGORIES:GASSAR Color Guard
END:VEVENT
END:VCALENDAR