BEGIN:VCALENDAR
VERSION:2.0
PRODID:-//Georgia Society, Sons of the American Revolution - ECPv6.15.20//NONSGML v1.0//EN
CALSCALE:GREGORIAN
METHOD:PUBLISH
X-ORIGINAL-URL:https://gasocietysar.org
X-WR-CALDESC:Events for Georgia Society, Sons of the American Revolution
REFRESH-INTERVAL;VALUE=DURATION:PT1H
X-Robots-Tag:noindex
X-PUBLISHED-TTL:PT1H
BEGIN:VTIMEZONE
TZID:America/New_York
BEGIN:DAYLIGHT
TZOFFSETFROM:-0500
TZOFFSETTO:-0400
TZNAME:EDT
DTSTART:20240310T070000
END:DAYLIGHT
BEGIN:STANDARD
TZOFFSETFROM:-0400
TZOFFSETTO:-0500
TZNAME:EST
DTSTART:20241103T060000
END:STANDARD
BEGIN:DAYLIGHT
TZOFFSETFROM:-0500
TZOFFSETTO:-0400
TZNAME:EDT
DTSTART:20250309T070000
END:DAYLIGHT
BEGIN:STANDARD
TZOFFSETFROM:-0400
TZOFFSETTO:-0500
TZNAME:EST
DTSTART:20251102T060000
END:STANDARD
BEGIN:DAYLIGHT
TZOFFSETFROM:-0500
TZOFFSETTO:-0400
TZNAME:EDT
DTSTART:20260308T070000
END:DAYLIGHT
BEGIN:STANDARD
TZOFFSETFROM:-0400
TZOFFSETTO:-0500
TZNAME:EST
DTSTART:20261101T060000
END:STANDARD
END:VTIMEZONE
BEGIN:VEVENT
DTSTART;TZID=America/New_York:20251019T090000
DTEND;TZID=America/New_York:20251019T113000
DTSTAMP:20260423T181137
CREATED:20250520T233843Z
LAST-MODIFIED:20250520T233934Z
UID:18077-1760864400-1760873400@gasocietysar.org
SUMMARY:National (VA) - Yorktown Days
DESCRIPTION:Battle of Yorktown & Wreath laying at the Tomb of Thomas Nelson Jr.\n\n\nGrace Episcopal Church Yorktown\n111 Church St\nYorktown\, Virginia 23690\n\n \n\n\n\nSunday\, October 19\, 2025 – 9:15 AM – 10:15 AM EDT\nCategory: NATIONAL SPONSORED EVENT\n\n \n\n\n\nThe Siege of Yorktown\, also known as the Battle of Yorktown\, the surrender at Yorktown\, or the German Battle\, ending on October 19\, 1781\, at Yorktown\, Virginia\, was a decisive victory by a combined force of the American Continental Army troops led by General George Washington and French Army troops led by the Comte de Rochambeau over a British army commanded by Lieutenant General Charles Cornwallis. The culmination of the Yorktown campaign\, the siege proved to be the last major land battle of the American Revolutionary War in the North American region\, as the surrender by Cornwallis\, and the capture of both him and his army\, prompted the British government to negotiate an end to the conflict.\nParade formation and Wreath ceremony at Victory monument details will be published soon. \nRegistration for the Wreath ceremony at the grave of Governor Thomas Nelson jr.  is open and available by clicking here. \nNote: this event also marks the bicentennial of the return of the Marquis de Lafayette to Yorktown in October 1824 and is expected to be a significant commemoration. \n-RBM \n\n\nContact: Gary Hodges\, TNJ CHapter
URL:https://gasocietysar.org/event/national-va-yorktown-days/
LOCATION:GA
CATEGORIES:National Events
END:VEVENT
END:VCALENDAR