BEGIN:VCALENDAR
VERSION:2.0
PRODID:-//Georgia Society, Sons of the American Revolution - ECPv6.15.20//NONSGML v1.0//EN
CALSCALE:GREGORIAN
METHOD:PUBLISH
X-WR-CALNAME:Georgia Society, Sons of the American Revolution
X-ORIGINAL-URL:https://gasocietysar.org
X-WR-CALDESC:Events for Georgia Society, Sons of the American Revolution
REFRESH-INTERVAL;VALUE=DURATION:PT1H
X-Robots-Tag:noindex
X-PUBLISHED-TTL:PT1H
BEGIN:VTIMEZONE
TZID:America/New_York
BEGIN:DAYLIGHT
TZOFFSETFROM:-0500
TZOFFSETTO:-0400
TZNAME:EDT
DTSTART:20250309T070000
END:DAYLIGHT
BEGIN:STANDARD
TZOFFSETFROM:-0400
TZOFFSETTO:-0500
TZNAME:EST
DTSTART:20251102T060000
END:STANDARD
BEGIN:DAYLIGHT
TZOFFSETFROM:-0500
TZOFFSETTO:-0400
TZNAME:EDT
DTSTART:20260308T070000
END:DAYLIGHT
BEGIN:STANDARD
TZOFFSETFROM:-0400
TZOFFSETTO:-0500
TZNAME:EST
DTSTART:20261101T060000
END:STANDARD
BEGIN:DAYLIGHT
TZOFFSETFROM:-0500
TZOFFSETTO:-0400
TZNAME:EDT
DTSTART:20270314T070000
END:DAYLIGHT
BEGIN:STANDARD
TZOFFSETFROM:-0400
TZOFFSETTO:-0500
TZNAME:EST
DTSTART:20271107T060000
END:STANDARD
END:VTIMEZONE
BEGIN:VEVENT
DTSTART;TZID=America/New_York:20260212T180000
DTEND;TZID=America/New_York:20260214T120000
DTSTAMP:20260423T125929
CREATED:20260119T141220Z
LAST-MODIFIED:20260119T141220Z
UID:19900-1770919200-1771070400@gasocietysar.org
SUMMARY:National - (VA) - Crossing of the Dan - South Boston\,
DESCRIPTION:Thursday\, 12 February 2026 – South Boston/Halifax Museum – Revolutionary War Taverns program by Paul Smith.  Starts at 6:00 PM \nFriday\, 13 February 2026 – Town of Halifax\, VA Banister Encampment – 1:00 PM to 4:00 PM  \nFriday 13 February 2026 – VA250 presentation by Kevin Hampton – Beth Car Church – 5:30 PM – VASSAR Color Guard Musket Salute after program. \nSaturday\, 14 February 2026 – Main SAR commemoration event at the Prizery – Program starts at 10:00 AM – Speaker will be Salina Baker\, Author of “The Line of Splendor\, A Novel of Nathanael Greene and the American Revolution”. \nAll events are free to the public. \nRegistration and more details can be found at: crossingofthedan.com \n 
URL:https://gasocietysar.org/event/national-va-crossing-of-the-dan-south-boston/
LOCATION:The Prizery\, 700 Bruce Street\, South Boston\, VA\, 24592\, United States
CATEGORIES:National Events
END:VEVENT
BEGIN:VEVENT
DTSTART;TZID=America/New_York:20260213T100000
DTEND;TZID=America/New_York:20260213T150000
DTSTAMP:20260423T125929
CREATED:20250606T190424Z
LAST-MODIFIED:20260313T221651Z
UID:18111-1770976800-1770994800@gasocietysar.org
SUMMARY:Heroes of the Hornets Nest Commemoration
DESCRIPTION:Elijah Clark State Park – 2959 McCormick Highway\, Lincolnton\, GA 30817 \n10:00 AM – Kick off at the restored cabin and Elijah Clark Museum with a variety of demonstrations on colonial lifestyle\, colonial attire\, a Traveling Trunk display\, and cannon and musket demonstrations. Fourth grade classes from Lincoln County Elementary School will rotate through each station. \n12:00 P.M. –  A free indoor chili cookout and dessert buffet at noon will be served compliments of the Elijah Clark State Park\, Lincoln County Historical Society\, Chapters of Georgia Society SAR and the Elijah Clarke Chapter NSDAR.  After lunch\, the featured program will be a Sons of the American Revolution Grave Marking Ceremony for Col. John Dooly of the Wilkes County GA Militia.  We will dedicate the new Dooly cenotaph beside the grave of Elijah and Hannah Clarke. \n1:00 PM – Please arrive for the Grave Marking Ceremony Wreath Presentation Check-in. \n1:30 P.M. – Col John Dooly grave marking ceremony beside Elijah Clarke’s grave. Regional color guard and militia units will combine to bring pomp and circumstance to the occasion. \n********************************* \nPatriot Information \nPatriot Name: Col. John Dooly \nPatriot ID: P-149226 \nCeremony Date: 13 Feb 2026 \nSAR Cemetery #: C-0112976 \n********************************** \nPark entry fees will be waived for attendees. www.GaStateParks.org/ElijahClark \n****************************** \nRevolutionary Days Heroes of the Hornets’ Nest Ceremony  \nElijah Clark State Park\nLincolnton\, GA\nFriday\, February 13\, 2026 \n1:30 pm \nWreath Registration \nName of Wreath Presenter________________________________\nOrganization: SAR DAR CAR (Please circle) Other___________________\nPosition: _____________________________________________\nPresenter’s e-mail address ________________________________ \nSend registration form by February 7\, 2026\, at 6 p.m. to\nBill Tankersley\, email: wjtank@comcast.net\nLittle River Chapter\, GASSAR\n706-825-5810\nOr by regular mail to:\nBill Tankersley\n2645 Louisville Rd
URL:https://gasocietysar.org/event/heroes-of-the-hornets-nest-save-the-date-2/
LOCATION:Elijah Clark State Park\, 2959 McCormick Highway\, Lincolnton\, GA\, 30817\, United States
CATEGORIES:GA Society Chapter Events,GA Society Events,GASSAR Color Guard,Historic Sites & Celebrations
END:VEVENT
BEGIN:VEVENT
DTSTART;TZID=America/New_York:20260213T170000
DTEND;TZID=America/New_York:20260213T200000
DTSTAMP:20260423T125929
CREATED:20251219T193825Z
LAST-MODIFIED:20251219T193927Z
UID:19820-1771002000-1771012800@gasocietysar.org
SUMMARY:Kettle Creek Battlefield Association\, Inc. Dinner
DESCRIPTION:The Kettle Creek Battlefield Association\, Inc. (KCBA)\, Georgia Society SAR and Kettle Creek NSDAR will host a dinner and Revolutionary War program in honor of the Kettle Creek Patriots. Reservations are required and are to be made directly with KCBA. \n5:00 P.M. – Reception & Cash Bar \n6:00 P.M. – Dinner \nPlease see the Friday Dinner Invitation.  The event is at the Edward Pope Conference Center 488 Lexington Avenue\, Washington\, GA 30673.  Dinner Reservation due by January 31\, 2026 – KCBA\, PO Box 729\, Washington\, GA  30673 – $45.00 per individual \n  \nKCBA’s website is – www.kettlecreekbattlefield.com   (Do not use the .org site)
URL:https://gasocietysar.org/event/kettle-creek-battlefield-association-inc-dinner/
LOCATION:Edward Pope Conference Center\, 488 Lexington Ave\, Washington\, GA\, 30673\, United States
END:VEVENT
END:VCALENDAR