BEGIN:VCALENDAR
VERSION:2.0
PRODID:-//Georgia Society, Sons of the American Revolution - ECPv6.15.20//NONSGML v1.0//EN
CALSCALE:GREGORIAN
METHOD:PUBLISH
X-WR-CALNAME:Georgia Society, Sons of the American Revolution
X-ORIGINAL-URL:https://gasocietysar.org
X-WR-CALDESC:Events for Georgia Society, Sons of the American Revolution
REFRESH-INTERVAL;VALUE=DURATION:PT1H
X-Robots-Tag:noindex
X-PUBLISHED-TTL:PT1H
BEGIN:VTIMEZONE
TZID:America/New_York
BEGIN:DAYLIGHT
TZOFFSETFROM:-0500
TZOFFSETTO:-0400
TZNAME:EDT
DTSTART:20250309T070000
END:DAYLIGHT
BEGIN:STANDARD
TZOFFSETFROM:-0400
TZOFFSETTO:-0500
TZNAME:EST
DTSTART:20251102T060000
END:STANDARD
BEGIN:DAYLIGHT
TZOFFSETFROM:-0500
TZOFFSETTO:-0400
TZNAME:EDT
DTSTART:20260308T070000
END:DAYLIGHT
BEGIN:STANDARD
TZOFFSETFROM:-0400
TZOFFSETTO:-0500
TZNAME:EST
DTSTART:20261101T060000
END:STANDARD
BEGIN:DAYLIGHT
TZOFFSETFROM:-0500
TZOFFSETTO:-0400
TZNAME:EDT
DTSTART:20270314T070000
END:DAYLIGHT
BEGIN:STANDARD
TZOFFSETFROM:-0400
TZOFFSETTO:-0500
TZNAME:EST
DTSTART:20271107T060000
END:STANDARD
END:VTIMEZONE
BEGIN:VEVENT
DTSTART;TZID=America/New_York:20260314T100000
DTEND;TZID=America/New_York:20260314T120000
DTSTAMP:20260423T113952
CREATED:20260118T233914Z
LAST-MODIFIED:20260118T233914Z
UID:19890-1773482400-1773489600@gasocietysar.org
SUMMARY:(FL) - First Amphibious Landing Memorial -SAVE the DATE - RIBBON CUTTING
DESCRIPTION:First Amphibious Landing Memorial – RIBBON CUTTING – Fisher Family Pier\, 222 N Pompano Beach Boulevard – 10:00 AM \nCompatriots\, \nOn behalf of the Florida Society\, it’s my pleasure to extend an invitation to SAR Compatriots across the country to join us for the dedication of our First Amphibious Assault Memorial in Pompano Beach\, Florida on March 14\, 2026. \nFor those who are not familiar with it\, on March 3\, 1776\, the Continental Maries staged their first amphibious landing at Nassau in the Bahamas.  The Florida Society has partnered with the City of Pompano Beach\, Florida to erect a monument to commemorate this significant event in the history of the United States Marine Corps. \nI have attached a “Save the Date” reminder as well as a Color Guard registration form.  The dedication ceremony will be held at 10:00am on March 14\, 2026 at the Fisher Family Pier (222 N. Pompano Beach Blvd.\, Pompano Beach\, FL).  Blocks of hotel rooms can be found at this link:  https://www.visitpompanobeach.com/sons-of-the-american-revolution/ \nWe look forward to seeing you all there! \nChris Washler\, President\, Florida Society Sons of the American Revolution\, (850) 380-1329 \nFind us at www.flssar.org or on Facebook (Florida Society\, Sons of the American Revolution) \n 
URL:https://gasocietysar.org/event/fl-first-amphibious-landing-memorial-save-the-date-ribbon-cutting/
LOCATION:Fisher Family Pier\, 222 N Pompano beach Blvd\, Pompano Beach\, FL\, 33062\, United States
END:VEVENT
BEGIN:VEVENT
DTSTART;TZID=America/New_York:20260314T110000
DTEND;TZID=America/New_York:20260314T120000
DTSTAMP:20260423T113952
CREATED:20260118T221936Z
LAST-MODIFIED:20260313T180522Z
UID:19871-1773486000-1773489600@gasocietysar.org
SUMMARY:Placement of state marker in Banks County\, GA - 11:00 AM
DESCRIPTION:On Saturday\, March 14\, 2026\, at 11 a.m. the GSSAR Color Guard will recognize the placement of a state marker stating the path the Revolutionary War took through Banks County\, GA. \nContact Larry or Evie Whitfield with questions – eviewhitfield@gmail.com \nFrom the above directions Google Maps yielded the following location \nMap Link \nhttps://maps.app.goo.gl/DrCwBFsRfJoRDwxo8 \nApproximate GPS 34.42242\, -83.44061 \n  \nDirections to location of the event: \nFrom I-85 at Commerce\, take U. S. Hwy 441 four lane North to Highway 51.  At the traffic light turn right going East approximately 2 miles. \nTurn left on Damascus Road across from Mt. Pleasant United Methodist Church. \nGo 7 miles to a 4 way stop.  Go straight approximately 500 ft.  Event is on the left. \n  \nFrom Gainesville\, go Hwy 365 to Level Grove Road exit at Cornelia.  Turn right.  At first red light\, turn right on Highway 441 South  4 lane.   \nDrive 8 miles to GA Highway 198 East.   Turn left. \nOn Hwy. 198 East\, drive 3 miles to Damascus Road. \nTurn left on Damascus Road. \nEvent is approximately 500 feet on the left.
URL:https://gasocietysar.org/event/placement-of-state-marker-in-banks-county-ga-1100-am/
LOCATION:GA
CATEGORIES:GASSAR Color Guard
END:VEVENT
END:VCALENDAR