BEGIN:VCALENDAR
VERSION:2.0
PRODID:-//Georgia Society, Sons of the American Revolution - ECPv6.15.20//NONSGML v1.0//EN
CALSCALE:GREGORIAN
METHOD:PUBLISH
X-WR-CALNAME:Georgia Society, Sons of the American Revolution
X-ORIGINAL-URL:https://gasocietysar.org
X-WR-CALDESC:Events for Georgia Society, Sons of the American Revolution
REFRESH-INTERVAL;VALUE=DURATION:PT1H
X-Robots-Tag:noindex
X-PUBLISHED-TTL:PT1H
BEGIN:VTIMEZONE
TZID:America/New_York
BEGIN:DAYLIGHT
TZOFFSETFROM:-0500
TZOFFSETTO:-0400
TZNAME:EDT
DTSTART:20250309T070000
END:DAYLIGHT
BEGIN:STANDARD
TZOFFSETFROM:-0400
TZOFFSETTO:-0500
TZNAME:EST
DTSTART:20251102T060000
END:STANDARD
BEGIN:DAYLIGHT
TZOFFSETFROM:-0500
TZOFFSETTO:-0400
TZNAME:EDT
DTSTART:20260308T070000
END:DAYLIGHT
BEGIN:STANDARD
TZOFFSETFROM:-0400
TZOFFSETTO:-0500
TZNAME:EST
DTSTART:20261101T060000
END:STANDARD
BEGIN:DAYLIGHT
TZOFFSETFROM:-0500
TZOFFSETTO:-0400
TZNAME:EDT
DTSTART:20270314T070000
END:DAYLIGHT
BEGIN:STANDARD
TZOFFSETFROM:-0400
TZOFFSETTO:-0500
TZNAME:EST
DTSTART:20271107T060000
END:STANDARD
END:VTIMEZONE
BEGIN:VEVENT
DTSTART;TZID=America/New_York:20260412T133000
DTEND;TZID=America/New_York:20260412T143000
DTSTAMP:20260423T101724
CREATED:20260119T010004Z
LAST-MODIFIED:20260119T010045Z
UID:19898-1776000600-1776004200@gasocietysar.org
SUMMARY:National - (NC) - Halifax Resolves
DESCRIPTION:COMMEMORATION OF THE 250th ANNIVERSARY OF THEADOPTION OF THE HALIFAX RESOLVES \nDate/Time: \nApril 12\, 2026 / 1:30 PM – 2:30 PM \nOrganized by:Halifax Resolves Chapter \nLocation: Halifax State Historic Site \n70 Market St\, Halifax\, NC\, United States \nSee North Carolina Society SAR website for details. \nHALIFAX RESOLVES DAY
URL:https://gasocietysar.org/event/national-nc-halifax-resolves/
LOCATION:GA
CATEGORIES:National Events
END:VEVENT
END:VCALENDAR