BEGIN:VCALENDAR
VERSION:2.0
PRODID:-//Georgia Society, Sons of the American Revolution - ECPv6.15.20//NONSGML v1.0//EN
CALSCALE:GREGORIAN
METHOD:PUBLISH
X-WR-CALNAME:Georgia Society, Sons of the American Revolution
X-ORIGINAL-URL:https://gasocietysar.org
X-WR-CALDESC:Events for Georgia Society, Sons of the American Revolution
REFRESH-INTERVAL;VALUE=DURATION:PT1H
X-Robots-Tag:noindex
X-PUBLISHED-TTL:PT1H
BEGIN:VTIMEZONE
TZID:America/New_York
BEGIN:DAYLIGHT
TZOFFSETFROM:-0500
TZOFFSETTO:-0400
TZNAME:EDT
DTSTART:20250309T070000
END:DAYLIGHT
BEGIN:STANDARD
TZOFFSETFROM:-0400
TZOFFSETTO:-0500
TZNAME:EST
DTSTART:20251102T060000
END:STANDARD
BEGIN:DAYLIGHT
TZOFFSETFROM:-0500
TZOFFSETTO:-0400
TZNAME:EDT
DTSTART:20260308T070000
END:DAYLIGHT
BEGIN:STANDARD
TZOFFSETFROM:-0400
TZOFFSETTO:-0500
TZNAME:EST
DTSTART:20261101T060000
END:STANDARD
BEGIN:DAYLIGHT
TZOFFSETFROM:-0500
TZOFFSETTO:-0400
TZNAME:EDT
DTSTART:20270314T070000
END:DAYLIGHT
BEGIN:STANDARD
TZOFFSETFROM:-0400
TZOFFSETTO:-0500
TZNAME:EST
DTSTART:20271107T060000
END:STANDARD
END:VTIMEZONE
BEGIN:VEVENT
DTSTART;TZID=America/New_York:20260509T100000
DTEND;TZID=America/New_York:20260509T110000
DTSTAMP:20260423T114005
CREATED:20260225T143607Z
LAST-MODIFIED:20260225T143628Z
UID:20741-1778320800-1778324400@gasocietysar.org
SUMMARY:Liberty Tree Dedication - Columbus\, GA - 10:00
DESCRIPTION:Location: National Infantry Museum\, 1775 Legacy Way\, Columbus\, GA 31903 (https://nationalinfantrymuseum.org)\nDate and Time: May 9\, 2026\, 10:00 a.m. \nColor Guard and Musket firing requested \nDescription:\nDedicate a Liberty Tree at the National Infantry Museum\, Fort Benning\, GA. The Commanding General and Garrison Commander of Fort Benning as well as the Mayor of Columbus are invited to attend. There will be local news media coverage. We plan an elaborate celebration. After the ceremony the museum is offering special tours for those attending – the Revolutionary War Gallery is a must see\, along with the monument to the Revolutionary War soldier. \nContact: coweta Falls Chapter Georgia Society SAR\, Roger W Buterbaugh\, rogerwayne@hotmail.com
URL:https://gasocietysar.org/event/liberty-tree-dedication-columbus-ga-1000/
LOCATION:National Infantry Museum\, 1775 Legacy Way\, Columbus\, GA\, 31903\, United States
CATEGORIES:GASSAR Color Guard
END:VEVENT
END:VCALENDAR