BEGIN:VCALENDAR
VERSION:2.0
PRODID:-//Georgia Society, Sons of the American Revolution - ECPv6.15.20//NONSGML v1.0//EN
CALSCALE:GREGORIAN
METHOD:PUBLISH
X-WR-CALNAME:Georgia Society, Sons of the American Revolution
X-ORIGINAL-URL:https://gasocietysar.org
X-WR-CALDESC:Events for Georgia Society, Sons of the American Revolution
REFRESH-INTERVAL;VALUE=DURATION:PT1H
X-Robots-Tag:noindex
X-PUBLISHED-TTL:PT1H
BEGIN:VTIMEZONE
TZID:America/New_York
BEGIN:DAYLIGHT
TZOFFSETFROM:-0500
TZOFFSETTO:-0400
TZNAME:EDT
DTSTART:20250309T070000
END:DAYLIGHT
BEGIN:STANDARD
TZOFFSETFROM:-0400
TZOFFSETTO:-0500
TZNAME:EST
DTSTART:20251102T060000
END:STANDARD
BEGIN:DAYLIGHT
TZOFFSETFROM:-0500
TZOFFSETTO:-0400
TZNAME:EDT
DTSTART:20260308T070000
END:DAYLIGHT
BEGIN:STANDARD
TZOFFSETFROM:-0400
TZOFFSETTO:-0500
TZNAME:EST
DTSTART:20261101T060000
END:STANDARD
BEGIN:DAYLIGHT
TZOFFSETFROM:-0500
TZOFFSETTO:-0400
TZNAME:EDT
DTSTART:20270314T070000
END:DAYLIGHT
BEGIN:STANDARD
TZOFFSETFROM:-0400
TZOFFSETTO:-0500
TZNAME:EST
DTSTART:20271107T060000
END:STANDARD
END:VTIMEZONE
BEGIN:VEVENT
DTSTART;TZID=America/New_York:20260523T090000
DTEND;TZID=America/New_York:20260523T230000
DTSTAMP:20260423T113952
CREATED:20260315T135022Z
LAST-MODIFIED:20260315T135022Z
UID:21454-1779526800-1779577200@gasocietysar.org
SUMMARY:Memorial Day - Georgia National Cemetery - 10:00 AM - placing of flags at 9:00 AM
DESCRIPTION:The Georgia National Cemetery has requested a color guard and musket firing for the Georgia national Cemetery Memorial Day event. \nAt 9:00 AM a few thousand volunteers place gravesite flags on the 23\,000+ gravesites of Veterans and their family members in the cemetery. \nThis is immediately followed by the ceremony (expected at 10:00 AM) \nKeynote speadker is COL (Ret) Richard White\, President of the Georgia Military Veterans’ Hall of Fame. \nBill Palmer is coordinating. \n 
URL:https://gasocietysar.org/event/memorial-day-georgia-national-cemetery-1000-am-placing-of-flags-at-900-am/
LOCATION:Georgia National Cemetery\, 1080 Scott Hudgens Dr\, Canton\, GA\, 30114\, United States
CATEGORIES:GASSAR Color Guard,National Events
END:VEVENT
BEGIN:VEVENT
DTSTART;TZID=America/New_York:20260523T110000
DTEND;TZID=America/New_York:20260523T120000
DTSTAMP:20260423T113952
CREATED:20260315T133909Z
LAST-MODIFIED:20260315T133909Z
UID:21448-1779534000-1779537600@gasocietysar.org
SUMMARY:Grave Marking - Patrito Thomas A Hinesley
DESCRIPTION:Casimir Pulaski Chapter Georgia Society SAR invites you to a Grave Marker Dedciation Ceremony for Patriot Thomas A Hinesley (P-182083) \nDate: 23 May 2026 \nTime: 11:00 AM \nLocation: Carroll County Veterans Memorial Park – 1050 Newman Road  – Carrollton\, Georgia 30116 \nContact Jim Swinson for more details – jgswinson@yahoo.com – 770-658-4976
URL:https://gasocietysar.org/event/grave-marking-patrito-thomas-a-hinesley/
LOCATION:Carroll County Veterans Memorial Park\, 1050 newman Road\, Carrollton\, GA\, 30116\, United States
CATEGORIES:GASSAR Color Guard,Grave Dedication
END:VEVENT
BEGIN:VEVENT
DTSTART;TZID=America/New_York:20260523T110000
DTEND;TZID=America/New_York:20260523T170000
DTSTAMP:20260423T113952
CREATED:20260315T134329Z
LAST-MODIFIED:20260315T134329Z
UID:21452-1779534000-1779555600@gasocietysar.org
SUMMARY:(IN) - National - George Rogers Clark Commemoration
DESCRIPTION:Location: George Rogers Clark Memorial – 401 S 2nd St – Vincennes\, IN   47591 \nTime: 11:00 AM
URL:https://gasocietysar.org/event/in-national-george-rogers-clark-commemoration/
LOCATION:GA
CATEGORIES:National Events
END:VEVENT
END:VCALENDAR