BEGIN:VCALENDAR
VERSION:2.0
PRODID:-//Georgia Society, Sons of the American Revolution - ECPv6.15.20//NONSGML v1.0//EN
CALSCALE:GREGORIAN
METHOD:PUBLISH
X-WR-CALNAME:Georgia Society, Sons of the American Revolution
X-ORIGINAL-URL:https://gasocietysar.org
X-WR-CALDESC:Events for Georgia Society, Sons of the American Revolution
REFRESH-INTERVAL;VALUE=DURATION:PT1H
X-Robots-Tag:noindex
X-PUBLISHED-TTL:PT1H
BEGIN:VTIMEZONE
TZID:America/New_York
BEGIN:DAYLIGHT
TZOFFSETFROM:-0500
TZOFFSETTO:-0400
TZNAME:EDT
DTSTART:20250309T070000
END:DAYLIGHT
BEGIN:STANDARD
TZOFFSETFROM:-0400
TZOFFSETTO:-0500
TZNAME:EST
DTSTART:20251102T060000
END:STANDARD
BEGIN:DAYLIGHT
TZOFFSETFROM:-0500
TZOFFSETTO:-0400
TZNAME:EDT
DTSTART:20260308T070000
END:DAYLIGHT
BEGIN:STANDARD
TZOFFSETFROM:-0400
TZOFFSETTO:-0500
TZNAME:EST
DTSTART:20261101T060000
END:STANDARD
BEGIN:DAYLIGHT
TZOFFSETFROM:-0500
TZOFFSETTO:-0400
TZNAME:EDT
DTSTART:20270314T070000
END:DAYLIGHT
BEGIN:STANDARD
TZOFFSETFROM:-0400
TZOFFSETTO:-0500
TZNAME:EST
DTSTART:20271107T060000
END:STANDARD
END:VTIMEZONE
BEGIN:VEVENT
DTSTART;TZID=America/New_York:20260315T140000
DTEND;TZID=America/New_York:20260315T150000
DTSTAMP:20260423T113849
CREATED:20260204T141857Z
LAST-MODIFIED:20260313T181137Z
UID:19982-1773583200-1773586800@gasocietysar.org
SUMMARY:Liberty Tree Dedciation - Big Canoe - 2:00 PM
DESCRIPTION:Liberty Tree Dedciation sponsored by the Sequoyah Chapter NSDAR along with the Robert Forsyth Chapter Georgia Society SAR. \nTime: 2:00 PM \nLocation : 226 Wolf Scratch Village Circle – Big Canoe\, Jasper\, GA 30143 (location for parking) \nThere will be maps at the gate along with the directions to the specific location. \nMore details forthcoming.
URL:https://gasocietysar.org/event/liberty-tree-dedciation-big-canoe-200-pm/
LOCATION:GA
CATEGORIES:DAR Events,GASSAR Color Guard
END:VEVENT
BEGIN:VEVENT
DTSTART;TZID=America/New_York:20260320T170000
DTEND;TZID=America/New_York:20260320T200000
DTSTAMP:20260423T113849
CREATED:20251219T204857Z
LAST-MODIFIED:20251219T204915Z
UID:19842-1774026000-1774036800@gasocietysar.org
SUMMARY:NSDAR State Meeting - Color Guard for evening banquet
DESCRIPTION:2026 DAR State Conference\n \nFriday\, March 21st evening banquet\nSaturday\, March 22nd evening banquet\n \nEvergreen Lakeside Resort inside Stone Mountain Park\n \nThey are requesting SAR Color Guard for both nights. 
URL:https://gasocietysar.org/event/nsdar-state-meeting-color-guard-for-evening-banquet/
LOCATION:Evergreen Lakeside Resort\, 4021 Lakeview Drive\, Stone Mountain\, GA\, 30083\, United States
CATEGORIES:DAR Events,GASSAR Color Guard
END:VEVENT
BEGIN:VEVENT
DTSTART;TZID=America/New_York:20260321T170000
DTEND;TZID=America/New_York:20260321T200000
DTSTAMP:20260423T113849
CREATED:20251219T205103Z
LAST-MODIFIED:20251219T205135Z
UID:19846-1774112400-1774123200@gasocietysar.org
SUMMARY:NSDAR State Meeting - Color Guard for evening banquet
DESCRIPTION:2026 DAR State Conference\n \nFriday\, March 21st evening banquet\nSaturday\, March 22nd evening banquet\n \nEvergreen Lakeside Resort inside Stone Mountain Park\n \n\nThey are requesting SAR Color Guard for both nights. 
URL:https://gasocietysar.org/event/nsdar-state-meeting-color-guard-for-evening-banquet-2/
LOCATION:Evergreen Lakeside Resort\, 4021 Lakeview Drive\, Stone Mountain\, GA\, 30083\, United States
CATEGORIES:DAR Events,GASSAR Color Guard
END:VEVENT
BEGIN:VEVENT
DTSTART;TZID=America/New_York:20260328T130000
DTEND;TZID=America/New_York:20260328T170000
DTSTAMP:20260423T113849
CREATED:20260321T142520Z
LAST-MODIFIED:20260321T142520Z
UID:21478-1774702800-1774717200@gasocietysar.org
SUMMARY:NSDAR 250th marker Dedication - Watkinsville\, GA - 1:00 PM
DESCRIPTION:The Apalachee Chapter NSDAR is hosting an America 250th Marker dedication \nDate: Saturday 28 March 2026\nTime: 1:00 PM \nLocation: Mars Hill Baptist Church\, 2661 Mars Hill Road\, Watkinsville\, GA 30677\n \nA Color Guard Has been requested with musket firing.\n \nState Regent Helen Powell has planned to be in attendance along with local county officials.\n\n\nI cannot attend on that date and am requesting any one that can attend on behalf of the color guard to let me know as soon as possible.
URL:https://gasocietysar.org/event/nsdar-250th-marker-dedication-watkinsville-ga-100-pm/
LOCATION:Mars Hill Baptist Church\, 2661 Mars Hill Road\, Watkinsville\, GA\, 30677\, United States
CATEGORIES:DAR Events,GASSAR Color Guard
END:VEVENT
BEGIN:VEVENT
DTSTART;TZID=America/New_York:20260329T140000
DTEND;TZID=America/New_York:20260329T153000
DTSTAMP:20260423T113849
CREATED:20260118T212758Z
LAST-MODIFIED:20260118T225518Z
UID:19867-1774792800-1774798200@gasocietysar.org
SUMMARY:Patriot Grave Marking - Baker and Clark - Gainesville - 2:00 PM
DESCRIPTION:Colonel William Candler Chapter\, NSDAR and Lyman Hall Chapter\, Georgia Society SAR \nPatriot Grave Marking Ceremony Honoring Revolutionary War Patriots Pvt BEAL BAKER – NC (P-107021) and Pvt WILLIAM H. CLARK – NC (P-134218) and DAR Marker for wife of Revolutionary War Patriot\, William H. Clark\, RUTH GOODWIN CLARK – NC \nSunday\, March 29\, 2026 @ 2:00 p.m. \nAlta Vista Cemetery\, 521 Jones Street\, Gainesville\, GA 30501 – Grave Location: 34.28877 -83.83592 \nPlease R.S.V.P. by March 25\, 2026 if you plan to lay a wreath. \nEmail: sidhughes@icloud.com \nMail: Sid Hughes\, 4118 Brands Court\, Braselton\, GA 30517-1537 \nTo assure listing in the Ceremony Program please provide: Organization\, Name of Presenter\, Office or Title of Presenter\, Email Address\, and Phone.
URL:https://gasocietysar.org/event/patriot-grave-marking-baker-and-clark-gainesville-200-pm/
LOCATION:Alta Vista Cemetery\, 521 Jones Street\, Gainesville\, GA\, 30501\, United States
CATEGORIES:DAR Events,GASSAR Color Guard,Grave Dedication
END:VEVENT
END:VCALENDAR