BEGIN:VCALENDAR
VERSION:2.0
PRODID:-//Georgia Society, Sons of the American Revolution - ECPv6.15.20//NONSGML v1.0//EN
CALSCALE:GREGORIAN
METHOD:PUBLISH
X-WR-CALNAME:Georgia Society, Sons of the American Revolution
X-ORIGINAL-URL:https://gasocietysar.org
X-WR-CALDESC:Events for Georgia Society, Sons of the American Revolution
REFRESH-INTERVAL;VALUE=DURATION:PT1H
X-Robots-Tag:noindex
X-PUBLISHED-TTL:PT1H
BEGIN:VTIMEZONE
TZID:America/New_York
BEGIN:DAYLIGHT
TZOFFSETFROM:-0500
TZOFFSETTO:-0400
TZNAME:EDT
DTSTART:20220313T070000
END:DAYLIGHT
BEGIN:STANDARD
TZOFFSETFROM:-0400
TZOFFSETTO:-0500
TZNAME:EST
DTSTART:20221106T060000
END:STANDARD
BEGIN:DAYLIGHT
TZOFFSETFROM:-0500
TZOFFSETTO:-0400
TZNAME:EDT
DTSTART:20230312T070000
END:DAYLIGHT
BEGIN:STANDARD
TZOFFSETFROM:-0400
TZOFFSETTO:-0500
TZNAME:EST
DTSTART:20231105T060000
END:STANDARD
BEGIN:DAYLIGHT
TZOFFSETFROM:-0500
TZOFFSETTO:-0400
TZNAME:EDT
DTSTART:20240310T070000
END:DAYLIGHT
BEGIN:STANDARD
TZOFFSETFROM:-0400
TZOFFSETTO:-0500
TZNAME:EST
DTSTART:20241103T060000
END:STANDARD
END:VTIMEZONE
BEGIN:VEVENT
DTSTART;TZID=America/New_York:20230923T080000
DTEND;TZID=America/New_York:20231001T170000
DTSTAMP:20260425T163054
CREATED:20230104T182917Z
LAST-MODIFIED:20230104T182917Z
UID:6763-1695456000-1696179600@gasocietysar.org
SUMMARY:Georgia State NSDAR Fall Forum
DESCRIPTION:Georgia State NSDAR – Fall Forum \nThe Georgia State NSDAR Fall forum is September 23\, 2023 to October 1\, 2023. \nThe Celebration of the Constitution Dinner will be on Saturday\, September 30\, 2023.  The Color Guard will be needed to present and retire colors at the dinner
URL:https://gasocietysar.org/event/georgia-state-nsdar-fall-forum/
LOCATION:GA
CATEGORIES:DAR Events
END:VEVENT
END:VCALENDAR