BEGIN:VCALENDAR
VERSION:2.0
PRODID:-//Georgia Society, Sons of the American Revolution - ECPv6.15.20//NONSGML v1.0//EN
CALSCALE:GREGORIAN
METHOD:PUBLISH
X-ORIGINAL-URL:https://gasocietysar.org
X-WR-CALDESC:Events for Georgia Society, Sons of the American Revolution
REFRESH-INTERVAL;VALUE=DURATION:PT1H
X-Robots-Tag:noindex
X-PUBLISHED-TTL:PT1H
BEGIN:VTIMEZONE
TZID:America/New_York
BEGIN:DAYLIGHT
TZOFFSETFROM:-0500
TZOFFSETTO:-0400
TZNAME:EDT
DTSTART:20220313T070000
END:DAYLIGHT
BEGIN:STANDARD
TZOFFSETFROM:-0400
TZOFFSETTO:-0500
TZNAME:EST
DTSTART:20221106T060000
END:STANDARD
BEGIN:DAYLIGHT
TZOFFSETFROM:-0500
TZOFFSETTO:-0400
TZNAME:EDT
DTSTART:20230312T070000
END:DAYLIGHT
BEGIN:STANDARD
TZOFFSETFROM:-0400
TZOFFSETTO:-0500
TZNAME:EST
DTSTART:20231105T060000
END:STANDARD
BEGIN:DAYLIGHT
TZOFFSETFROM:-0500
TZOFFSETTO:-0400
TZNAME:EDT
DTSTART:20240310T070000
END:DAYLIGHT
BEGIN:STANDARD
TZOFFSETFROM:-0400
TZOFFSETTO:-0500
TZNAME:EST
DTSTART:20241103T060000
END:STANDARD
END:VTIMEZONE
BEGIN:VEVENT
DTSTART;TZID=America/New_York:20231025T110000
DTEND;TZID=America/New_York:20231025T120000
DTSTAMP:20260425T150847
CREATED:20230907T000742Z
LAST-MODIFIED:20230915T125755Z
UID:7115-1698231600-1698235200@gasocietysar.org
SUMMARY:Liberty Tree Planting
DESCRIPTION:The Blue Ridge Mountain Chapter\, SAR jointly with the Capt. James Kell Chapter NSDAR invites you to a Liberty Tree Plantings on October 25th  at Toccoa River Park\, Veteran Memorial\, McCaysville\, GA at 11am. \nThis is part of our Chapters continuing 250th Anniversary effort\,   As you know\, we planted two Liberty Trees/Dedications in March 2023\, one each in Union and Towns Counties\, GA.  These were jointly hosted with the Old Unicoi Trail Chapter NSDAR. \nFor further information contact Stephen Weaver\, President\, Blue Ridge Mountains Chapter at \nspweaver @ mindspring .com \nor cell 828 360-2476
URL:https://gasocietysar.org/event/liberty-tree-planting/
LOCATION:Toccoa River Park – Veterans Memorial\, Market Street\, MaCaysville\, Georgia\, 30513\, United States
CATEGORIES:DAR Events,GA Society Chapter Events
END:VEVENT
END:VCALENDAR