BEGIN:VCALENDAR
VERSION:2.0
PRODID:-//Georgia Society, Sons of the American Revolution - ECPv6.15.20//NONSGML v1.0//EN
CALSCALE:GREGORIAN
METHOD:PUBLISH
X-ORIGINAL-URL:https://gasocietysar.org
X-WR-CALDESC:Events for Georgia Society, Sons of the American Revolution
REFRESH-INTERVAL;VALUE=DURATION:PT1H
X-Robots-Tag:noindex
X-PUBLISHED-TTL:PT1H
BEGIN:VTIMEZONE
TZID:America/New_York
BEGIN:DAYLIGHT
TZOFFSETFROM:-0500
TZOFFSETTO:-0400
TZNAME:EDT
DTSTART:20220313T070000
END:DAYLIGHT
BEGIN:STANDARD
TZOFFSETFROM:-0400
TZOFFSETTO:-0500
TZNAME:EST
DTSTART:20221106T060000
END:STANDARD
BEGIN:DAYLIGHT
TZOFFSETFROM:-0500
TZOFFSETTO:-0400
TZNAME:EDT
DTSTART:20230312T070000
END:DAYLIGHT
BEGIN:STANDARD
TZOFFSETFROM:-0400
TZOFFSETTO:-0500
TZNAME:EST
DTSTART:20231105T060000
END:STANDARD
BEGIN:DAYLIGHT
TZOFFSETFROM:-0500
TZOFFSETTO:-0400
TZNAME:EDT
DTSTART:20240310T070000
END:DAYLIGHT
BEGIN:STANDARD
TZOFFSETFROM:-0400
TZOFFSETTO:-0500
TZNAME:EST
DTSTART:20241103T060000
END:STANDARD
END:VTIMEZONE
BEGIN:VEVENT
DTSTART;TZID=America/New_York:20231118T130000
DTEND;TZID=America/New_York:20231118T140000
DTSTAMP:20260425T132843
CREATED:20231110T222051Z
LAST-MODIFIED:20231110T222051Z
UID:7322-1700312400-1700316000@gasocietysar.org
SUMMARY:NSDAR marking - William Wheeler
DESCRIPTION:The Apalachee chapter of the Georgia State Society NSDAR invites you to join them for the Dedication of the DAR Marker honoring Revolutionary War Patriot William Wheeler \nSaturday\, November 18\, 2023 at 1:00 PM \nWheeler Cemetery on 3 Canal Bridges Road\, Eastonolle\, GA in Franklin County. \n  \nThe SAR has been invited to support the event with a color guard. \nThe SAR is not sponsoring nor co-sponsoring the event and it will NOT qualify for the Patriot Grave Marker Medal application. \nThis event conflicts with the Fort Morris Come and Take It event which is a National Society SAR event in Midway\, Georgia. \nIf you are able to attend please as part of the color guard please contact Larry Whitfield at 706-499-9437 or by email at eviewhitfield ‘at’ gmail “dot” com
URL:https://gasocietysar.org/event/nsdar-marking-william-wheeler/
LOCATION:GA
CATEGORIES:DAR Events
END:VEVENT
END:VCALENDAR