BEGIN:VCALENDAR
VERSION:2.0
PRODID:-//Georgia Society, Sons of the American Revolution - ECPv6.15.20//NONSGML v1.0//EN
CALSCALE:GREGORIAN
METHOD:PUBLISH
X-ORIGINAL-URL:https://gasocietysar.org
X-WR-CALDESC:Events for Georgia Society, Sons of the American Revolution
REFRESH-INTERVAL;VALUE=DURATION:PT1H
X-Robots-Tag:noindex
X-PUBLISHED-TTL:PT1H
BEGIN:VTIMEZONE
TZID:America/New_York
BEGIN:DAYLIGHT
TZOFFSETFROM:-0500
TZOFFSETTO:-0400
TZNAME:EDT
DTSTART:20220313T070000
END:DAYLIGHT
BEGIN:STANDARD
TZOFFSETFROM:-0400
TZOFFSETTO:-0500
TZNAME:EST
DTSTART:20221106T060000
END:STANDARD
BEGIN:DAYLIGHT
TZOFFSETFROM:-0500
TZOFFSETTO:-0400
TZNAME:EDT
DTSTART:20230312T070000
END:DAYLIGHT
BEGIN:STANDARD
TZOFFSETFROM:-0400
TZOFFSETTO:-0500
TZNAME:EST
DTSTART:20231105T060000
END:STANDARD
BEGIN:DAYLIGHT
TZOFFSETFROM:-0500
TZOFFSETTO:-0400
TZNAME:EDT
DTSTART:20240310T070000
END:DAYLIGHT
BEGIN:STANDARD
TZOFFSETFROM:-0400
TZOFFSETTO:-0500
TZNAME:EST
DTSTART:20241103T060000
END:STANDARD
END:VTIMEZONE
BEGIN:VEVENT
DTSTART;TZID=America/New_York:20231211T120000
DTEND;TZID=America/New_York:20231211T133000
DTSTAMP:20260425T120558
CREATED:20230104T145145Z
LAST-MODIFIED:20230104T145247Z
UID:6755-1702296000-1702301400@gasocietysar.org
SUMMARY:Wreath Across America at State Capitol - NOON
DESCRIPTION:12-11-2023 – MONDAY – Honor Guard at State Capitol for NSDAR Wreaths Across America – NOON \n  \nThe State of Georgia will have a ceremony at Noon for the opening of Wreaths Across America Week in conjunction with the Georgia State Society National Society Daughters of the American Revolution. \nThe Georgia Society SAR Color Guard has been asked to provide an Honor Guard for the Presentation of Colors.  We can have as many flag bearers as we can muster. \n  \nPLEASE NOTE that since this event is at the state capitol NO muskets\, rifle\, or edged weapons will be allowed.
URL:https://gasocietysar.org/event/wreath-across-america-at-state-capitol-noon/
LOCATION:GA
CATEGORIES:DAR Events,GASSAR Color Guard
END:VEVENT
END:VCALENDAR