BEGIN:VCALENDAR
VERSION:2.0
PRODID:-//Georgia Society, Sons of the American Revolution - ECPv6.15.20//NONSGML v1.0//EN
CALSCALE:GREGORIAN
METHOD:PUBLISH
X-ORIGINAL-URL:https://gasocietysar.org
X-WR-CALDESC:Events for Georgia Society, Sons of the American Revolution
REFRESH-INTERVAL;VALUE=DURATION:PT1H
X-Robots-Tag:noindex
X-PUBLISHED-TTL:PT1H
BEGIN:VTIMEZONE
TZID:America/New_York
BEGIN:DAYLIGHT
TZOFFSETFROM:-0500
TZOFFSETTO:-0400
TZNAME:EDT
DTSTART:20220313T070000
END:DAYLIGHT
BEGIN:STANDARD
TZOFFSETFROM:-0400
TZOFFSETTO:-0500
TZNAME:EST
DTSTART:20221106T060000
END:STANDARD
BEGIN:DAYLIGHT
TZOFFSETFROM:-0500
TZOFFSETTO:-0400
TZNAME:EDT
DTSTART:20230312T070000
END:DAYLIGHT
BEGIN:STANDARD
TZOFFSETFROM:-0400
TZOFFSETTO:-0500
TZNAME:EST
DTSTART:20231105T060000
END:STANDARD
BEGIN:DAYLIGHT
TZOFFSETFROM:-0500
TZOFFSETTO:-0400
TZNAME:EDT
DTSTART:20240310T070000
END:DAYLIGHT
BEGIN:STANDARD
TZOFFSETFROM:-0400
TZOFFSETTO:-0500
TZNAME:EST
DTSTART:20241103T060000
END:STANDARD
END:VTIMEZONE
BEGIN:VEVENT
DTSTART;TZID=America/New_York:20231216T080000
DTEND;TZID=America/New_York:20231216T170000
DTSTAMP:20260425T120559
CREATED:20230104T145629Z
LAST-MODIFIED:20230104T145629Z
UID:6758-1702713600-1702746000@gasocietysar.org
SUMMARY:Wreaths Across America
DESCRIPTION:12-16-2023 – Wreaths Across America events \nThere will be many Wreaths Across America Events on this weekend and at various times.  Please try to support any of these events you can attend.  Wreaths Across America is considered a National SAR Color guard event. \n  \nThe Georgia Society SAR Color Guard will be participating at NOON \nEast Shadowlawn Memorial Gardens. Highway 124\, 87 Scenic Highway S\, Lawrenceville\, Georgia
URL:https://gasocietysar.org/event/wreaths-across-america/
LOCATION:GA
CATEGORIES:DAR Events,GA Society Events,GASSAR Color Guard,National Events
END:VEVENT
END:VCALENDAR