BEGIN:VCALENDAR
VERSION:2.0
PRODID:-//Georgia Society, Sons of the American Revolution - ECPv6.15.20//NONSGML v1.0//EN
CALSCALE:GREGORIAN
METHOD:PUBLISH
X-ORIGINAL-URL:https://gasocietysar.org
X-WR-CALDESC:Events for Georgia Society, Sons of the American Revolution
REFRESH-INTERVAL;VALUE=DURATION:PT1H
X-Robots-Tag:noindex
X-PUBLISHED-TTL:PT1H
BEGIN:VTIMEZONE
TZID:America/New_York
BEGIN:DAYLIGHT
TZOFFSETFROM:-0500
TZOFFSETTO:-0400
TZNAME:EDT
DTSTART:20230312T070000
END:DAYLIGHT
BEGIN:STANDARD
TZOFFSETFROM:-0400
TZOFFSETTO:-0500
TZNAME:EST
DTSTART:20231105T060000
END:STANDARD
BEGIN:DAYLIGHT
TZOFFSETFROM:-0500
TZOFFSETTO:-0400
TZNAME:EDT
DTSTART:20240310T070000
END:DAYLIGHT
BEGIN:STANDARD
TZOFFSETFROM:-0400
TZOFFSETTO:-0500
TZNAME:EST
DTSTART:20241103T060000
END:STANDARD
BEGIN:DAYLIGHT
TZOFFSETFROM:-0500
TZOFFSETTO:-0400
TZNAME:EDT
DTSTART:20250309T070000
END:DAYLIGHT
BEGIN:STANDARD
TZOFFSETFROM:-0400
TZOFFSETTO:-0500
TZNAME:EST
DTSTART:20251102T060000
END:STANDARD
END:VTIMEZONE
BEGIN:VEVENT
DTSTART;TZID=America/New_York:20241119T160000
DTEND;TZID=America/New_York:20241119T170000
DTSTAMP:20260424T133158
CREATED:20241024T174726Z
LAST-MODIFIED:20241024T174726Z
UID:8141-1732032000-1732035600@gasocietysar.org
SUMMARY:DAR 250th Marker Dedication - 4:00 PM
DESCRIPTION:Compatriots from the Button Gwinnett Chapter will participate in a dedication of a Philadelphia Winn Chapter DAR America 250 marker. \nWe expect to have a minimum of 5 Color Guards for the presentation of flags and 5 Militia for a musket salute\, Mourn muskets\, and TAPS. \n  \nThis ceremony will take place on \nTuesday\, November 19\, 2024\, at 4:00 PM \nat the Lawrenceville Lawn\, 210 Luckie Street\, Lawrenceville\, GA 30046\, \n  \nand will include officials from the City of Lawrenceville. \nLynn Baxter Jacques
URL:https://gasocietysar.org/event/dar-250th-marker-dedication-400-pm/
LOCATION:GA
CATEGORIES:DAR Events,GA Society Chapter Events
END:VEVENT
END:VCALENDAR