BEGIN:VCALENDAR
VERSION:2.0
PRODID:-//Georgia Society, Sons of the American Revolution - ECPv6.15.20//NONSGML v1.0//EN
CALSCALE:GREGORIAN
METHOD:PUBLISH
X-ORIGINAL-URL:https://gasocietysar.org
X-WR-CALDESC:Events for Georgia Society, Sons of the American Revolution
REFRESH-INTERVAL;VALUE=DURATION:PT1H
X-Robots-Tag:noindex
X-PUBLISHED-TTL:PT1H
BEGIN:VTIMEZONE
TZID:America/New_York
BEGIN:DAYLIGHT
TZOFFSETFROM:-0500
TZOFFSETTO:-0400
TZNAME:EDT
DTSTART:20170312T070000
END:DAYLIGHT
BEGIN:STANDARD
TZOFFSETFROM:-0400
TZOFFSETTO:-0500
TZNAME:EST
DTSTART:20171105T060000
END:STANDARD
BEGIN:DAYLIGHT
TZOFFSETFROM:-0500
TZOFFSETTO:-0400
TZNAME:EDT
DTSTART:20180311T070000
END:DAYLIGHT
BEGIN:STANDARD
TZOFFSETFROM:-0400
TZOFFSETTO:-0500
TZNAME:EST
DTSTART:20181104T060000
END:STANDARD
BEGIN:DAYLIGHT
TZOFFSETFROM:-0500
TZOFFSETTO:-0400
TZNAME:EDT
DTSTART:20190310T070000
END:DAYLIGHT
BEGIN:STANDARD
TZOFFSETFROM:-0400
TZOFFSETTO:-0500
TZNAME:EST
DTSTART:20191103T060000
END:STANDARD
BEGIN:DAYLIGHT
TZOFFSETFROM:-0500
TZOFFSETTO:-0400
TZNAME:EDT
DTSTART:20200308T070000
END:DAYLIGHT
BEGIN:STANDARD
TZOFFSETFROM:-0400
TZOFFSETTO:-0500
TZNAME:EST
DTSTART:20201101T060000
END:STANDARD
BEGIN:DAYLIGHT
TZOFFSETFROM:-0500
TZOFFSETTO:-0400
TZNAME:EDT
DTSTART:20210314T070000
END:DAYLIGHT
BEGIN:STANDARD
TZOFFSETFROM:-0400
TZOFFSETTO:-0500
TZNAME:EST
DTSTART:20211107T060000
END:STANDARD
BEGIN:DAYLIGHT
TZOFFSETFROM:-0500
TZOFFSETTO:-0400
TZNAME:EDT
DTSTART:20220313T070000
END:DAYLIGHT
BEGIN:STANDARD
TZOFFSETFROM:-0400
TZOFFSETTO:-0500
TZNAME:EST
DTSTART:20221106T060000
END:STANDARD
BEGIN:DAYLIGHT
TZOFFSETFROM:-0500
TZOFFSETTO:-0400
TZNAME:EDT
DTSTART:20230312T070000
END:DAYLIGHT
BEGIN:STANDARD
TZOFFSETFROM:-0400
TZOFFSETTO:-0500
TZNAME:EST
DTSTART:20231105T060000
END:STANDARD
END:VTIMEZONE
BEGIN:VEVENT
DTSTART;TZID=America/New_York:20221029T180000
DTEND;TZID=America/New_York:20221029T210000
DTSTAMP:20260423T204809
CREATED:20220823T151412Z
LAST-MODIFIED:20221013T194438Z
UID:6504-1667066400-1667077200@gasocietysar.org
SUMMARY:NSDAR Fall Forum - Celebration of the Constitution Dinner
DESCRIPTION:The Georgia State Society of NSDAR will fold the DAR Fall Forum is at the \nMacon Marriott City Center \n240 Coliseum Drive \nMacon\, GA \n  \nAs part of that event the Georgia Society SAR Color Guard has been asked to participate in the Celebration of the Constitution Dinner on Saturday\, October 29\, 2022. \n  \nThe event begins at 7:00 PM – Please arrive between 6:15 PM and 6:30 PM \n  \nNeed two flag bearers and at least one musket.
URL:https://gasocietysar.org/event/nsdar-fall-forum-celebration-of-the-constitution-dinner/
LOCATION:Macon Marriott City Center\, 240 Coliseum Drive\, Macon\, GA\, 31217\, United States
CATEGORIES:DAR Events,GASSAR Color Guard
END:VEVENT
BEGIN:VEVENT
DTSTART;TZID=America/New_York:20221029T110000
DTEND;TZID=America/New_York:20221029T130000
DTSTAMP:20260423T204809
CREATED:20220808T185548Z
LAST-MODIFIED:20221009T013010Z
UID:6411-1667041200-1667048400@gasocietysar.org
SUMMARY:Patriot Samuel Higginbotham Grave Marker Dedication
DESCRIPTION:The Samuel Elbert Chapter GASSAR\, and Stephen Heard NSDAR Chapter invite the GASSAR\, NSDAR\, and family descendants to attend a Revolutionary War Grave Marker Dedication Ceremony. \nOn October 29\, 2022 at 11:00 a.m. for Patriot Samuel Higginbotham. \nInformation for the Higginbotham Ceremony.\nDirections from Downtown Elberton: (Intersection of Highway 17 aka College Avenue and\nHighway 77 aka N Oliver Street to the Higginbotham Grave) – – Go North on College Avenue /Highway 77 2.9 miles turn left on Brewers Bridge Rd. Go 9/10 miles the Cemetery will be on your left. We will have SAR signs at Brewers Bridge Rd and the cemetery. \nPlease bring your own chair. \nWreath Presenters & Descendants \nWreath Presenters – Register by October 26\, 2022 to be printed in the program. \nDescendants – RSVP your attendance to be recognized during the ceremony. \nNote: Send this information to Attention: Russell Terrell 706-491-2714 or rbterrell58@gmail.com
URL:https://gasocietysar.org/event/patriot-samuel-higginbotham-grave-marker-dedication/
CATEGORIES:DAR Events,GASSAR Color Guard,Grave Dedication
END:VEVENT
BEGIN:VEVENT
DTSTART;TZID=America/New_York:20221023T140000
DTEND;TZID=America/New_York:20221023T160000
DTSTAMP:20260423T204809
CREATED:20220816T220051Z
LAST-MODIFIED:20221018T001951Z
UID:6469-1666533600-1666540800@gasocietysar.org
SUMMARY:Grave Marking Patriot Maher Shallet Hasty Lyle - 2:00 PM
DESCRIPTION:10-23-2022 – Patriot Elijah Maher – Grave Marker Dedication \nTime is 2:00 PM \nCeremony will be held at \nChurch of God of Prophecy \n8187 Pendergrass Road \nHoschton\, GA   30548 \n  \nFor wreath regristratuion please contact Carter Woods \ncarterjwoods at yahoo dot com \n678-895-1580 \n  \nMarker will be placed in the \nLyle Cemetery \nCemetery GPS 34.05812400\, -83.71303100 \nPatriot Maher Shallet Hasty Lyle \nP-239917 \n34.05743\, -83.71287
URL:https://gasocietysar.org/event/grave-marking-patriot-maher-shallet-hasty-lyle/
CATEGORIES:DAR Events,GASSAR Color Guard,Grave Dedication
END:VEVENT
BEGIN:VEVENT
DTSTART;TZID=America/New_York:20220917T153000
DTEND;TZID=America/New_York:20220917T163000
DTSTAMP:20260423T204809
CREATED:20220905T151004Z
LAST-MODIFIED:20220905T151534Z
UID:6528-1663428600-1663432200@gasocietysar.org
SUMMARY:Constitution Day Celebration - Watkinsville\, GA - 3:45 PM
DESCRIPTION:Color Guard is requested to present Colors and to fire a three round musket volley \nTime: Saturday\, September 17\, 2022\, at 3:45pm EDT \nLocation: Ashford Memorial Methodist Church\, 1 North Main Street\, Watkinsville\, GA \n\n\n\nHosted by THE REVEREND JOHN ANDREW CHAPTER NSDAR\n\n\nJoin us as we celebrate the 235th Anniversary of the signing of the United States Constitution! \nPATRIOTIC MUSIC\nAthens Area Homeschool Band \nCONSTITUTION HISTORY PROGRAM\nWatkinsville Junior American Citizens\nand the William Daniell Society\,\nChildren of the American Revolution \nCOOKIES & CANNON FIRE
URL:https://gasocietysar.org/event/constitution-history-program-watkinsville-ga-345-pm/
LOCATION:Ashford Memorial Church\, 1 North Main Street\, Watkinsville\, 30677\, United States
CATEGORIES:DAR Events,GASSAR Color Guard
END:VEVENT
BEGIN:VEVENT
DTSTART;VALUE=DATE:20180414
DTEND;VALUE=DATE:20180416
DTSTAMP:20260423T204809
CREATED:20180123T195035Z
LAST-MODIFIED:20180123T220524Z
UID:1580-1523664000-1523836799@gasocietysar.org
SUMMARY:Frederica Patriots Day
DESCRIPTION:Click for more information \nRegistration form \n 
URL:https://gasocietysar.org/event/fredrica-patriots-day/
CATEGORIES:DAR Events,GA Society Events
END:VEVENT
END:VCALENDAR