BEGIN:VCALENDAR
VERSION:2.0
PRODID:-//Georgia Society, Sons of the American Revolution - ECPv6.15.20//NONSGML v1.0//EN
CALSCALE:GREGORIAN
METHOD:PUBLISH
X-WR-CALNAME:Georgia Society, Sons of the American Revolution
X-ORIGINAL-URL:https://gasocietysar.org
X-WR-CALDESC:Events for Georgia Society, Sons of the American Revolution
REFRESH-INTERVAL;VALUE=DURATION:PT1H
X-Robots-Tag:noindex
X-PUBLISHED-TTL:PT1H
BEGIN:VTIMEZONE
TZID:America/New_York
BEGIN:DAYLIGHT
TZOFFSETFROM:-0500
TZOFFSETTO:-0400
TZNAME:EDT
DTSTART:20250309T070000
END:DAYLIGHT
BEGIN:STANDARD
TZOFFSETFROM:-0400
TZOFFSETTO:-0500
TZNAME:EST
DTSTART:20251102T060000
END:STANDARD
BEGIN:DAYLIGHT
TZOFFSETFROM:-0500
TZOFFSETTO:-0400
TZNAME:EDT
DTSTART:20260308T070000
END:DAYLIGHT
BEGIN:STANDARD
TZOFFSETFROM:-0400
TZOFFSETTO:-0500
TZNAME:EST
DTSTART:20261101T060000
END:STANDARD
BEGIN:DAYLIGHT
TZOFFSETFROM:-0500
TZOFFSETTO:-0400
TZNAME:EDT
DTSTART:20270314T070000
END:DAYLIGHT
BEGIN:STANDARD
TZOFFSETFROM:-0400
TZOFFSETTO:-0500
TZNAME:EST
DTSTART:20271107T060000
END:STANDARD
END:VTIMEZONE
BEGIN:VEVENT
DTSTART;TZID=America/New_York:20260516T140000
DTEND;TZID=America/New_York:20260516T150000
DTSTAMP:20260423T130245
CREATED:20260322T211006Z
LAST-MODIFIED:20260322T211006Z
UID:21483-1778940000-1778943600@gasocietysar.org
SUMMARY:250th Mareker Dedication - Acworth\, GA - 2:00 PM
DESCRIPTION: Come join us in a ceremony dedicating a granite marker honoring the  \n250th Anniversary of American Independence\, 1776 – 2026.  \nMars Hill Cemetery – 2850 Mars Hill Church Road – Acworth\, GA 30101  \nSaturday; May 16\, 2026 @ 2:00 PM  \nSponsored by the Captain John Collins Chapter Georgia Society Sons of the American Revolution. \n  \nTo present a wreath\, please complete the Wreath Registration  \nForm and email to President Jim Poole at  \njimpoole82@gmail.com
URL:https://gasocietysar.org/event/250th-mareker-dedication-acworth-ga-200-pm/
LOCATION:Mars Hill Cemetery\, 2850 Mars Hill Church Road\, Acworth\, GA\, 30101\, United States
CATEGORIES:GA Society Chapter Events
END:VEVENT
END:VCALENDAR