BEGIN:VCALENDAR
VERSION:2.0
PRODID:-//Georgia Society, Sons of the American Revolution - ECPv6.15.20//NONSGML v1.0//EN
CALSCALE:GREGORIAN
METHOD:PUBLISH
X-ORIGINAL-URL:https://gasocietysar.org
X-WR-CALDESC:Events for Georgia Society, Sons of the American Revolution
REFRESH-INTERVAL;VALUE=DURATION:PT1H
X-Robots-Tag:noindex
X-PUBLISHED-TTL:PT1H
BEGIN:VTIMEZONE
TZID:America/New_York
BEGIN:DAYLIGHT
TZOFFSETFROM:-0500
TZOFFSETTO:-0400
TZNAME:EDT
DTSTART:20240310T070000
END:DAYLIGHT
BEGIN:STANDARD
TZOFFSETFROM:-0400
TZOFFSETTO:-0500
TZNAME:EST
DTSTART:20241103T060000
END:STANDARD
BEGIN:DAYLIGHT
TZOFFSETFROM:-0500
TZOFFSETTO:-0400
TZNAME:EDT
DTSTART:20250309T070000
END:DAYLIGHT
BEGIN:STANDARD
TZOFFSETFROM:-0400
TZOFFSETTO:-0500
TZNAME:EST
DTSTART:20251102T060000
END:STANDARD
BEGIN:DAYLIGHT
TZOFFSETFROM:-0500
TZOFFSETTO:-0400
TZNAME:EDT
DTSTART:20260308T070000
END:DAYLIGHT
BEGIN:STANDARD
TZOFFSETFROM:-0400
TZOFFSETTO:-0500
TZNAME:EST
DTSTART:20261101T060000
END:STANDARD
BEGIN:DAYLIGHT
TZOFFSETFROM:-0500
TZOFFSETTO:-0400
TZNAME:EDT
DTSTART:20270314T070000
END:DAYLIGHT
BEGIN:STANDARD
TZOFFSETFROM:-0400
TZOFFSETTO:-0500
TZNAME:EST
DTSTART:20271107T060000
END:STANDARD
END:VTIMEZONE
BEGIN:VEVENT
DTSTART;TZID=America/New_York:20251014T110000
DTEND;TZID=America/New_York:20251014T130000
DTSTAMP:20260425T001253
CREATED:20250829T151437Z
LAST-MODIFIED:20250829T151437Z
UID:18380-1760439600-1760446800@gasocietysar.org
SUMMARY:Presentation of Colors - Sunbelt Ag Expo - Moultrie\, GA - Noon
DESCRIPTION:Presentation of Colors at the Sunbelt Ag Expo at Noon (please be onsite by 11:00 AM) in Moultrie\, GA \nSunbelt AD Expo\, 290-G Harper Boulevard\, Moultrie\, Georgia   31788-2157 \nWe need to know of your participation AT LEAST TEN DAY in ADVANCE \n  \n******************* \nPresenting the colors at the Sunbelt Ag Expo in October  will certainly be a feather in our tricorns.   The luncheon begins at noon so we need to be on site no later than 11:00.  Guardsmen need to allow extra time as traffic is usually congested at Spence Field\, site of the Expo.  Since most of the guardsmen live north of Columbus and Macon\, they may want to come the night before. If so\, they need to make arrangements as soon as possible as lodging is at a premium for miles around during Expo.  There are only two hotels in Moultrie that I would recommend\, Hampton and Holiday Inn Express.  There are quite a few hotels in Tifton which is 30 miles north.  They need to make a reservation as soon as possible.  I will need to let Expo know how many passes we need 10 days in advance which would be Oct. 4. \nIf the guardsmen have never attended Expo\, they may want to spend the afternoon walking the grounds of North America’s premiere farm show.  The Expo includes a 100-acre exhibit area with both indoor and outdoor exhibits adjacent to a 530-acre working research farm.  Exhibits also include lawn and garden\, hunting\, fishing and family living.  The show is held at Spence Field\, site of a World War II Army Airfield training facility.  Some remnants of the airfield are still visible.  I’m sure they would generate attention as they always  do walking through Expo in their Continental attire.  \nThomas Coleman is the coordinator and has invited anyone with a camper to park it at his farm which is about 17 miles from the event site.  
URL:https://gasocietysar.org/event/presentation-of-colors-sunbelt-ag-expo-moultrie-ga-noon/
LOCATION:GA
CATEGORIES:GA Society Chapter Events,GASSAR Color Guard
END:VEVENT
BEGIN:VEVENT
DTSTART;TZID=America/New_York:20260213T100000
DTEND;TZID=America/New_York:20260213T150000
DTSTAMP:20260425T001253
CREATED:20250606T190424Z
LAST-MODIFIED:20260313T221651Z
UID:18111-1770976800-1770994800@gasocietysar.org
SUMMARY:Heroes of the Hornets Nest Commemoration
DESCRIPTION:Elijah Clark State Park – 2959 McCormick Highway\, Lincolnton\, GA 30817 \n10:00 AM – Kick off at the restored cabin and Elijah Clark Museum with a variety of demonstrations on colonial lifestyle\, colonial attire\, a Traveling Trunk display\, and cannon and musket demonstrations. Fourth grade classes from Lincoln County Elementary School will rotate through each station. \n12:00 P.M. –  A free indoor chili cookout and dessert buffet at noon will be served compliments of the Elijah Clark State Park\, Lincoln County Historical Society\, Chapters of Georgia Society SAR and the Elijah Clarke Chapter NSDAR.  After lunch\, the featured program will be a Sons of the American Revolution Grave Marking Ceremony for Col. John Dooly of the Wilkes County GA Militia.  We will dedicate the new Dooly cenotaph beside the grave of Elijah and Hannah Clarke. \n1:00 PM – Please arrive for the Grave Marking Ceremony Wreath Presentation Check-in. \n1:30 P.M. – Col John Dooly grave marking ceremony beside Elijah Clarke’s grave. Regional color guard and militia units will combine to bring pomp and circumstance to the occasion. \n********************************* \nPatriot Information \nPatriot Name: Col. John Dooly \nPatriot ID: P-149226 \nCeremony Date: 13 Feb 2026 \nSAR Cemetery #: C-0112976 \n********************************** \nPark entry fees will be waived for attendees. www.GaStateParks.org/ElijahClark \n****************************** \nRevolutionary Days Heroes of the Hornets’ Nest Ceremony  \nElijah Clark State Park\nLincolnton\, GA\nFriday\, February 13\, 2026 \n1:30 pm \nWreath Registration \nName of Wreath Presenter________________________________\nOrganization: SAR DAR CAR (Please circle) Other___________________\nPosition: _____________________________________________\nPresenter’s e-mail address ________________________________ \nSend registration form by February 7\, 2026\, at 6 p.m. to\nBill Tankersley\, email: wjtank@comcast.net\nLittle River Chapter\, GASSAR\n706-825-5810\nOr by regular mail to:\nBill Tankersley\n2645 Louisville Rd
URL:https://gasocietysar.org/event/heroes-of-the-hornets-nest-save-the-date-2/
LOCATION:Elijah Clark State Park\, 2959 McCormick Highway\, Lincolnton\, GA\, 30817\, United States
CATEGORIES:GA Society Chapter Events,GA Society Events,GASSAR Color Guard,Historic Sites & Celebrations
END:VEVENT
BEGIN:VEVENT
DTSTART;TZID=America/New_York:20260214T080000
DTEND;TZID=America/New_York:20260214T123000
DTSTAMP:20260425T001253
CREATED:20250606T190601Z
LAST-MODIFIED:20251219T194200Z
UID:18113-1771056000-1771072200@gasocietysar.org
SUMMARY:Battle of Kettle Creek - Morning activities in Washington\, GA
DESCRIPTION:Saturday Morning – February 14th\, 2026 \nA National Society SAR Historic Sites & Celebrations Committee Event \nWashington Square in Historic Downtown Washington\, GA 30673\n9:50 A.M. – The Georgia Society SAR Elijah Clarke Militia Honor Guard with Musket Salutes will raise the 1776 Colors of the Revolutionary War on the Wilkes County Courthouse Flagpole. \n9:50 A.M. –12 Noon – Come experience Revolutionary Living History including demonstrations and performers.  Located just off the square in the Court Street Livery (16 W Court Street\, Washington\, GA) Look for the SAR Living History building signs.           \n10:10 A.M. – The Georgia Society SAR combined Color Guard & Militia will gather at the Revolutionary War monument on the Washington City Square to Salute and Honor the Wilkes County Militia – (the Heroes of the Hornets’ Nest) and all Revolutionary War Patriots. \n10:30 A.M. – Color Guard and parade participants gather behind the Courthouse for the assembly of the Revolutionary War Parade — ALL the public (Children & Grownups) are welcome to participate in the event as our National Colors and re-enactors lead us around Washington Square. Parade STARTS at 10:45 A.M. \n10:45 A.M. – The parade will start and will march two complete times around Washington Square and will end behind the courthouse at Fort Washington Park. \n11:15 A.M. – Georgia Society SAR Elijah Clarke Militia and other re-enactors with black-powder muskets will present a dramatic portrayal of the Battle of Kettle Creek in Fort Washington Park behind the Wilkes County Courthouse. \n12:00 P.M. – The Georgia Society SAR Color Guard–Elijah Clarke Militia and others\, will present arms and fire a thunderous musket salute as the Revolutionary War Colors are lowered and our Present-day National Colors are raised on the Wilkes County Courthouse Flagpole.
URL:https://gasocietysar.org/event/battle-of-kettle-creek-save-the-date/
LOCATION:Washington Georgia\, Washington\, GA\, United States
CATEGORIES:GA Society Chapter Events,GA Society Events,National Events
END:VEVENT
BEGIN:VEVENT
DTSTART;TZID=America/New_York:20260221T110000
DTEND;TZID=America/New_York:20260221T120000
DTSTAMP:20260425T001253
CREATED:20251030T183401Z
LAST-MODIFIED:20260205T221842Z
UID:18932-1771671600-1771675200@gasocietysar.org
SUMMARY:Commemoration of Vann's Creek - 11:00 AM
DESCRIPTION:New Date \nBattle of Vann’s Creek Ceremony February\, 21\, 2026\nThe Samuel Elbert Chapter GASSAR invites the GASSAR\, NSDAR\, CAR and general public to attend a Revolutionary Ceremony in honor the Battle of Vann’s Creek on Saturday February 21\, 2026 at 11:00 a.m. at the Danny Guthrie Pavilion\, The address Bobby Brown Park\, 2509 Bobby Brown State Park Rd. Elberton\, Ga 30635. \nThis will be the 15 th Annual Ceremony. \nOur speaker will be Eden Pethel\, President\, Elisha Winn Society\, Children of the American Revolution. She will be doing her prestation on Georgia’s 2026 tag that she designed. Our Liberty Tree and Bench will be ½ miles from the pavilion. Plans are to have it completed before the ceremony. We will have a small part of the ceremony dedicated to this and get pictures next to our bench and tree. An article will be in the Graniteer Magazine along with a photo. Our bench is donated by Micheal Baston\, Baston Granite\, Elberton\, Georgia. \nDirections from Elberton at GA Hwy 17/GA Hwy 72 and Oliver Street Go South on Hwy 17/72 2.0 miles\, turn left on GA-72 East\, Go 12.2 miles then turn Right on Bobby Brown State Park Road go 7.1 miles to\nthe Bobby Brown Park entrance. \nTell the attendant you are with our ceremony. The address is for the entrance. We will have SAR signs at\nthe entrance and each turn. \nWreath Presenters:\nRegister by February 18\, 2026 to be printed in the program. RSVP to present a wreath.\nNote: Send this to Russell Terrell 706-491-2714 or samuelelbertsar.rbt@gmail.com or rbterrell58@gmail.com \nDirections from Elberton at GA Hwy 17/GA Hwy 72 and Oliver Street Go South on Hwy 17/72 2.0 miles\, turn left on GA-72 East\, Go 12.2 miles then turn Right on Bobby Brown State Park Road go 7.1 miles to the Bobby Brown Park entrance. \nTell the attendant you are with our ceremony. The address is for the entrance. We will have SAR signs at the entrance and each turn. \nMusket firing will be allowed.
URL:https://gasocietysar.org/event/commemoration-of-vanns-creek-1100-am/
LOCATION:Bobby Brown Park\, 2509 bobby Brown State Park Road\, Elberton\, GA\, 30635\, United States
CATEGORIES:GA Society Chapter Events,GASSAR Color Guard
END:VEVENT
BEGIN:VEVENT
DTSTART;TZID=America/New_York:20260411T130000
DTEND;TZID=America/New_York:20260411T143000
DTSTAMP:20260425T001253
CREATED:20260119T145923Z
LAST-MODIFIED:20260119T145923Z
UID:19918-1775912400-1775917800@gasocietysar.org
SUMMARY:Lyman Hall Chapter - Birthday Celebration for Patriot Lyman Hall - 1:00 PM
DESCRIPTION:Lyman Hall Chapter Georgia SAR and the Colonel William Candler Chapter National Society DAR Invite you to attend a ceremony celebrating the 302nd Anniversary of the Birth of Lyman Hall \nSaturday\, April 11th\, 2026\, at 1:00 PM \nMonument near parking lot at Hall County Government Center – 2875 Browns Bridge Rd\, Gainesville\, Ga 30504 – GPS N34° 27.8365 W83° 87.715 \nPlease RSVP for Wreath Presentations by Tuesday\, April 7th\nTo: Mike Watkins at Michael.LHSar@Yahoo.com \nFor wreath registration please include: Organization\, Name of Presenter\, Office or Title of Presenter\, Email Address\, Telephone number
URL:https://gasocietysar.org/event/lyman-hall-chapter-birthday-celebration-for-patriot-lyman-hall-100-pm/
LOCATION:GA
CATEGORIES:GA Society Chapter Events
END:VEVENT
BEGIN:VEVENT
DTSTART;TZID=America/New_York:20260516T140000
DTEND;TZID=America/New_York:20260516T150000
DTSTAMP:20260425T001253
CREATED:20260322T211006Z
LAST-MODIFIED:20260322T211006Z
UID:21483-1778940000-1778943600@gasocietysar.org
SUMMARY:250th Mareker Dedication - Acworth\, GA - 2:00 PM
DESCRIPTION: Come join us in a ceremony dedicating a granite marker honoring the  \n250th Anniversary of American Independence\, 1776 – 2026.  \nMars Hill Cemetery – 2850 Mars Hill Church Road – Acworth\, GA 30101  \nSaturday; May 16\, 2026 @ 2:00 PM  \nSponsored by the Captain John Collins Chapter Georgia Society Sons of the American Revolution. \n  \nTo present a wreath\, please complete the Wreath Registration  \nForm and email to President Jim Poole at  \njimpoole82@gmail.com
URL:https://gasocietysar.org/event/250th-mareker-dedication-acworth-ga-200-pm/
LOCATION:Mars Hill Cemetery\, 2850 Mars Hill Church Road\, Acworth\, GA\, 30101\, United States
CATEGORIES:GA Society Chapter Events
END:VEVENT
BEGIN:VEVENT
DTSTART;TZID=America/New_York:20260613T100000
DTEND;TZID=America/New_York:20260613T110000
DTSTAMP:20260425T001253
CREATED:20260315T142445Z
LAST-MODIFIED:20260315T142637Z
UID:21466-1781344800-1781348400@gasocietysar.org
SUMMARY:Flag Day Service and Annual Flag Retirement - Cumming\, GA
DESCRIPTION:The Robert Forsyth Chapter and the Piedmont Chapter of the Georgia Society SAR invite you to their Flag Day Service and Annual Flag Retirement Service. \nLocation: Ingram Funeral Home Chapel – 210 Ingram Avenue – Cumming\, GA 30040 \nDate: 13 June 2026 \nTime: 10:00 AM \nThis is considered a National Event by the NSSAR Color Guard \n 
URL:https://gasocietysar.org/event/flag-day-service-and-annual-flag-retirement-cumming-ga/
LOCATION:Ingram Funeral Home\, 210 Ingram Avenue\, Cumming\, GA\, 30040\, United States
CATEGORIES:GA Society Chapter Events,National Events
END:VEVENT
BEGIN:VEVENT
DTSTART;TZID=America/New_York:20260725T100000
DTEND;TZID=America/New_York:20260725T120000
DTSTAMP:20260425T001253
CREATED:20260125T203603Z
LAST-MODIFIED:20260125T203603Z
UID:19949-1784973600-1784980800@gasocietysar.org
SUMMARY:Georgia Society SAR Summer Board of Managers Meeting
DESCRIPTION:Georgia Society SAR Summer BOM Meeting \nPam’s Garden Patch Restaurant\n100 Southland Drive\nBarnesville\, GA \n 
URL:https://gasocietysar.org/event/georgia-society-sar-summer-board-of-managers-meeting/
LOCATION:Garden Patch Restaurant\, 100 Southland Drive\, Barnesville\, GA\, 30204\, United States
CATEGORIES:GA Society Chapter Events,GA Society Events
END:VEVENT
BEGIN:VEVENT
DTSTART;TZID=America/New_York:20261024T100000
DTEND;TZID=America/New_York:20261024T120000
DTSTAMP:20260425T001253
CREATED:20260125T203829Z
LAST-MODIFIED:20260125T203829Z
UID:19952-1792836000-1792843200@gasocietysar.org
SUMMARY:Georgia Society SAR Fall Board of Managers
DESCRIPTION:Georgia Society SAR Fall BOM Meeting \nPam’s Garden Patch Restaurant\n100 Southland Drive\nBarnesville\, GA \n 
URL:https://gasocietysar.org/event/georgia-society-sar-fall-board-of-managers/
LOCATION:Garden Patch Restaurant\, 100 Southland Drive\, Barnesville\, GA\, 30204\, United States
CATEGORIES:GA Society Chapter Events,GA Society Events
END:VEVENT
END:VCALENDAR