BEGIN:VCALENDAR
VERSION:2.0
PRODID:-//Georgia Society, Sons of the American Revolution - ECPv6.15.20//NONSGML v1.0//EN
CALSCALE:GREGORIAN
METHOD:PUBLISH
X-ORIGINAL-URL:https://gasocietysar.org
X-WR-CALDESC:Events for Georgia Society, Sons of the American Revolution
REFRESH-INTERVAL;VALUE=DURATION:PT1H
X-Robots-Tag:noindex
X-PUBLISHED-TTL:PT1H
BEGIN:VTIMEZONE
TZID:America/New_York
BEGIN:DAYLIGHT
TZOFFSETFROM:-0500
TZOFFSETTO:-0400
TZNAME:EDT
DTSTART:20250309T070000
END:DAYLIGHT
BEGIN:STANDARD
TZOFFSETFROM:-0400
TZOFFSETTO:-0500
TZNAME:EST
DTSTART:20251102T060000
END:STANDARD
BEGIN:DAYLIGHT
TZOFFSETFROM:-0500
TZOFFSETTO:-0400
TZNAME:EDT
DTSTART:20260308T070000
END:DAYLIGHT
BEGIN:STANDARD
TZOFFSETFROM:-0400
TZOFFSETTO:-0500
TZNAME:EST
DTSTART:20261101T060000
END:STANDARD
BEGIN:DAYLIGHT
TZOFFSETFROM:-0500
TZOFFSETTO:-0400
TZNAME:EDT
DTSTART:20270314T070000
END:DAYLIGHT
BEGIN:STANDARD
TZOFFSETFROM:-0400
TZOFFSETTO:-0500
TZNAME:EST
DTSTART:20271107T060000
END:STANDARD
END:VTIMEZONE
BEGIN:VEVENT
DTSTART;TZID=America/New_York:20260417T163000
DTEND;TZID=America/New_York:20260417T173000
DTSTAMP:20260423T114532
CREATED:20260203T210503Z
LAST-MODIFIED:20260413T165201Z
UID:19979-1776443400-1776447000@gasocietysar.org
SUMMARY:Three Patriot Grave marking - 4:30 PM - Brunswick\, GA
DESCRIPTION:Three Patriot Grave marker Dedication Ceremony \nTime: 4:30 PM \nLocation: Wright Square on Egmont Street in Brunswick\, GA \nAt Intersection of Egmont and carpenter Street \nCaptain John Cutler Braddock – SAR P-119378 / DAR A013316 \nPrivate Frederick Lamb – SAR P-232439 \nPatriot Thomas Stone – SAR P-298755 / DAR A110321 \nPatriot David Moses Vallotton – Dedication Only. Marker will be unveiled in Savannah\, GA – SAR P-309106 / DAR A116874 \nMore details forthcoming
URL:https://gasocietysar.org/event/three-patriot-grave-marking-430-pm-brunswick-ga/
LOCATION:GA
CATEGORIES:GA Society Events,GASSAR Color Guard,Grave Dedication
END:VEVENT
END:VCALENDAR