BEGIN:VCALENDAR
VERSION:2.0
PRODID:-//Georgia Society, Sons of the American Revolution - ECPv6.15.20//NONSGML v1.0//EN
CALSCALE:GREGORIAN
METHOD:PUBLISH
X-ORIGINAL-URL:https://gasocietysar.org
X-WR-CALDESC:Events for Georgia Society, Sons of the American Revolution
REFRESH-INTERVAL;VALUE=DURATION:PT1H
X-Robots-Tag:noindex
X-PUBLISHED-TTL:PT1H
BEGIN:VTIMEZONE
TZID:America/New_York
BEGIN:DAYLIGHT
TZOFFSETFROM:-0500
TZOFFSETTO:-0400
TZNAME:EDT
DTSTART:20170312T070000
END:DAYLIGHT
BEGIN:STANDARD
TZOFFSETFROM:-0400
TZOFFSETTO:-0500
TZNAME:EST
DTSTART:20171105T060000
END:STANDARD
BEGIN:DAYLIGHT
TZOFFSETFROM:-0500
TZOFFSETTO:-0400
TZNAME:EDT
DTSTART:20180311T070000
END:DAYLIGHT
BEGIN:STANDARD
TZOFFSETFROM:-0400
TZOFFSETTO:-0500
TZNAME:EST
DTSTART:20181104T060000
END:STANDARD
BEGIN:DAYLIGHT
TZOFFSETFROM:-0500
TZOFFSETTO:-0400
TZNAME:EDT
DTSTART:20190310T070000
END:DAYLIGHT
BEGIN:STANDARD
TZOFFSETFROM:-0400
TZOFFSETTO:-0500
TZNAME:EST
DTSTART:20191103T060000
END:STANDARD
BEGIN:DAYLIGHT
TZOFFSETFROM:-0500
TZOFFSETTO:-0400
TZNAME:EDT
DTSTART:20200308T070000
END:DAYLIGHT
BEGIN:STANDARD
TZOFFSETFROM:-0400
TZOFFSETTO:-0500
TZNAME:EST
DTSTART:20201101T060000
END:STANDARD
BEGIN:DAYLIGHT
TZOFFSETFROM:-0500
TZOFFSETTO:-0400
TZNAME:EDT
DTSTART:20210314T070000
END:DAYLIGHT
BEGIN:STANDARD
TZOFFSETFROM:-0400
TZOFFSETTO:-0500
TZNAME:EST
DTSTART:20211107T060000
END:STANDARD
BEGIN:DAYLIGHT
TZOFFSETFROM:-0500
TZOFFSETTO:-0400
TZNAME:EDT
DTSTART:20220313T070000
END:DAYLIGHT
BEGIN:STANDARD
TZOFFSETFROM:-0400
TZOFFSETTO:-0500
TZNAME:EST
DTSTART:20221106T060000
END:STANDARD
BEGIN:DAYLIGHT
TZOFFSETFROM:-0500
TZOFFSETTO:-0400
TZNAME:EDT
DTSTART:20230312T070000
END:DAYLIGHT
BEGIN:STANDARD
TZOFFSETFROM:-0400
TZOFFSETTO:-0500
TZNAME:EST
DTSTART:20231105T060000
END:STANDARD
END:VTIMEZONE
BEGIN:VEVENT
DTSTART;TZID=America/New_York:20220922T080000
DTEND;TZID=America/New_York:20220922T170000
DTSTAMP:20260423T235215
CREATED:20220430T171930Z
LAST-MODIFIED:20220430T171930Z
UID:5982-1663833600-1663866000@gasocietysar.org
SUMMARY:Deadline for Submission of Motions - October BOM Meeting
DESCRIPTION:Any motion to be considered at the Fall BOM meeting October 22\, 2022 must be submitted by this date. Submissions must be made as directed in the Sourcebook
URL:https://gasocietysar.org/event/deadline-for-submission-of-motions-october-bom-meeting/
CATEGORIES:GA Society Events
END:VEVENT
BEGIN:VEVENT
DTSTART;TZID=America/New_York:20220917T133000
DTEND;TZID=America/New_York:20220917T153000
DTSTAMP:20260423T235215
CREATED:20220816T211047Z
LAST-MODIFIED:20220816T211231Z
UID:6457-1663421400-1663428600@gasocietysar.org
SUMMARY:Commemoration of the First Siege of Augusta
DESCRIPTION:The Henry Laurens Chapter\, South Carolina Society SAR and\nThe Colonel William Few Chapter\, Georgia Society SAR\nCordially invite you to attend the\n242nd Anniversary Commemoration of the\nFirst Siege of Augusta\, September 14-18\, 1780 \non \nSaturday\, September 17\, 2022\, at 1:30 PM\nSalvation Army Kroc Center Auditorium\n1833 Broad Street\, Augusta\, Georgia \nSAR\, DAR\, C.A.R. and other patriotic and lineage societies and chapters are invited to\nparticipate in a formal wreath laying ceremony as part of the program. Participants presenting a\nwreath need to check in at the registration table by 1:00 PM. Continental\, Militia or period\nattire is encouraged. \nThe first part of the ceremony to be held in the auditorium\, will include Greetings\, a Battle\nSeminar\, conducted by Military Historian Steven J. Rauch\, and Wreath Presentations. Then we\nwill go out to battlefield behind the center for the second part where we will Render Honors\nand conduct a Reenactment Demonstration with muskets and six cannons firing black powder. \nTo ensure your organization’s recognition and receive a flag streamer\, please complete\, and\nreturn the registration form provided Sonny Pittman\, Event Coordinator\, at:\nSonny Pittman\, Event Coordinator\, 2202 Holly Haven Court\, Augusta\, GA 30907\n(706) 860-1050; sonnypittman@comcast.net \n242 nd Anniversary of the First Siege of Augusta \nWreath Registration \nName of Wreath Presenter: _______________________________________________________\nOrganization: SAR DAR C.A.R. (Please circle) Other: ____________________________________\nTitle/Position: __________________________________________________________________\nPresenter’s e-mail address: _______________________________________________________\nWill be in Uniform/Militia or Colonial Attire: __________________________________________\nWill Participate in the Color Guard: _________________________________________________\nWill Participate in the Battle Reenactment: __________________________________________\nI would like to order _______ box lunches provided by Sconyers BBQ at $15.00 each. Includes\nsandwich\, potato salad\, tea\, and dessert.\nMail your check for lunch to:\nMary Jo Goolsby\, Augusta Chapter NSDAR\n3527 Interlachen Drive\nMartinez\, GA 30907\nPlease send your registration form by September 14\, 2022\, at 6 p.m. to:\nSonny Pittman\, Event Coordinator\nsonnypittman@comcast.net\n2202 Holly Haven Court\, Augusta\, GA 30907\n(706) 860-1050\nIf you\, or your chapter\, would like to donate to help defray the expenses of this and future\nSieges of Augusta events or contribute to the purchase of a Granite Bench honoring the Patriots\nwho fought in the two Sieges of Augusta\, please contact me.
URL:https://gasocietysar.org/event/6457/
LOCATION:Kroc Center Auditorium\, 1833 Broad Street\, Augusta\, GA\, 30904\, United States
CATEGORIES:GA Society Events,GASSAR Color Guard
END:VEVENT
BEGIN:VEVENT
DTSTART;TZID=America/New_York:20220827T100000
DTEND;TZID=America/New_York:20220827T120000
DTSTAMP:20260423T235215
CREATED:20211020T173521Z
LAST-MODIFIED:20220728T194708Z
UID:5576-1661594400-1661601600@gasocietysar.org
SUMMARY:GASSAR Summer BOM Meeting
DESCRIPTION:
URL:https://gasocietysar.org/event/gassar-summer-bom-meeting-2/
LOCATION:Garden Patch Restaurant\, 100 Southland Drive\, Barnesville\, GA\, 30204\, United States
CATEGORIES:GA Society Events
END:VEVENT
BEGIN:VEVENT
DTSTART;TZID=America/New_York:20220704T080000
DTEND;TZID=America/New_York:20220704T170000
DTSTAMP:20260423T235215
CREATED:20220430T172721Z
LAST-MODIFIED:20220430T172721Z
UID:5986-1656921600-1656954000@gasocietysar.org
SUMMARY:Color Guard at Braves Game
DESCRIPTION:Will be an evening Game \nNeed 50 muskets/rifles for firing on the field \n  \nhttps://www.signupgenius.com/go/20f094caaa92dabfd0-braves
URL:https://gasocietysar.org/event/color-guard-at-braves-game/
CATEGORIES:GA Society Events
END:VEVENT
BEGIN:VEVENT
DTSTART;TZID=America/New_York:20220623T080000
DTEND;TZID=America/New_York:20220623T170000
DTSTAMP:20260423T235215
CREATED:20220430T171742Z
LAST-MODIFIED:20220430T171742Z
UID:5980-1655971200-1656003600@gasocietysar.org
SUMMARY:Deadline for submission of motions - Summer BOM Meeting
DESCRIPTION:Any motion to be considered at the Summer BOM meeting July 23\, 2022 must be submitted by this date. Submissions must be made as directed in the Sourcebook
URL:https://gasocietysar.org/event/deadline-for-submission-of-motions-summer-bom-meeting/
CATEGORIES:GA Society Events
END:VEVENT
BEGIN:VEVENT
DTSTART;TZID=America/New_York:20220423T080000
DTEND;TZID=America/New_York:20220423T170000
DTSTAMP:20260423T235215
CREATED:20211020T173059Z
LAST-MODIFIED:20220205T204924Z
UID:5568-1650700800-1650733200@gasocietysar.org
SUMMARY:GASSAR Spring BOM Meeting
DESCRIPTION:
URL:https://gasocietysar.org/event/gassar-spring-bom-meeting-2/
LOCATION:Garden Patch Restaurant\, 100 Southland Drive\, Barnesville\, GA\, 30204\, United States
CATEGORIES:GA Society Events
END:VEVENT
BEGIN:VEVENT
DTSTART;TZID=America/New_York:20220313T140000
DTEND;TZID=America/New_York:20220313T170000
DTSTAMP:20260423T235215
CREATED:20211020T172602Z
LAST-MODIFIED:20211020T172602Z
UID:5560-1647180000-1647190800@gasocietysar.org
SUMMARY:Dedication of Bench at the Hermitage
DESCRIPTION:Hermitage\, Nashville\, TN
URL:https://gasocietysar.org/event/dedication-of-bench-at-the-hermitage/
CATEGORIES:GA Society Events
END:VEVENT
BEGIN:VEVENT
DTSTART;VALUE=DATE:20220128
DTEND;VALUE=DATE:20220130
DTSTAMP:20260423T235215
CREATED:20210228T204720Z
LAST-MODIFIED:20220117T133637Z
UID:5064-1643328000-1643500799@gasocietysar.org
SUMMARY:GASSAR Annual BOM Meeting
DESCRIPTION:Event:  Georgia SAR Annual Conference \nRegistration Form: Click Here \nDate:    January 28 & 29\, 2022 \nLocation: Sonesta Gwinnett Place \n                 1775 Pleasant Hill Road\, Duluth\, Georgia 30096 \n        (At Exit 104 Pleasant Hill Road on I-85 in Gwinnett County) \nReservations: 770-923-1775 or 800-766-3782 \n                          Rooms: $107 plus taxes  \n                     (Rate guaranteed through January 5\, 2022) \n 
URL:https://gasocietysar.org/event/gassar-annual-bom-meeting/
CATEGORIES:GA Society Events
END:VEVENT
BEGIN:VEVENT
DTSTART;TZID=America/New_York:20211023T100000
DTEND;TZID=America/New_York:20211023T120000
DTSTAMP:20260423T235215
CREATED:20210228T204615Z
LAST-MODIFIED:20210328T180344Z
UID:5062-1634983200-1634990400@gasocietysar.org
SUMMARY:GASSAR Fall Meeting
DESCRIPTION:Check back for details
URL:https://gasocietysar.org/event/gassar-winter-fall-meeting/
CATEGORIES:GA Society Events
END:VEVENT
BEGIN:VEVENT
DTSTART;TZID=America/New_York:20210918T110000
DTEND;TZID=America/New_York:20210918T170000
DTSTAMP:20260423T235215
CREATED:20210113T200901Z
LAST-MODIFIED:20210530T180255Z
UID:4971-1631962800-1631984400@gasocietysar.org
SUMMARY:240th Anniversary of 2nd Siege of Augusta
DESCRIPTION:Kroc Center \nAugusta\, GA
URL:https://gasocietysar.org/event/240th-anniversary-of-2nd-siege-of-augusta/
CATEGORIES:GA Society Events
END:VEVENT
BEGIN:VEVENT
DTSTART;TZID=America/New_York:20210917T080000
DTEND;TZID=America/New_York:20210917T170000
DTSTAMP:20260423T235215
CREATED:20210530T175857Z
LAST-MODIFIED:20210530T175857Z
UID:5312-1631865600-1631898000@gasocietysar.org
SUMMARY:Constitution Day
DESCRIPTION:St. Paul’s Church\, \nAugusta\, GA \nAdditional information\, TBD
URL:https://gasocietysar.org/event/constitution-day/
CATEGORIES:GA Society Events
END:VEVENT
BEGIN:VEVENT
DTSTART;TZID=America/New_York:20210724T100000
DTEND;TZID=America/New_York:20210724T120000
DTSTAMP:20260423T235215
CREATED:20210228T204449Z
LAST-MODIFIED:20210228T204449Z
UID:5060-1627120800-1627128000@gasocietysar.org
SUMMARY:GASSAR Summer BOM Meeting
DESCRIPTION:Check back for details
URL:https://gasocietysar.org/event/gassar-summer-bom-meeting/
CATEGORIES:GA Society Events
END:VEVENT
BEGIN:VEVENT
DTSTART;TZID=America/New_York:20210424T100000
DTEND;TZID=America/New_York:20210424T120000
DTSTAMP:20260423T235215
CREATED:20210228T204340Z
LAST-MODIFIED:20210228T204757Z
UID:5058-1619258400-1619265600@gasocietysar.org
SUMMARY:GASSAR Spring BOM Meeting
DESCRIPTION:Check back for details
URL:https://gasocietysar.org/event/gassar-spring-bom-meeting/
CATEGORIES:GA Society Events
END:VEVENT
BEGIN:VEVENT
DTSTART;TZID=America/New_York:20210305T110000
DTEND;TZID=America/New_York:20210306T170000
DTSTAMP:20260423T235215
CREATED:20210207T183858Z
LAST-MODIFIED:20210211T144636Z
UID:5029-1614942000-1615050000@gasocietysar.org
SUMMARY:242nd Anniversary of the Battle of Brier Creek
DESCRIPTION:BRIER CREEK CHAPTER and  WIREGRASS CHAPTER \nGeorgia Society Sons of the American Revolution invite you to attend the \n  \n242nd ANNIVERSARY OF THE BATTLE OF BRIER CREEK \nSaturday\, March 6\, 2021\, at 11:00 a.m. Brier Creek Battlefield and Memorial Site Brannen’s Bridge Road \n(on right\, 100 yds north of Brier Creek landing/bridge) Screven County\, Georgia \n  \nCoordinates   N 32°48.328 °  W 81° 28.294 ° \nSAR\, DAR\, C.A.R.\, other patriotic and Lineage societies\, chapters\, and the general public are invited to the 242nd Anniversary of the Battle of Brier Creek. Continental\, militia\, or period attire is encouraged. \nTo participate in the Wreath Presentation\, please complete and return the registration form no later than Monday\, February 22\, 2021\, to assure listing in the Ceremony Program. \nDIRECTIONS \n\nFROM STATESBORO: Take U.S. HWY 301 North to Sylvania where GA HWY 21 crosses.  From this point\, drive north on U.S. HWY 301 for 5.0 miles and turn right on GA HWY 24 East.  Drive 5.1 miles to Brannans Bridge Road (white building on left) and turn Left.  Drive 4.7 miles to Brannans Bridge and across bridge\, 100 yards to GATE on right.  There will be a sign at the GATE that says Ceremony.\nFROM DOWNTOWN SYLVANIA: From the downtown circle\, take East Ogeechee Street/Brannans Bridge Road and drive 5.9 miles to the stop sign.  Continue driving straight for another 4.7 miles to Brannans Bridge and across bridge\, 100 yards to Gate on right.  There will be a sign at the GATE that says Ceremony.\nFROM NEWINGTON: Take GA HWY 24 West until you get to the Brannans Bridge Road (white building on the right\, approximately 17 miles) and then turn right.  Drive for 4.7 miles to Brannans Bridge and across bridge\, 100 yards to GATE on right.  There will be a sign at the GATE that says Ceremony.\nFROM AUGUSTA: Drive to Waynesboro on U.S. HWY 25 South.  Continue through Waynesboro and turn left onto GA HWY 24 East.  Continue on HWY 24 until you reach U.S. HWY 301.  Turn right (South) for less than a mile and then turn left onto GA HWY 24 East.  Drive 5.1 miles to Brannans Bridge Road (white building on left) and turn Left.  Drive 4.7 miles to Brannans Bridge and across bridge\, 100 yards to GATE on right.  There will be a sign at the GATE that says Ceremony.\n\nWhen you turn into the gate\, it’s straight back 1 mile to site \n  \nLOCATIONS TO STAY \n\nSYLVANIA INN-SYLVANIA\n\n404 West Ogeechee Street \nSylvania\, GA \n912-564-2490 \n912-564-9212 \nsylvaniainn@gmail.com \n  \n\nKINCHEY PLACE BED & BREAKFAST-SYLVANIA\n\n309 Singleton Ave \nSylvania\, GA \n912-425-2169 \ninfo@kinchleyplace.com \n  \n\nEDENFIELD HOUSE INN-SWAINSBORO (Exceptional)\n\n426 West Church Street \nSwainsboro\, GA \n478-237-3007 \n202-330-2046 \nEdenfieldhouse.com \n  \n\nHOLIDAY INN-STATESBORO\n\n455 Commerce Drive \nStatesboro\, GA \n866-538-9334 \n  \n\nHAMPTON INN-WAYNESBORO\n\n235 Peachtree Street \nWaynesboro\, GA \n866-925-7881
URL:https://gasocietysar.org/event/242nd-anniversary-of-the-battle-of-brier-creek/
CATEGORIES:GA Society Events
END:VEVENT
BEGIN:VEVENT
DTSTART;TZID=America/New_York:20210213T100000
DTEND;TZID=America/New_York:20210213T170000
DTSTAMP:20260423T235215
CREATED:20210113T200747Z
LAST-MODIFIED:20210127T191737Z
UID:4969-1613210400-1613235600@gasocietysar.org
SUMMARY:Kettle Creek Anniversary
DESCRIPTION:The 242nd Anniversary of the Battle of Kettle Creek “Revolutionary Days” is being held virtually on Zoom on 2/13/2021 at 10 AM. \nAdditional information may be found by clicking HERE \nIn order to register as a wreath presenter or as a ceremony viewer on Zoom\, please click on the Google Forms Link below and provide the requested information. \n  \n\n\n\nClick on “Fill out in Google Forms” below to go to the registration form: \n\n\n \n\n\n\n\n\n\nFill out in Google Forms\n\n\n\n\n\n\n\n. \nPlease complete your registration no later than February 10\, 2021.
URL:https://gasocietysar.org/event/kettle-creek-anniversary/
CATEGORIES:GA Society Events
END:VEVENT
BEGIN:VEVENT
DTSTART;TZID=America/New_York:20210212T133000
DTEND;TZID=America/New_York:20210212T170000
DTSTAMP:20260423T235215
CREATED:20210113T200641Z
LAST-MODIFIED:20210115T233426Z
UID:4967-1613136600-1613149200@gasocietysar.org
SUMMARY:Heroes of the Hornet's Nest
DESCRIPTION:The annual Heroes of the Hornet’s Nest at Elijah Clark State Park commemoration will be held on Zoom this year on February 12th at 1:30. \nYou are invited to view this Zoom virtual commemoration if you are not going to register to present a wreath.  However you need to register in order to receive the Zoom link to view the ceremony. \nAfter registering you will be sent a link closer to the date of the ceremony. \nTo register\, please email the following information to RickReese68@att.net prior to February 7\, 2021. \n\nYour name\nYour organization (SAR\, DAR\, C.A.R)\nYour Chapter Name\nYour email address\nYour cell phone number
URL:https://gasocietysar.org/event/heroes-of-the-hornets-nest/
CATEGORIES:GA Society Events
END:VEVENT
BEGIN:VEVENT
DTSTART;TZID=America/New_York:20210131T090000
DTEND;TZID=America/New_York:20210131T160000
DTSTAMP:20260423T235215
CREATED:20210113T201152Z
LAST-MODIFIED:20210113T201152Z
UID:4973-1612083600-1612108800@gasocietysar.org
SUMMARY:Video Production
DESCRIPTION:Video Production “Recording” for Heroes of the Hornet’s Nest and Kettle Creek \nFor Militia and Color Guard only \nElijah Clark State Park \nWar Hill \nWashington\, GA
URL:https://gasocietysar.org/event/video-production/
CATEGORIES:GA Society Events
END:VEVENT
BEGIN:VEVENT
DTSTART;TZID=America/New_York:20210130T093000
DTEND;TZID=America/New_York:20210130T110000
DTSTAMP:20260423T235215
CREATED:20210113T200532Z
LAST-MODIFIED:20210113T200532Z
UID:4965-1611999000-1612004400@gasocietysar.org
SUMMARY:240th Battle of Cowan's Ford
DESCRIPTION:To be held via Zoom
URL:https://gasocietysar.org/event/240th-battle-of-cowans-ford/
CATEGORIES:GA Society Events
END:VEVENT
BEGIN:VEVENT
DTSTART;TZID=America/New_York:20210130T080000
DTEND;TZID=America/New_York:20210130T123000
DTSTAMP:20260423T235215
CREATED:20210113T195311Z
LAST-MODIFIED:20210127T202218Z
UID:4963-1611993600-1612009800@gasocietysar.org
SUMMARY:GASSAR Annual Conference
DESCRIPTION:To view program and schedule click HERE \nTo register for the Zoom invitations to this event please email the following information to RickReese68@att.net no later than January 27\, 2021. \n\nYour Name\nYour Organization (SAR\, DAR\, C.A.R.)\nYour Chapter Name\nYour Role in Chapter or Society\nWill you attend the BOM meeting during the conference?\nYour GASSAR Role or Committee Chair.\nYour email Address\nYour Cell phone number\n\nConference activities will begin at 8:00 AM with South Atlantic District Presidents’ Meeting. \n\nThe full program of Conference activities and times will be posted on the GASSAR website later next week.\nOther activities will include:\n\nMemorial Service\n15 minute break\nGASSAR BOM Meeting\nSAR Annual Meeting\nChapter and Individual Awards Ceremony\nInduction of 021 GASSAR Officers
URL:https://gasocietysar.org/event/gassar-annual-conference/
CATEGORIES:GA Society Events
END:VEVENT
BEGIN:VEVENT
DTSTART;TZID=America/New_York:20200124T080000
DTEND;TZID=America/New_York:20200125T170000
DTSTAMP:20260423T235215
CREATED:20190327T130526Z
LAST-MODIFIED:20191202T204834Z
UID:3269-1579852800-1579971600@gasocietysar.org
SUMMARY:Georgia Society SAR Annual Conference
DESCRIPTION:As a reminder\, the Annual Georgia Society SAR Conference is scheduled as follows: \nDates: January 24 & 25\, 2020 \nLocation: Sonesta Gwinnett Place \n                 1775 Pleasant Hill Road \n                 Duluth\, Georgia 30096 \n  \nPhone 1-855-463-3095 or 1-770-923-1775 \nFor your convenience\, the following may be used to make reservations at the Sonesta Gwinnett Place Hotel. \nFor reservations online\, use the BOOKING LINK:  Sonesta Gwinett Place Hotel  \nFor phone reservations\, the code is: 01246823SA \nPlease find attached the Registration Form. If you have any questions\, please don’t hesitate to contact me. \n  \nPatriotically\, \nWayne L. Brown \nGASSAR Annual Conference Planning Committee \nPhone: 404.694.4609 \nEmail: engineerscorner@gmail.com
URL:https://gasocietysar.org/event/winter-bom-meeting/
LOCATION:Sonesta Gwinnett Place Hotel\, 1775 Pleasant Hill Road\, Duluth\, GA\, 30096\, United States
CATEGORIES:GA Society Events
END:VEVENT
BEGIN:VEVENT
DTSTART;TZID=America/New_York:20191026T100000
DTEND;TZID=America/New_York:20191026T120000
DTSTAMP:20260423T235215
CREATED:20190327T130406Z
LAST-MODIFIED:20190818T183528Z
UID:3267-1572084000-1572091200@gasocietysar.org
SUMMARY:Fall BOM Meeting
DESCRIPTION:
URL:https://gasocietysar.org/event/fall-bom-meeting/
LOCATION:Garden Patch Restaurant\, 100 Southland Drive\, Barnesville\, GA\, 30204\, United States
CATEGORIES:GA Society Events
END:VEVENT
BEGIN:VEVENT
DTSTART;TZID=America/New_York:20190727T100000
DTEND;TZID=America/New_York:20190727T120000
DTSTAMP:20260423T235215
CREATED:20190327T130312Z
LAST-MODIFIED:20190327T130312Z
UID:3265-1564221600-1564228800@gasocietysar.org
SUMMARY:Summer BOM Meeting
DESCRIPTION:
URL:https://gasocietysar.org/event/summer-bom-meeting/
LOCATION:Garden Patch Restaurant\, 100 Southland Drive\, Barnesville\, GA\, 30204\, United States
CATEGORIES:GA Society Events
END:VEVENT
BEGIN:VEVENT
DTSTART;TZID=America/New_York:20190601T133000
DTEND;TZID=America/New_York:20190601T153000
DTSTAMP:20260423T235215
CREATED:20190406T161808Z
LAST-MODIFIED:20190406T161808Z
UID:3289-1559395800-1559403000@gasocietysar.org
SUMMARY:Patriot Thomas Ansley Grave Marking
DESCRIPTION:Ansley Cemetery\, Thomas\, GA
URL:https://gasocietysar.org/event/patriot-thomas-ansley-grave-marking/
CATEGORIES:GA Society Events
END:VEVENT
BEGIN:VEVENT
DTSTART;TZID=America/New_York:20190511T110000
DTEND;TZID=America/New_York:20190511T130000
DTSTAMP:20260423T235215
CREATED:20190406T161657Z
LAST-MODIFIED:20190406T161657Z
UID:3287-1557572400-1557579600@gasocietysar.org
SUMMARY:Patriot Grave Marking
DESCRIPTION:Bugg Family Cemetery\, Pendleton King Park\, 1600 Troupe Street\, Augusta\, GA 
URL:https://gasocietysar.org/event/patriot-grave-marking-2/
CATEGORIES:GA Society Events
END:VEVENT
BEGIN:VEVENT
DTSTART;TZID=America/New_York:20190428T140000
DTEND;TZID=America/New_York:20190428T160000
DTSTAMP:20260423T235215
CREATED:20190406T161515Z
LAST-MODIFIED:20190406T161515Z
UID:3285-1556460000-1556467200@gasocietysar.org
SUMMARY:Midway Grave Markings
DESCRIPTION:Midway Cemetery\, US Highway 17 South\, Midway Georgia 31320
URL:https://gasocietysar.org/event/midway-grave-markings/
CATEGORIES:GA Society Events
END:VEVENT
BEGIN:VEVENT
DTSTART;TZID=America/New_York:20190427T100000
DTEND;TZID=America/New_York:20190427T120000
DTSTAMP:20260423T235215
CREATED:20190327T130217Z
LAST-MODIFIED:20190327T130217Z
UID:3263-1556359200-1556366400@gasocietysar.org
SUMMARY:Spring BOM Meeting
DESCRIPTION:
URL:https://gasocietysar.org/event/spring-bom-meeting/
LOCATION:Garden Patch Restaurant\, 100 Southland Drive\, Barnesville\, GA\, 30204\, United States
CATEGORIES:GA Society Events
END:VEVENT
BEGIN:VEVENT
DTSTART;VALUE=DATE:20190208
DTEND;VALUE=DATE:20190211
DTSTAMP:20260423T235215
CREATED:20181211T181057Z
LAST-MODIFIED:20200818T180238Z
UID:2253-1549584000-1549843199@gasocietysar.org
SUMMARY:240th Anniversary of the Battle of Kettle Creek\, Revolutionary Days
DESCRIPTION:Take Notice\n240th Anniversary of the Battle of Kettle Creek\nRevolutionary Days\nA National Society SAR Historic Site Event\nSponsored by the Georgia Society Sons of the American Revolution\nFebruary 8\, 9 & 10\, 2019\nWashington\, Wilkes County\, Georgia \nFriday February 8th\, 2019 \nTake a walking tour of the Kettle Creek Battlefield site and enjoy the marked trails and interpretive signs. Washington\, GA. Informational guides will be available in the afternoon. Consider visiting the Washington Historical Museum and the Robert Toombs House to enjoy 18th century history and Battlefield Relics. For more information visit www.washingtonwilkes.org. \n6:00 P.M. The Kettle Creek Battlefield Association\, Georgia Society SAR and Kettle Creek NSDAR will host a dinner and Revolutionary War program in honor of the Kettle Creek Patriots. \nSaturday Morning-February 9th\, 2019 \n9:00 A.M. The Georgia Society SAR Elijah Clarke Militia Honor Guard with Musket Salutes will raise the 1776 Colors of the Revolutionary War on the Wilkes County Courthouse Flag pole.\n9:00 A.M.- 12 noon: Historical performers in the City Square\, Georgia Society SAR Living History building with demonstrations located in the historic News Building just off the Square. Just follow the signs. The Mary Willis Library will host a film about the Kettle Creek battle. The Robert Toombs House Historic site features period performers and a special program called the Seeds of War. The Washington City Museum features the Kettle Creek Artifact Room.\n10:00 A.M. The Georgia Society SAR combined Color Guard & Militia will gather at the Revolutionary War monument on the Washington City square to Salute and Honor the Wilkes County Militia – (the Heroes of the Hornets’ Nest) and all Revolutionary War Patriots.\n10:30 A.M. Gather behind the Courthouse for the assembly of the Revolutionary War Parade— ALL the public (Children & Grownups) are welcome to participate in the event as our National Colors and re-enactors lead us around the City square. Parade STARTS at 10:45 A.M.\n11:00 A.M. Georgia Society SAR Elijah Clarke Militia and other re-enactors with black-powder muskets will present a dramatic portrayal of the Battle of Kettle Creek in Fort Washington Park behind the Wilkes County Courthouse.\n11:45 A.M. The Georgia Society SAR Color Guard–Elijah Clarke Militia and others\, will present arms and fire a thunderous musket salute as the Revolutionary War Colors are lowered and our Present-day National Colors are raised on the Square.\n2:30 P.M. Pageantry at the Kettle Creek Battlefield includes\, Continental Army\, Georgia Militia\, Musket volley salutes\, Wreath Presentations\, SAR/DAR/CAR\, Hereditary Organizations\, Local\, State & National officials\, High School JROTC\, students and public\, place wreaths to honor the Heroes of the Hornets’ Nest–the Wilkes County Militia for their 1779 Victory at Kettle Creek.\n9:00 — 5:00 P.M. The Robert Toombs Historic Site and the City Museum will remain open for visitors. \nSunday February 10\, 2019 \n9:00 A.M. Join the Georgia Society SAR and the Kettle Creek Chapter\, NSDAR in a Colonial Worship Service honoring the Wilkes County Militia (Heroes of the Hornets’ Nest) and the SC Upper 96 Militia who together defeated the Loyalists at the Battle of Kettle Creek. As in the past this Colonial Service is open to the public and everyone is encouraged to participate. The service will be held at The Episcopal Church of the Mediator in downtown Washington.
URL:https://gasocietysar.org/event/revolutionary-days/
LOCATION:Washington Georgia\, Washington\, GA\, United States
CATEGORIES:GA Society Events
END:VEVENT
BEGIN:VEVENT
DTSTART;TZID=America/New_York:20181027T100000
DTEND;TZID=America/New_York:20181027T120000
DTSTAMP:20260423T235215
CREATED:20180207T200210Z
LAST-MODIFIED:20180809T165119Z
UID:1600-1540634400-1540641600@gasocietysar.org
SUMMARY:Georgia Society SAR Board of Managers
DESCRIPTION:The Georgia Society’s Fall Board of Managers meeting will be held on Saturday\, October 27\, 2018\, 10:00 A.M. at the Garden Patch Restaurant\, 100 Southland Drive\, Barnesville\, Georgia 30204. Phone :770-358-9895. During this meeting a Forum for National Officer Candidates will be held. Endorsements will be determined and forwarded to the National Nominating Committee for their consideration. Each National Officer Candidate of his spokesman is invited to address the Board of Managers at this meeting with a time limit of five minutes each. All candidates planning to attend or their spokesman please RSVP to me at: dnburdick@comcast.net. If you have any questions please contact me by email or telephone: 706-376-6660.\nPatriotically\, Don Burdick\, President\, Georgia Society SAR
URL:https://gasocietysar.org/event/georgia-society-sar-board-of-managers-6/
LOCATION:Garden Patch Restaurant\, 100 Southland Drive\, Barnesville\, GA\, 30204\, United States
CATEGORIES:GA Society Events
END:VEVENT
BEGIN:VEVENT
DTSTART;TZID=America/New_York:20180728T100000
DTEND;TZID=America/New_York:20180728T120000
DTSTAMP:20260423T235215
CREATED:20180207T200103Z
LAST-MODIFIED:20180207T200103Z
UID:1598-1532772000-1532779200@gasocietysar.org
SUMMARY:Georgia Society SAR Board of Managers
DESCRIPTION:
URL:https://gasocietysar.org/event/georgia-society-sar-board-of-managers-5/
LOCATION:Garden Patch Restaurant\, 100 Southland Drive\, Barnesville\, GA\, 30204\, United States
CATEGORIES:GA Society Events
END:VEVENT
BEGIN:VEVENT
DTSTART;TZID=America/New_York:20180428T100000
DTEND;TZID=America/New_York:20180428T120000
DTSTAMP:20260423T235215
CREATED:20180207T195942Z
LAST-MODIFIED:20180207T200245Z
UID:1596-1524909600-1524916800@gasocietysar.org
SUMMARY:Georgia Society SAR Board of Managers
DESCRIPTION:
URL:https://gasocietysar.org/event/georgia-society-sar-board-of-managers-4/
LOCATION:Garden Patch Restaurant\, 100 Southland Drive\, Barnesville\, GA\, 30204\, United States
CATEGORIES:GA Society Events
END:VEVENT
END:VCALENDAR