BEGIN:VCALENDAR
VERSION:2.0
PRODID:-//Georgia Society, Sons of the American Revolution - ECPv6.15.20//NONSGML v1.0//EN
CALSCALE:GREGORIAN
METHOD:PUBLISH
X-ORIGINAL-URL:https://gasocietysar.org
X-WR-CALDESC:Events for Georgia Society, Sons of the American Revolution
REFRESH-INTERVAL;VALUE=DURATION:PT1H
X-Robots-Tag:noindex
X-PUBLISHED-TTL:PT1H
BEGIN:VTIMEZONE
TZID:America/New_York
BEGIN:DAYLIGHT
TZOFFSETFROM:-0500
TZOFFSETTO:-0400
TZNAME:EDT
DTSTART:20230312T070000
END:DAYLIGHT
BEGIN:STANDARD
TZOFFSETFROM:-0400
TZOFFSETTO:-0500
TZNAME:EST
DTSTART:20231105T060000
END:STANDARD
BEGIN:DAYLIGHT
TZOFFSETFROM:-0500
TZOFFSETTO:-0400
TZNAME:EDT
DTSTART:20240310T070000
END:DAYLIGHT
BEGIN:STANDARD
TZOFFSETFROM:-0400
TZOFFSETTO:-0500
TZNAME:EST
DTSTART:20241103T060000
END:STANDARD
BEGIN:DAYLIGHT
TZOFFSETFROM:-0500
TZOFFSETTO:-0400
TZNAME:EDT
DTSTART:20250309T070000
END:DAYLIGHT
BEGIN:STANDARD
TZOFFSETFROM:-0400
TZOFFSETTO:-0500
TZNAME:EST
DTSTART:20251102T060000
END:STANDARD
END:VTIMEZONE
BEGIN:VEVENT
DTSTART;TZID=America/New_York:20240117T103000
DTEND;TZID=America/New_York:20240117T123000
DTSTAMP:20260425T065256
CREATED:20231229T224825Z
LAST-MODIFIED:20240104T224250Z
UID:7339-1705487400-1705494600@gasocietysar.org
SUMMARY:National - 243rd Anniversary - Battle of Cowpens - 10:00 AM - revised start time
DESCRIPTION:The National Society SAR\, The South Carolina Society SAR\, and The Daniel Morgan Chapter\, South Carolina SAR \nInvite you to attend a Celebration of The 243rd Anniversary of the Battle of Cowpens \nWednesday\, 17 January 2024     –    10:00 AM\nWreath Laying Ceremony\, US Monument\, National Battlefield Visitors Center \nOnly a single wreath will be presented at the Monument. \n  \nOrganizations wishing their names recognized as wreath presenters should send the \nname of the organization and presenter to jdhoyle@rocketmail.com \nThese will be compiled into a list which will be published/scrolled on the Cowpens National \nBattlefield Social Media accounts on the day of the event.  \nThe deadline for registrations is Monday\, January 1\, 2024
URL:https://gasocietysar.org/event/national-243rd-anniversary-battle-of-cowpens-1030-am/
LOCATION:Cowpens National Battlefield\, 4001 Chesnee Highway\, Gaffney\, SC\, 29341\, United States
CATEGORIES:GASSAR Color Guard,Historic Sites & Celebrations,National Events
END:VEVENT
BEGIN:VEVENT
DTSTART;TZID=America/New_York:20240126T120000
DTEND;TZID=America/New_York:20240126T213000
DTSTAMP:20260425T065256
CREATED:20230809T182313Z
LAST-MODIFIED:20230809T182313Z
UID:7041-1706270400-1706304600@gasocietysar.org
SUMMARY:Georgia Society Annual Meeting
DESCRIPTION:The Georgia Society Annual Meeting will be at the Sonesta Gwinnett Place Atlanta located at 1775 Pleasant Hill Road\, Duluth\, GA \nDetails to be announced.  THE FOLLOWING IS LAST YEARS SCHEDULE \nGeorgia Society SAR Annual meeting \nFriday \n2:00 PM to 5:30 PM – Registration Open – NORMALLY SOME TYPE OF TRAINING OR PROGRAM SESSIONS OCCUR DURING THIS TIME \n6:00 PM – Reception and Cash Bar \n7:00 PM – Member Awards Banquet
URL:https://gasocietysar.org/event/georgia-society-annual-meeting/
LOCATION:Sonesta Gwinnett Place Hotel\, 1775 Pleasant Hill Road\, Duluth\, GA\, 30096\, United States
CATEGORIES:GA Society Events,GASSAR Color Guard
END:VEVENT
BEGIN:VEVENT
DTSTART;TZID=America/New_York:20240127T070000
DTEND;TZID=America/New_York:20240127T150000
DTSTAMP:20260425T065256
CREATED:20230809T182814Z
LAST-MODIFIED:20240206T223739Z
UID:7043-1706338800-1706367600@gasocietysar.org
SUMMARY:Georgia Society Annual Meeting
DESCRIPTION:The Georgia Society Annual meeting will take place at the Sonesta Gwinnett Place Atlanta located at 1775 Pleasant Hill Road\, Duluth\, Georgia \nDetail are to be announced. \nTHE FOLLOWING IS LAST YEARS SCHEDULE: \nSaturday\n8:00 – 8:20 am Late Registration\n8:30 am Memorial Service (Members & Guests)\n9:15 am Winter Board of Managers Meeting (Members)\n9:15-10:00 am Ladies’ Program Speakers:\n10:15-11:00 am Ladies Auxiliary Annual Meeting\n10:45 am Annual Meeting: GA Society Election of Officers (ALL Registered Members Vote!)\n11:45 am Chapter and Youth Awards Luncheon & Installation of Officers\n(Members and guests) (Business Suit\, Uniform or Kilts)
URL:https://gasocietysar.org/event/georgia-society-annual-meeting-2/
LOCATION:Sonesta Gwinnett Place Hotel\, 1775 Pleasant Hill Road\, Duluth\, GA\, 30096\, United States
CATEGORIES:GA Society Events,GASSAR Color Guard
END:VEVENT
END:VCALENDAR