BEGIN:VCALENDAR
VERSION:2.0
PRODID:-//Georgia Society, Sons of the American Revolution - ECPv6.15.20//NONSGML v1.0//EN
CALSCALE:GREGORIAN
METHOD:PUBLISH
X-ORIGINAL-URL:https://gasocietysar.org
X-WR-CALDESC:Events for Georgia Society, Sons of the American Revolution
REFRESH-INTERVAL;VALUE=DURATION:PT1H
X-Robots-Tag:noindex
X-PUBLISHED-TTL:PT1H
BEGIN:VTIMEZONE
TZID:America/New_York
BEGIN:DAYLIGHT
TZOFFSETFROM:-0500
TZOFFSETTO:-0400
TZNAME:EDT
DTSTART:20230312T070000
END:DAYLIGHT
BEGIN:STANDARD
TZOFFSETFROM:-0400
TZOFFSETTO:-0500
TZNAME:EST
DTSTART:20231105T060000
END:STANDARD
BEGIN:DAYLIGHT
TZOFFSETFROM:-0500
TZOFFSETTO:-0400
TZNAME:EDT
DTSTART:20240310T070000
END:DAYLIGHT
BEGIN:STANDARD
TZOFFSETFROM:-0400
TZOFFSETTO:-0500
TZNAME:EST
DTSTART:20241103T060000
END:STANDARD
BEGIN:DAYLIGHT
TZOFFSETFROM:-0500
TZOFFSETTO:-0400
TZNAME:EDT
DTSTART:20250309T070000
END:DAYLIGHT
BEGIN:STANDARD
TZOFFSETFROM:-0400
TZOFFSETTO:-0500
TZNAME:EST
DTSTART:20251102T060000
END:STANDARD
END:VTIMEZONE
BEGIN:VEVENT
DTSTART;TZID=America/New_York:20240608T100000
DTEND;TZID=America/New_York:20240608T113000
DTSTAMP:20260424T202243
CREATED:20240208T164454Z
LAST-MODIFIED:20240520T151907Z
UID:7655-1717840800-1717846200@gasocietysar.org
SUMMARY:Flag Retirement Ceremony
DESCRIPTION:Robert Forsyth & Piedmont Chapters will hold their Annual Flag Retirement at Ingram Funeral Home\, Cumming\, GA on \nSat. June 8\, 2024\,    10:00 A.M. \nbarring any terrible upsets. \nEmil Decker\, Compatriot \nDetails will be forthcoming
URL:https://gasocietysar.org/event/flag-retirement-ceremony-3/
LOCATION:Ingram Funeral Home\, 210 Ingram Avenue\, Cumming\, GA\, 30040\, United States
CATEGORIES:GASSAR Color Guard,Miscellaneous Events
END:VEVENT
BEGIN:VEVENT
DTSTART;TZID=America/New_York:20240615T100000
DTEND;TZID=America/New_York:20240615T120000
DTSTAMP:20260424T202243
CREATED:20240610T134643Z
LAST-MODIFIED:20240610T134643Z
UID:7793-1718445600-1718452800@gasocietysar.org
SUMMARY:Gwinnett County Flag Day - 10:00 AM
DESCRIPTION:Gwinnett County Flag Day \n“Celebrating America and Honoring our Flag”\n13th Annual National Flag Day Ceremony\nSaturday\, June 15th\, 2024\n10:00 a.m.\nVFW Post 5255\n368 Grayson Hwy\nLawrenceville\, GA 30046
URL:https://gasocietysar.org/event/gwinnett-county-flag-day-1000-am/
LOCATION:Lawrenceville VFW Post 5255\, 368 Grayson Hwy\, Lawrenceville\, GA\, 30046\, United States
CATEGORIES:GASSAR Color Guard
END:VEVENT
BEGIN:VEVENT
DTSTART;TZID=America/New_York:20240630T100000
DTEND;TZID=America/New_York:20240630T120000
DTSTAMP:20260424T202243
CREATED:20240223T155831Z
LAST-MODIFIED:20240617T200450Z
UID:7683-1719741600-1719748800@gasocietysar.org
SUMMARY:New Hope UMC Patriotic Sunday - Color Guard and Musket Firing - 10:00 AM
DESCRIPTION:Annual Patriotic Sunday \nTime: Sunday\, June 30\, 2024 at 10:00 AM \nLocation: New Hope United Methodist Church\, 4815 Dawsonville Highway\, Gainesville\, GA   30506 \nPresentation of Colors for start of service and a three round musket volley at end of the service.
URL:https://gasocietysar.org/event/new-hpe-umc-patriotic-sunday-color-guard-and-musket-firing-1000-am/
LOCATION:New Hope UMC\, 4815 Dawsonville Hwy\, Gainesville\, GA\, 30506\, United States
CATEGORIES:GASSAR Color Guard
END:VEVENT
BEGIN:VEVENT
DTSTART;TZID=America/New_York:20240630T160000
DTEND;TZID=America/New_York:20240630T170000
DTSTAMP:20260424T202243
CREATED:20240516T212424Z
LAST-MODIFIED:20240620T225441Z
UID:7763-1719763200-1719766800@gasocietysar.org
SUMMARY:Patriotic Concert - First Methodist Church Gainesville - 4:00 PM
DESCRIPTION:Presentation of Colors at the Gainesville First United Methodist Church for their Patriotic Celebration. \nTime: 4:00 PM – The church has requested – NO RIFLES/MUSKETS \nLocation: 2780 Thompson Road\, Gainesville\, GA   30506 \nFor those attending please contact Ed Rigel\, Sr at  – compatriotrigel “at” gmail “dot”com  \nand Commander Collins at – scottcollins1775 “at” gmail “dot” com \nPlan B – Continuing the tradition of Fellowship\, Food\, Fun\, and Flags.\nColor Guardsmen who will be participating in the presentation of Colors at the GFUMC Patriotic Celebration (Concert) are invited to a Pulled Pork Luncheon at Joan and Ed’s prior to the Concert.  There will be Award Winning Smoker Compatriot Tom Chamberlain’s smoked and pulled Pork Butt; not to be missed!  Ed’s Brunswick Stew\, Chips and Joan’s slaw (forgive her; she’s from North Carolina).  We should be able to start serving about 12:45 – 1:00; will need to leave for the church about 3:15.\nCome after church or wherever.  Spouses and family are invited.  Changing rooms provided.
URL:https://gasocietysar.org/event/patriotic-concert-first-methodist-church-gainesville-400-pm/
LOCATION:Gainesville First UMC\, 2780 Thompson Bridge Road\, Gainesville\, GA\, 30506\, United States
CATEGORIES:GASSAR Color Guard
END:VEVENT
END:VCALENDAR