BEGIN:VCALENDAR
VERSION:2.0
PRODID:-//Georgia Society, Sons of the American Revolution - ECPv6.15.20//NONSGML v1.0//EN
CALSCALE:GREGORIAN
METHOD:PUBLISH
X-WR-CALNAME:Georgia Society, Sons of the American Revolution
X-ORIGINAL-URL:https://gasocietysar.org
X-WR-CALDESC:Events for Georgia Society, Sons of the American Revolution
REFRESH-INTERVAL;VALUE=DURATION:PT1H
X-Robots-Tag:noindex
X-PUBLISHED-TTL:PT1H
BEGIN:VTIMEZONE
TZID:America/New_York
BEGIN:DAYLIGHT
TZOFFSETFROM:-0500
TZOFFSETTO:-0400
TZNAME:EDT
DTSTART:20230312T070000
END:DAYLIGHT
BEGIN:STANDARD
TZOFFSETFROM:-0400
TZOFFSETTO:-0500
TZNAME:EST
DTSTART:20231105T060000
END:STANDARD
BEGIN:DAYLIGHT
TZOFFSETFROM:-0500
TZOFFSETTO:-0400
TZNAME:EDT
DTSTART:20240310T070000
END:DAYLIGHT
BEGIN:STANDARD
TZOFFSETFROM:-0400
TZOFFSETTO:-0500
TZNAME:EST
DTSTART:20241103T060000
END:STANDARD
BEGIN:DAYLIGHT
TZOFFSETFROM:-0500
TZOFFSETTO:-0400
TZNAME:EDT
DTSTART:20250309T070000
END:DAYLIGHT
BEGIN:STANDARD
TZOFFSETFROM:-0400
TZOFFSETTO:-0500
TZNAME:EST
DTSTART:20251102T060000
END:STANDARD
END:VTIMEZONE
BEGIN:VEVENT
DTSTART;TZID=America/New_York:20240703T170000
DTEND;TZID=America/New_York:20240703T190000
DTSTAMP:20260424T213808
CREATED:20240520T152226Z
LAST-MODIFIED:20240520T152226Z
UID:7771-1720026000-1720033200@gasocietysar.org
SUMMARY:Freedom Fireworks - Flag Presentation - 6:00
DESCRIPTION:The Freedom Fireworks Committee would be honored to have the SAR Color Guard on hand for the flag raising at our event\, scheduled for Saturday July 2nd. \nThe event runs from 4 pm to 10 pm. \nThe flag raising typically is at 6 pm. \nDetailed timeline is pending but we’re building the event plan in the coming weeks. I’ll keep you in the loop as we finalize things. \nThank you for your participation\, looking forward to having your cadre back in town.
URL:https://gasocietysar.org/event/freedom-fireworks-flag-presentation-600/
LOCATION:Washington Georgia\, Washington\, GA\, United States
CATEGORIES:GASSAR Color Guard
END:VEVENT
BEGIN:VEVENT
DTSTART;TZID=America/New_York:20240704T163000
DTEND;TZID=America/New_York:20240704T203000
DTSTAMP:20260424T213808
CREATED:20240520T152538Z
LAST-MODIFIED:20240603T223508Z
UID:7773-1720110600-1720125000@gasocietysar.org
SUMMARY:Musket Salute at Atlanta Braves Game - 5:00 Report time
DESCRIPTION:Musket Salute at Atlanta Braves Game \nReport time is 5:00 PM \nGame time is 7:20 PM – \nMust use SignUpGenius to register and participate \nhttps://www.signupgenius.com/go/20F094CAAA92DABFD0-49969107-braves#/ \nEach participant MUST register SEPARATELY. \nPlease email liability forms to the color guard commander.
URL:https://gasocietysar.org/event/musket-salute-at-atlanta-braves-game-720-pm-details-forthcoming/
LOCATION:Truist Park\, 755 Battery Ave\, SE\, Atlanta\, GA\, 30339\, United States
CATEGORIES:GA Society Events,GASSAR Color Guard,National Events
END:VEVENT
BEGIN:VEVENT
DTSTART;TZID=America/New_York:20240727T100000
DTEND;TZID=America/New_York:20240727T130000
DTSTAMP:20260424T213808
CREATED:20240206T181420Z
LAST-MODIFIED:20240722T203426Z
UID:7456-1722074400-1722085200@gasocietysar.org
SUMMARY:ZOOM ONLY - Georgia Society SAR Board of Managers
DESCRIPTION:Due to a water leak at Pam’s Garden Patch\, they are unable to host our Board of Managers meeting on Saturday as originally planned.  In consultation with Electronic Communications Chair Rick Reese\, the BoM will be held ONLY by Zoom online platform.\nThe Zoom link will be sent out using Google Groups. \nThe login process will open at 9:45 AM \nMeeting ID: 892 1702 3243   Passcode: 787369 \nEd Rigel\, Jr. \n 
URL:https://gasocietysar.org/event/georgia-society-sar-board-of-managers-8/
LOCATION:Garden Patch Restaurant\, 100 Southland Drive\, Barnesville\, GA\, 30204\, United States
CATEGORIES:GA Society Events,GASSAR Color Guard
END:VEVENT
END:VCALENDAR