BEGIN:VCALENDAR
VERSION:2.0
PRODID:-//Georgia Society, Sons of the American Revolution - ECPv6.15.20//NONSGML v1.0//EN
CALSCALE:GREGORIAN
METHOD:PUBLISH
X-ORIGINAL-URL:https://gasocietysar.org
X-WR-CALDESC:Events for Georgia Society, Sons of the American Revolution
REFRESH-INTERVAL;VALUE=DURATION:PT1H
X-Robots-Tag:noindex
X-PUBLISHED-TTL:PT1H
BEGIN:VTIMEZONE
TZID:America/New_York
BEGIN:DAYLIGHT
TZOFFSETFROM:-0500
TZOFFSETTO:-0400
TZNAME:EDT
DTSTART:20230312T070000
END:DAYLIGHT
BEGIN:STANDARD
TZOFFSETFROM:-0400
TZOFFSETTO:-0500
TZNAME:EST
DTSTART:20231105T060000
END:STANDARD
BEGIN:DAYLIGHT
TZOFFSETFROM:-0500
TZOFFSETTO:-0400
TZNAME:EDT
DTSTART:20240310T070000
END:DAYLIGHT
BEGIN:STANDARD
TZOFFSETFROM:-0400
TZOFFSETTO:-0500
TZNAME:EST
DTSTART:20241103T060000
END:STANDARD
BEGIN:DAYLIGHT
TZOFFSETFROM:-0500
TZOFFSETTO:-0400
TZNAME:EDT
DTSTART:20250309T070000
END:DAYLIGHT
BEGIN:STANDARD
TZOFFSETFROM:-0400
TZOFFSETTO:-0500
TZNAME:EST
DTSTART:20251102T060000
END:STANDARD
END:VTIMEZONE
BEGIN:VEVENT
DTSTART;TZID=America/New_York:20240810T160000
DTEND;TZID=America/New_York:20240810T170000
DTSTAMP:20260424T190028
CREATED:20240806T153230Z
LAST-MODIFIED:20240806T161456Z
UID:8005-1723305600-1723309200@gasocietysar.org
SUMMARY:Flagpole Dedications - Marietta Country Club
DESCRIPTION:Flagpole Dedication \nWhen: Saturday\, 10 Aug 2024 at 4:00 PM \nWhere: Marietta Country Club\, 1400 Marietta Country Club Dr\, NW\, Kennesaw\, GA   30152 \nContact: Wayne Brown \nSafety Officer: Gordon Woodard\, Commander: Scott Collins \n 
URL:https://gasocietysar.org/event/flag-pole-dedications-marietta-country-club/
LOCATION:Marietta Country Club\, 1400 Marietta Country Club Dr NW\, Kennesaw\, GA\, 30152\, United States
CATEGORIES:GA Society Chapter Events,GASSAR Color Guard
END:VEVENT
END:VCALENDAR