BEGIN:VCALENDAR
VERSION:2.0
PRODID:-//Georgia Society, Sons of the American Revolution - ECPv6.15.20//NONSGML v1.0//EN
CALSCALE:GREGORIAN
METHOD:PUBLISH
X-WR-CALNAME:Georgia Society, Sons of the American Revolution
X-ORIGINAL-URL:https://gasocietysar.org
X-WR-CALDESC:Events for Georgia Society, Sons of the American Revolution
REFRESH-INTERVAL;VALUE=DURATION:PT1H
X-Robots-Tag:noindex
X-PUBLISHED-TTL:PT1H
BEGIN:VTIMEZONE
TZID:America/New_York
BEGIN:DAYLIGHT
TZOFFSETFROM:-0500
TZOFFSETTO:-0400
TZNAME:EDT
DTSTART:20230312T070000
END:DAYLIGHT
BEGIN:STANDARD
TZOFFSETFROM:-0400
TZOFFSETTO:-0500
TZNAME:EST
DTSTART:20231105T060000
END:STANDARD
BEGIN:DAYLIGHT
TZOFFSETFROM:-0500
TZOFFSETTO:-0400
TZNAME:EDT
DTSTART:20240310T070000
END:DAYLIGHT
BEGIN:STANDARD
TZOFFSETFROM:-0400
TZOFFSETTO:-0500
TZNAME:EST
DTSTART:20241103T060000
END:STANDARD
BEGIN:DAYLIGHT
TZOFFSETFROM:-0500
TZOFFSETTO:-0400
TZNAME:EDT
DTSTART:20250309T070000
END:DAYLIGHT
BEGIN:STANDARD
TZOFFSETFROM:-0400
TZOFFSETTO:-0500
TZNAME:EST
DTSTART:20251102T060000
END:STANDARD
END:VTIMEZONE
BEGIN:VEVENT
DTSTART;TZID=America/New_York:20241102T110000
DTEND;TZID=America/New_York:20241102T123000
DTSTAMP:20260424T104924
CREATED:20240805T200727Z
LAST-MODIFIED:20241104T000819Z
UID:8000-1730545200-1730550600@gasocietysar.org
SUMMARY:Double Patriot Grave Marking - 11:00 AM
DESCRIPTION:Patriot Grave Marker Dedication Ceremony honoring \nPatriot Isaac Brissell Horton (P-185099) (12 May 1763 – 28 Feb 1854) Marker GPS 34.107402\, -84.037024 \nand \nPatriot Enoch Benson (P-113496) (Dec 1756 – 1841) Marker GPS 34.107427\, -84.037015 \nWhen: Saturday\, November 2\, 2024 at 11:00 AM \nWhere: City of Sugar Hill Cemetery located across the street from the Sugar Hill City Hall\, 5039 west Broad Street\, Sugar Hill\, GA   30518 (Gwinnett County) \nSponsored by the Button Gwinnett Chapter Georgia Society SAR \nContact Don McCarty for further information. \n 
URL:https://gasocietysar.org/event/double-patriot-grave-marking/
LOCATION:Sugar Hill City Hall\, 5039 West Broad Street\, Sugar Hill\, GA\, 30518\, United States
CATEGORIES:GASSAR Color Guard,Grave Dedication
END:VEVENT
BEGIN:VEVENT
DTSTART;TZID=America/New_York:20241102T170000
DTEND;TZID=America/New_York:20241102T170000
DTSTAMP:20260424T104924
CREATED:20240702T151105Z
LAST-MODIFIED:20241009T220845Z
UID:7839-1730566800-1730566800@gasocietysar.org
SUMMARY:CANCELLED - Veterans Day program at the Shrine Temple in Atlanta
DESCRIPTION:
URL:https://gasocietysar.org/event/veterans-day-program-at-the-shrine-temple-in-atlanta/
LOCATION:GA
CATEGORIES:GASSAR Color Guard,Miscellaneous Events
END:VEVENT
BEGIN:VEVENT
DTSTART;TZID=America/New_York:20241103T133000
DTEND;TZID=America/New_York:20241103T143000
DTSTAMP:20260424T104924
CREATED:20240702T151930Z
LAST-MODIFIED:20240702T151930Z
UID:7844-1730640600-1730644200@gasocietysar.org
SUMMARY:NSDAR Bench Dedications - 1:30 PM - Color Guard Requested
DESCRIPTION:Event Details: The DAR will dedicate DAR Markers\, which will be placed on two marble benches. \nDate: Sunday\, November 3\, 2024 \nTime: 1:30 PM \nLocation: Mt Oglethorpe (Directions: Follow Rt. 136 to Burnt Mt. and turn south on Monument Road. Follow Monument Road past Deer Run/Big Canoe. The site will be on the left.) \n  \nIn DAR Service\, Suzanne W. Harman\, Regent Sequoyah Chapter NSDAR – 404-444-4451
URL:https://gasocietysar.org/event/nsdar-bench-dedications-130-pm-color-guard-requested/
LOCATION:GA
CATEGORIES:DAR Events,GASSAR Color Guard
END:VEVENT
BEGIN:VEVENT
DTSTART;TZID=America/New_York:20241111T150000
DTEND;TZID=America/New_York:20241111T170000
DTSTAMP:20260424T104924
CREATED:20240702T153915Z
LAST-MODIFIED:20240722T203546Z
UID:7853-1731337200-1731344400@gasocietysar.org
SUMMARY:Veterans Day - Snellville Veterans Memorial in Snellville\, GA
DESCRIPTION:Veterans’ Day program at the Snellville Veterans Memorial in Snellville\, GA \nColor Guard for flag presentation and retirement – normally have a three round volley. \nDetails will be forthcoming – Commander Bill Palmer will be in command at the event.
URL:https://gasocietysar.org/event/veterans-day-snellville-veterans-memorial-in-snellville-ga/
LOCATION:Snellville Veterans Memorial\, 2342 Oak Road SW\, Snellville\, GA\, 30078\, United States
CATEGORIES:GA Society Events,GASSAR Color Guard
END:VEVENT
BEGIN:VEVENT
DTSTART;TZID=America/New_York:20241116T110000
DTEND;TZID=America/New_York:20241116T120000
DTSTAMP:20260424T104924
CREATED:20240702T154421Z
LAST-MODIFIED:20240803T144355Z
UID:7855-1731754800-1731758400@gasocietysar.org
SUMMARY:NSDAR Historical Marker Dedication - 11:00 AM
DESCRIPTION:The John Benning Chapter NSDAR\, Moultrie\, requests the honor of the Georgia State Society Color Guard at the dedication of a historical marker honoring the namesake of our community\, Gen. William Moultrie\, a Revolutionary War hero. \nWe have tentatively set the date for Saturday\, November 16\, 2024\, contingent on confirmation of delivery date from the sign marker.  The event will be at 11:00 a.m. on at the Colquitt County Courthouse located on South Main Street. \nNancy Clark Coleman \nJohn Benning Chapter NSDAR Regent \nGeorgia State Society DAR State Chair\, Commemorative Events Committee\, President\, State Chairmen Club
URL:https://gasocietysar.org/event/nsdar-historical-marker-dedication-1100-am/
LOCATION:GA
CATEGORIES:DAR Events,GASSAR Color Guard
END:VEVENT
BEGIN:VEVENT
DTSTART;TZID=America/New_York:20241117T150000
DTEND;TZID=America/New_York:20241117T170000
DTSTAMP:20260424T104924
CREATED:20240928T133617Z
LAST-MODIFIED:20241001T132735Z
UID:8104-1731855600-1731862800@gasocietysar.org
SUMMARY:Grave Marking - Patriot Nathan Bowles (P-118682)
DESCRIPTION:The Lyman Hall Chapter\, The Robert Forsyth Chapter of the Georgia Society SAR and the James Pittman Chapter NSDAR request the honor of your presence at the dedication of the grave marker for Patriot Nathan Valentine Bowles (P-118682) a Patriot Solider of the Continental Line \nBirth: 1762     Death: 06 May 1833 \nWhen – Sunday\, 17 Nov 2024 at 3:00 PM \nWhere – Apple Valley Baptist Church\, 4640 Commerce Road (Georgia Route 15)\, Commerce\, GA   30529 \nGPS coordinates: 34.157063\, -83.511627 \n  \nIf you wish to present a wreath please register before Friday 15 Nov 2024\, via email to Brandy Pethel at \nJamesPittmanDAR@gmail.com \nProvide Name\, Chapter\, Position
URL:https://gasocietysar.org/event/grave-marking-patriot-nathan-bowles-p-118682/
LOCATION:Apple Valley Baptist Church\, 4640 Commerce Road\, Commerce\, GA\, 30529\, United States
CATEGORIES:GASSAR Color Guard,Grave Dedication
END:VEVENT
BEGIN:VEVENT
DTSTART;TZID=America/New_York:20241122T150000
DTEND;TZID=America/New_York:20241122T160000
DTSTAMP:20260424T104924
CREATED:20241023T203329Z
LAST-MODIFIED:20241130T145229Z
UID:8139-1732287600-1732291200@gasocietysar.org
SUMMARY:Four Patriot Grave marking - 3:00 PM - Townsend\, GA
DESCRIPTION:DISTRICT Event for Color Guard Reporting purposes \nSons of the American Revolution Georgia Society Marshes of Glynn Chapter\, Robert Forsyth Chapter\, Edward Telfair Chapter and Button Gwinnett Chapter \nInvites you to a Four Patriot Grave Marking \nFriday\, November 22\, 2024 \n3:00 pm (Day before the Siege of Ft. Morris “Come and take it”) \nContentment Bluff Plantation Cemetery – Camp Kicklighter Rd (Shellman Buff) – Townsend\, GA \n  \nHonoring \nJOHN CALDER – Hammond’s Reg of Light Dragoons\, SC Militia and GA Col Elijah Clarke – (Calder Cemetery) – P-127236 (GPS 31.5741400\, -81.3204300) \nJAMES GILLIGIANT\, Sr. – SC Army/Militia – P-165877 (GPS 31.5772570\, -81.3197120) \nLT.COL. JOHN COOPER – Ga Troops\, Commissioner of the Peace – P-138554 (GPS 31.5719000\, -81.3192000) \nCAPT JAMES NEPHEW – Served in the Col John Baker Regiment Liberty Co.\, GA\, GA Militia – P-255407 (GPS 31.5572220\, -81.3196800) \n  \nIf you would like to present a wreath\, provide your name\, chapter\, organization\, and position. \nContact: J. Steven Hinson (GA) • stevenhinson61@gmail.com • 912-258-2033
URL:https://gasocietysar.org/event/four-patriot-grave-marking-300-pm-townsend-ga/
LOCATION:GA
CATEGORIES:GASSAR Color Guard,Grave Dedication
END:VEVENT
BEGIN:VEVENT
DTSTART;TZID=America/New_York:20241123T100000
DTEND;TZID=America/New_York:20241123T120000
DTSTAMP:20260424T104924
CREATED:20240206T205438Z
LAST-MODIFIED:20240803T180653Z
UID:7523-1732356000-1732363200@gasocietysar.org
SUMMARY:National (GA) - Siege of Fort Morris - Come & Take It - 10:00
DESCRIPTION: 246th Anniversary of the “Come and Take” – Siege of Fort Morris\nSaturday\, November 23rd\, 2024 \n10:00 am \nFort Morris Historic Site – 2559 Fort Morris Road – Midway\, GA   31320 \nState Park Admission Fee per person is required.  \nThe fee for participating Color Guard compatriots will be taken care of for their service in the color guard – guest and other visitors will need to pay. \n  \nWreath Registration \nName of Wreath Presenter:                                                                                             \nOrganization: SAR\, DAR\, CAR (Please circle) other:                                                                      \nChapter/Society:                                                                                                                 \nPosition:                                                                                                                                            \nPresenter’s e-mail address:                                                                                             \nColor Guard:                                    Musket:                                  \nLoves Seafood #                         Sunbury Crab Co#                  (Limited Seating) \nPlease send the registration form in by November 18th\, 2024 to: Steven Hinson\, Marshes of Glynn Chapter – Email: stevenhinson61@gmail.com – 912-258-2033 \n*********************************************************** \nHOTEL RESERVATIONS \nHoliday Inn Express\, Richmond Hill (Newly Renovated) – 4601 US Highway 17 – Richmond Hill\, GA 31324 \n\nGROUP NAME: Sons of the American Revolution\nGROUP CODE:  IUD\nDATES:  November 23-24\, 2024\nRATE: $139 plus taxes per night (Nov 1 cutoff for the booked rate)\nCALL IN RESERVATIONS: 912-756-6668 – Reference the above information\nYou can make your reservations online through the following Link\n\nhttps://www.hiexpress.com/redirect?path=rates&brandCode=EX&localeCode=en&regionCode=1&hotelCode=SAVRH&checkInDate=22&checkInMonthYear=102024&checkOutDate=24&checkOutMonthYear=102024&_PMID=99801505&GPC=IUD&cn=no&viewfullsite=true \nOnce reservations are made you will have up to 24 hours prior to arrival to cancel the reservation. If you cancel less than 1 day prior to arrival\, you will be charged a 1-night cancellation fee. When making a reservation a valid credit card must be provided. Guests will be required to provide a credit card upon check In at the Hotel. \n*********************************************** \nFriday Evening Hospitality will be from 4:30 pm – 6:00 pm om the lobby Area in the Holiday Inn Express.  A time to meet and greet. \nFriday Evening Dinner Gathering:     7:00pm (DUTCH) \nLoves Seafood Restaurant – 6817 Chief of Love Rd – Savannah\, GA 31419 – (912) 925-3616 \nSaturday Lunch Will be at NOON (DUTCH) \nSunbury Crab Company – 541 Brigantine-Dunmore Road – Sunbury\, Georgia – (912)-884-8640 \nIf Waze etc. can’t find that address the use 539 Brigantine-Dunmore Rd\, then continue straight. \n 
URL:https://gasocietysar.org/event/national-ga-siege-of-fort-morris-come-take-it-1000/
LOCATION:Fort Morris Historic Site State Park\, 2559 fort Morris Road\, Midway\, GA\, 31320\, United States
CATEGORIES:GA Society Events,GASSAR Color Guard,Historic Sites & Celebrations,National Events
END:VEVENT
END:VCALENDAR