BEGIN:VCALENDAR
VERSION:2.0
PRODID:-//Georgia Society, Sons of the American Revolution - ECPv6.15.20//NONSGML v1.0//EN
CALSCALE:GREGORIAN
METHOD:PUBLISH
X-WR-CALNAME:Georgia Society, Sons of the American Revolution
X-ORIGINAL-URL:https://gasocietysar.org
X-WR-CALDESC:Events for Georgia Society, Sons of the American Revolution
REFRESH-INTERVAL;VALUE=DURATION:PT1H
X-Robots-Tag:noindex
X-PUBLISHED-TTL:PT1H
BEGIN:VTIMEZONE
TZID:America/New_York
BEGIN:DAYLIGHT
TZOFFSETFROM:-0500
TZOFFSETTO:-0400
TZNAME:EDT
DTSTART:20240310T070000
END:DAYLIGHT
BEGIN:STANDARD
TZOFFSETFROM:-0400
TZOFFSETTO:-0500
TZNAME:EST
DTSTART:20241103T060000
END:STANDARD
BEGIN:DAYLIGHT
TZOFFSETFROM:-0500
TZOFFSETTO:-0400
TZNAME:EDT
DTSTART:20250309T070000
END:DAYLIGHT
BEGIN:STANDARD
TZOFFSETFROM:-0400
TZOFFSETTO:-0500
TZNAME:EST
DTSTART:20251102T060000
END:STANDARD
BEGIN:DAYLIGHT
TZOFFSETFROM:-0500
TZOFFSETTO:-0400
TZNAME:EDT
DTSTART:20260308T070000
END:DAYLIGHT
BEGIN:STANDARD
TZOFFSETFROM:-0400
TZOFFSETTO:-0500
TZNAME:EST
DTSTART:20261101T060000
END:STANDARD
END:VTIMEZONE
BEGIN:VEVENT
DTSTART;TZID=America/New_York:20250131T120000
DTEND;TZID=America/New_York:20250201T150000
DTSTAMP:20260424T065354
CREATED:20240702T155923Z
LAST-MODIFIED:20240920T145009Z
UID:7860-1738324800-1738422000@gasocietysar.org
SUMMARY:Georgia Society SAR State Conference
DESCRIPTION:Save the date – details will be forthcoming\nHotel: Hilton Atlanta Northeast\, 5993 Peachtree Industrial Blvd\, Peachtree Corners\, GA 30092-3416\, U.S.A. \nBooking Link: https://www.hilton.com/en/book/reservation/deeplink/?ctyhocn=ATLHPHF&groupCode=90O&arrivaldate=2025-01-30&departuredate=2025-02-01&cid=OM\,WW\,HILTONLINK\,EN\,DirectLink&fromId=HILTONLINKDIRECT
URL:https://gasocietysar.org/event/georgia-society-sar-state-conference/
LOCATION:Hilton Atlanta northeast\, 5993 Peachtree Industrial Blvd\, Peachtree Corners\, GA\, 30092\, United States
CATEGORIES:GA Society Events,GASSAR Color Guard
END:VEVENT
BEGIN:VEVENT
DTSTART;TZID=America/New_York:20250207T120000
DTEND;TZID=America/New_York:20250207T163000
DTSTAMP:20260424T065354
CREATED:20240702T160419Z
LAST-MODIFIED:20241229T210621Z
UID:7863-1738929600-1738945800@gasocietysar.org
SUMMARY:Heroes of the Hornets Nest
DESCRIPTION:Friday – February 7\, 2025 \nElijah Clark State Park – 2959 McCormick Highway\, Lincolnton\, GA 30817 \n10:00 AM – Kick off at the restored cabin and Elijah Clark Museum with a variety of demonstrations on colonial lifestyle\, colonial attire\, a Traveling Trunk display\, and cannon and musket demonstrations.  Authors of new period books will be on hand for book signings. SAR Color Guard members will bring pomp and circumstance to the occasion. \n12:00 P.M. –  A free indoor chili cookout and dessert buffet at noon will be served compliments of the Elijah Clark State Park\, Lincoln County Historical Society\, Chapters Georgia Society SAR; Elijah Clarke Chapter NSDAR.  Noted local historian Mr. Des DeVos is the featured speaker. \n1:00 PM – Please arrive for Wreath Presentation Check-in. \n1:30 P.M. – Heroes of the Hornets’ Nest Wreath Ceremony at Elijah Clarke’s grave. Regional color guard and militia units will combine to bring pomp and circumstance to the occasion. \nPlease use the Friday Wreath Registration form.  \nThis is separate from the Saturday registration. \nPark entry fees will be waived for attendees. www.GaStateParks.org/ElijahClark \n  \n  \nFRIDAY WREATH REGRISTRATION \nRevolutionary Days – Heroes of the Hornets’ Nest Ceremony at Elijah Clark State Park – Lincolnton\, GA\nFriday\, February 7\, 2025 – 1:30 pm \nOrganization:\nName of Presenter:\nOffice or Title of Presenter:\nEmail Address:\nPhone: \nSubmit request to participate in the Wreath Presentation no later than January 31\, 2025\, to assure listing in the Ceremony Program. \nWilliam J. “Bill” Tankersley\, email: wjtank@comcast.net\nEmail preferred\nOr by regular mail to William J. Tankersley\, 2645 Louisville Road\, Appling\, GA 30802
URL:https://gasocietysar.org/event/heroes-of-the-hornets-nest-save-the-date/
LOCATION:Elijah Clark State Park\, 2959 McCormick Highway\, Lincolnton\, GA\, 30817\, United States
CATEGORIES:District Event,GA Society Events,GASSAR Color Guard,Historic Sites & Celebrations,National Events
END:VEVENT
BEGIN:VEVENT
DTSTART;TZID=America/New_York:20250207T170000
DTEND;TZID=America/New_York:20250207T210000
DTSTAMP:20260424T065354
CREATED:20240702T160538Z
LAST-MODIFIED:20241231T165736Z
UID:7865-1738947600-1738962000@gasocietysar.org
SUMMARY:Kettle Creek Battlefield Association - Annual Dinner
DESCRIPTION:The Kettle Creek Battlefield Association\nAnnual Banquet celebrating the “Battle of Kettle Creek” \nWhen: Friday\, February 7\, 2025 – Reception 5:00 PM – Dinner 6: 30 PM \nwhere: Washington Wilkes Country Club\, 300 Country Club Dr.\, Washington\, GA 30673 \nSpeaker: John T. Trussell – “Marquis de Lafayette American Tour 1824-1825” \n  \nDinner Cost $45.00 per individual  \nPlease make you check payable to the \nKettle Creek Battlefield Association \nMail to: PO BOX 729\, Washington\, GA 30673 \nPlease include your email address \nDinner reservation must be received by January 31\, 2025 \nFor questions contact: Walker Chewning – 678–409-4644 \nFNOTE: Those wishing to sit as a group or family please designate on your RSVP –Tables seat “6” and will be assigned by number.
URL:https://gasocietysar.org/event/kettle-creek-battlefield-association-annual-dinner/
LOCATION:GA
CATEGORIES:GASSAR Color Guard,Miscellaneous Events
END:VEVENT
BEGIN:VEVENT
DTSTART;TZID=America/New_York:20250208T090000
DTEND;TZID=America/New_York:20250208T170000
DTSTAMP:20260424T065354
CREATED:20240702T160826Z
LAST-MODIFIED:20251219T201300Z
UID:7867-1739005200-1739034000@gasocietysar.org
SUMMARY:National - (GA) - Commemoration of the Battle of Kettle Creek events in Washington\, GA
DESCRIPTION:Saturday Morning – February 8th\, 2025 \nA National Society SAR Historic Sites & Celebrations Committee Event Washington Square in Historic Downtown Washington\, GA 30673  \n9:50 A.M. – The Georgia Society SAR Elijah Clarke Militia Honor Guard with Musket Salutes will raise the 1776 Colors of the Revolutionary War on the Wilkes County Courthouse Flagpole. \n9:50 A.M. –12 Noon – Come experience Revolutionary Living History including demonstrations and performers.  Located just off the square in the Court Street Livery (16 W Court Street\, Washington\, GA) Look for the SAR Living History building signs. \n10:10 A.M. – The Georgia Society SAR combined Color Guard & Militia will gather at the Revolutionary War monument on the Washington City Square to Salute and Honor the Wilkes County Militia – (the Heroes of the Hornets’ Nest) and all Revolutionary War Patriots. \n10:30 A.M. – Color Guard and parade participants gather behind the Courthouse for the assembly of the Revolutionary War Parade — ALL the public (Children & Grownups) are welcome to participate in the event as our National Colors and re-enactors lead us around Washington Square. Parade STARTS at 10:45 A.M.  \n10:45 A.M. – The parade will start and will march two complete times around Washington Square and will end behind the courthouse at Fort Washington Park. \n11:15 A.M. – Georgia Society SAR Elijah Clarke Militia and other re-enactors with black-powder muskets will present a dramatic portrayal of the Battle of Kettle Creek in Fort Washington Park behind the Wilkes County Courthouse. \n12:00 P.M. – The Georgia Society SAR Color Guard–Elijah Clarke Militia and others\, will present arms and fire a thunderous musket salute as the Revolutionary War Colors are lowered and our Present-day National Colors are raised on the Wilkes County Courthouse Flag pole. \nA National Society SAR Historic Sites & Celebrations Event continues  \nKettle Creek Battlefield\, War Hill Road\, Washington\, GA 30673 \n2:30 P.M. – Pageantry at the Kettle Creek Battlefield includes\, Continental Army\, Georgia Militia\, Musket volley salutes\, Wreath Presentations\, SAR/DAR/CAR\, Hereditary Organizations\, Local\, State & National officials\, High School JROTC\, students and public\, place wreaths to honor the Heroes of the Hornets’ Nest — the Wilkes County Militia for their 1779 Victory at Kettle Creek. \nPlease see “Wreath Registration Form for Saturday” and send to Ed Rigel\, Jr. \nPlease use the SATURDAY Wreath Registration form. \nThis is separate from the Friday registration. \nIn the event of inclement weather this event will be held in the Washington-Wilkes Recreation \nDepartment Gym. Check for updates: \nhttps://gasocietysar.org/event/national-commemoration-of-the-battle-of-kettle-creek-events-in-washington-ga/ \n  \nSATURDAY WREATH REGRISTRATION  \nMemorial Ceremony \nSATURDAY\, February 8\,2025 at 2:30pm \nWar Hill Road\, Washington\, Wilkes County\, Georgia \nAll Societies and Chapters of the C.A.R.\, DAR\, SAR\, other hereditary Societies and patriotic or historical organizations are invited to attend.  Descendants and the public are especially welcome. \nSubmit request to participate in the Wreath Presentation no later than February 3\, 2025\, to assure listing in the Ceremony Program \nOrganization:                                                                                                                           \nName of Presenter:                                                                                                                  \nOffice or Title of Presenter:                                                                                                     \nEmail Address:                                                                                                                        \nPhone:                                                                                                                                      \nDue to rocky soil conditions and winds we do NOT use wreath stands at War Hill. \nMail to: Ed Rigel\, Jr.\, 1608 Indian Way\, Cumming\, GA  30040 \nor \nEmail: edrigel@gmail.com
URL:https://gasocietysar.org/event/national-commemoration-of-the-battle-of-kettle-creek-events-in-washington-ga/
LOCATION:Washington Georgia\, Washington\, GA\, United States
CATEGORIES:GA Society Events,GASSAR Color Guard,Historic Sites & Celebrations,National Events
END:VEVENT
BEGIN:VEVENT
DTSTART;TZID=America/New_York:20250222T140000
DTEND;TZID=America/New_York:20250222T150000
DTSTAMP:20260424T065354
CREATED:20250125T005443Z
LAST-MODIFIED:20250125T005855Z
UID:13160-1740232800-1740236400@gasocietysar.org
SUMMARY:National - George Washington Birthday Celebration - Gainesville\, GA
DESCRIPTION:Lyman Hall Chapter Georgia Society SAR and the Colonel William Candler Chapter National Society DAR \nInvite you to attend a ceremony celebrating the 293rd Anniversary of the Birth of President George Washington \nSaturday\, February 22nd\, 2025\, at 2:00 PM \nWashington Monument at the corner of Green and Washington Streets \n212 Washington Street\, Gainesville\, Georgia\, 30501 \nPlease RSVP by Wednesday February 19th to Sid Hughes at SidHughes@icloud.com \n********************************\nWreath Registration \nSubmit request for Wreath Presentation no later than February 19\, 2025.\nOrganization:\nName of Presenter:\nOffice or Title of Presenter:\nEmail Address:\nPhone: \nEmail: SidHughes@icloud.com \nEmail preferred  or Mail to: Sid Hughes\, 4118 Brands Ct.\, Braselton\, GA 30517-1537 \n****************************** \nFor the Color Guard this is considered a National Society SAR event.
URL:https://gasocietysar.org/event/george-washington-birthday-celebration-gainesville-ga/
LOCATION:Washington Monument Gainesville\, 121 E. E. Butler Parkway\, Gainesville\, GA\, 30501\, United States
CATEGORIES:DAR Events,GA Society Events,GASSAR Color Guard,National Events
END:VEVENT
END:VCALENDAR