BEGIN:VCALENDAR
VERSION:2.0
PRODID:-//Georgia Society, Sons of the American Revolution - ECPv6.15.20//NONSGML v1.0//EN
CALSCALE:GREGORIAN
METHOD:PUBLISH
X-WR-CALNAME:Georgia Society, Sons of the American Revolution
X-ORIGINAL-URL:https://gasocietysar.org
X-WR-CALDESC:Events for Georgia Society, Sons of the American Revolution
REFRESH-INTERVAL;VALUE=DURATION:PT1H
X-Robots-Tag:noindex
X-PUBLISHED-TTL:PT1H
BEGIN:VTIMEZONE
TZID:America/New_York
BEGIN:DAYLIGHT
TZOFFSETFROM:-0500
TZOFFSETTO:-0400
TZNAME:EDT
DTSTART:20240310T070000
END:DAYLIGHT
BEGIN:STANDARD
TZOFFSETFROM:-0400
TZOFFSETTO:-0500
TZNAME:EST
DTSTART:20241103T060000
END:STANDARD
BEGIN:DAYLIGHT
TZOFFSETFROM:-0500
TZOFFSETTO:-0400
TZNAME:EDT
DTSTART:20250309T070000
END:DAYLIGHT
BEGIN:STANDARD
TZOFFSETFROM:-0400
TZOFFSETTO:-0500
TZNAME:EST
DTSTART:20251102T060000
END:STANDARD
BEGIN:DAYLIGHT
TZOFFSETFROM:-0500
TZOFFSETTO:-0400
TZNAME:EDT
DTSTART:20260308T070000
END:DAYLIGHT
BEGIN:STANDARD
TZOFFSETFROM:-0400
TZOFFSETTO:-0500
TZNAME:EST
DTSTART:20261101T060000
END:STANDARD
END:VTIMEZONE
BEGIN:VEVENT
DTSTART;TZID=America/New_York:20250609T110000
DTEND;TZID=America/New_York:20250609T123000
DTSTAMP:20260424T012031
CREATED:20250203T192959Z
LAST-MODIFIED:20250517T144838Z
UID:15203-1749466800-1749472200@gasocietysar.org
SUMMARY:NSDAR - Chestatee River Chapter - America 250 Commemorative Marker Dedication
DESCRIPTION:NSDAR – Chestatee River Chapter – America 250 Commemorative Marker Dedication \nWhere: Cumming City Center at Lou Sobh Amphitheater were the Veteran’s Memorial and marker are located. \nWhen: Monday\, June 9\, 2025 at 11:00 AM \nEmil Decker – SAR contact
URL:https://gasocietysar.org/event/nsdar-chestatee-river-chapter-america-250-commemorative-marker-dedication/
LOCATION:GA
CATEGORIES:DAR Events,GASSAR Color Guard
END:VEVENT
BEGIN:VEVENT
DTSTART;TZID=America/New_York:20250614T100000
DTEND;TZID=America/New_York:20250614T110000
DTSTAMP:20260424T012031
CREATED:20250512T172705Z
LAST-MODIFIED:20250512T172705Z
UID:18006-1749895200-1749898800@gasocietysar.org
SUMMARY:Flag Day - Lawrenceville\, GA - 10:00 AM (National)
DESCRIPTION:Saturday\, June 14\, 2025 at 10:00 AM\nGwinnett Flag Day –  VFW Post 5255\n368 Grayson Highway\, Lawrenceville\, GA\n \nColor Guard and Musket Salute\n \nColor Guard activities on Flag Day are now considered to be a National event for Color Guard reporting purposes.
URL:https://gasocietysar.org/event/flag-day-lawrenceville-ga-1000-am-national/
LOCATION:Lawrenceville VFW Post 5255\, 368 Grayson Hwy\, Lawrenceville\, GA\, 30046\, United States
CATEGORIES:GASSAR Color Guard,National Events
END:VEVENT
BEGIN:VEVENT
DTSTART;TZID=America/New_York:20250614T100000
DTEND;TZID=America/New_York:20250614T110000
DTSTAMP:20260424T012031
CREATED:20250609T162702Z
LAST-MODIFIED:20250609T162702Z
UID:18123-1749895200-1749898800@gasocietysar.org
SUMMARY:Flag Retirement Ceremony - 10:00 AM
DESCRIPTION:Next Saturday morning on Flag Day there will be a Flag Retirement Ceremony at Ingrams Funeral Home in Cumming Georgia at 10:00 AM. \nTis is an annual event sponsored by the Sons of the American Revolution. \nThey have collected more than a thousand flags to be retired from several collection sites around the area\, \nYour presence at this very meaningful event is welcomed.
URL:https://gasocietysar.org/event/flag-retirement-ceremony-1000-am/
LOCATION:Ingram Funeral Home\, 210 Ingram Avenue\, Cumming\, GA\, 30040\, United States
CATEGORIES:GA Society Chapter Events,GASSAR Color Guard
END:VEVENT
BEGIN:VEVENT
DTSTART;TZID=America/New_York:20250618T120000
DTEND;TZID=America/New_York:20250618T130000
DTSTAMP:20260424T012031
CREATED:20250609T163741Z
LAST-MODIFIED:20250609T163803Z
UID:18125-1750248000-1750251600@gasocietysar.org
SUMMARY:NSDAR - Nancy Hart Statue Dedication - Noon - Hartwell
DESCRIPTION:The John Benson Chapter of the Georgia State Society NSDAR is inviting you to the dedication of the new Nancy Hart statue in Hartwell\, Georgia. \nThe event will be held on Wednesday\, June 18\, 2025\, on the Courthouse Square in Hartwell\, GA at Noon. \nThey have requested a color guard to present colors.   \nMuskets are allowed by there will NOT be any firing of volleys.
URL:https://gasocietysar.org/event/nsdar-nancy-hart-statue-dedication-noon-hartwell/
LOCATION:GA
CATEGORIES:GASSAR Color Guard
END:VEVENT
BEGIN:VEVENT
DTSTART;TZID=America/New_York:20250629T160000
DTEND;TZID=America/New_York:20250629T180000
DTSTAMP:20260424T012031
CREATED:20250520T154116Z
LAST-MODIFIED:20250520T221655Z
UID:18038-1751212800-1751220000@gasocietysar.org
SUMMARY:Patriotic Concert - First United Methodist - Gainesville\, GA - 4:00 PM
DESCRIPTION:You are invited to participate in the annual Gainesville First United Methodist Church Patriotic Concert at 4:00 PM Sunday 29 June. \n2780 Thompson Bridge Rd.\, Gainesville\, GA 30506\n \nThe Guard will present the Opening Colors and later in the program the flags of the Armed Forces during the Armed Forces Salute.\n \nFollowing the concert\, Guardsmen\, Spouses\, and Progeny are welcome to join the Senior Rigels for the now traditional BBQ meal at the Rigels 1504 Berkeley Ct\, Gainesville\, GA 30501.\n \nPlease let me know if you will be attending the Que that I might have a plate for you.\nYou know where to find me: 678-617-4331 Compatriotrigel@gmail.com\n\n \nColor Guard is asked to arrive by 3:15 for set up and rehearsal.
URL:https://gasocietysar.org/event/patriotic-concert-first-united-methodist-gainesville-ga-400-pm/
LOCATION:Gainesville First UMC\, 2780 Thompson Bridge Road\, Gainesville\, GA\, 30506\, United States
CATEGORIES:GASSAR Color Guard,National Events
END:VEVENT
END:VCALENDAR