BEGIN:VCALENDAR
VERSION:2.0
PRODID:-//Georgia Society, Sons of the American Revolution - ECPv6.15.20//NONSGML v1.0//EN
CALSCALE:GREGORIAN
METHOD:PUBLISH
X-WR-CALNAME:Georgia Society, Sons of the American Revolution
X-ORIGINAL-URL:https://gasocietysar.org
X-WR-CALDESC:Events for Georgia Society, Sons of the American Revolution
REFRESH-INTERVAL;VALUE=DURATION:PT1H
X-Robots-Tag:noindex
X-PUBLISHED-TTL:PT1H
BEGIN:VTIMEZONE
TZID:America/New_York
BEGIN:DAYLIGHT
TZOFFSETFROM:-0500
TZOFFSETTO:-0400
TZNAME:EDT
DTSTART:20240310T070000
END:DAYLIGHT
BEGIN:STANDARD
TZOFFSETFROM:-0400
TZOFFSETTO:-0500
TZNAME:EST
DTSTART:20241103T060000
END:STANDARD
BEGIN:DAYLIGHT
TZOFFSETFROM:-0500
TZOFFSETTO:-0400
TZNAME:EDT
DTSTART:20250309T070000
END:DAYLIGHT
BEGIN:STANDARD
TZOFFSETFROM:-0400
TZOFFSETTO:-0500
TZNAME:EST
DTSTART:20251102T060000
END:STANDARD
BEGIN:DAYLIGHT
TZOFFSETFROM:-0500
TZOFFSETTO:-0400
TZNAME:EDT
DTSTART:20260308T070000
END:DAYLIGHT
BEGIN:STANDARD
TZOFFSETFROM:-0400
TZOFFSETTO:-0500
TZNAME:EST
DTSTART:20261101T060000
END:STANDARD
END:VTIMEZONE
BEGIN:VEVENT
DTSTART;TZID=America/New_York:20250704T150000
DTEND;TZID=America/New_York:20250704T203000
DTSTAMP:20260423T234547
CREATED:20250520T222237Z
LAST-MODIFIED:20250603T231309Z
UID:18045-1751641200-1751661000@gasocietysar.org
SUMMARY:Atlanta Braves Game - Musket Firing - 13 Flintlocks
DESCRIPTION:Musket Firing – Atlanta Braves Game – Independence Day\nhttps://www.signupgenius.com/go/20F094CAAA92DABFD0-57184287-braves\n \nWe will once again participate in firing muskets for the Atlanta Braves Game opening ceremonies on Independence Day.  \nThe Game is scheduled to start at 7:15 PM.  Muster time should be in the late afternoon – Probably around 5:00.\n \nAll details are still being worked on with the Atlanta Braves and will be updated as they are known.\n \nWe need exactly 13 muskets/rifles for the event.\n \nIF YOU WANT TO PARTICIPATE YOU MUST USE THE SIGN UP GENIUS LINK CONTAINED IN THIS EMAIL.  \nDO NOT PUT MORE THAN ONE NAME IN ONE SLOT.\n \nCopy and paste the link into a web browser. \n \nhttps://www.signupgenius.com/go/20F094CAAA92DABFD0-57184287-braves\n \n \n 
URL:https://gasocietysar.org/event/atlanta-braves-game-musket-firing-13-flntlocks/
LOCATION:Truist Park\, 755 Battery Ave\, SE\, Atlanta\, GA\, 30339\, United States
CATEGORIES:GASSAR Color Guard,National Events
END:VEVENT
END:VCALENDAR