BEGIN:VCALENDAR
VERSION:2.0
PRODID:-//Georgia Society, Sons of the American Revolution - ECPv6.15.20//NONSGML v1.0//EN
CALSCALE:GREGORIAN
METHOD:PUBLISH
X-ORIGINAL-URL:https://gasocietysar.org
X-WR-CALDESC:Events for Georgia Society, Sons of the American Revolution
REFRESH-INTERVAL;VALUE=DURATION:PT1H
X-Robots-Tag:noindex
X-PUBLISHED-TTL:PT1H
BEGIN:VTIMEZONE
TZID:America/New_York
BEGIN:DAYLIGHT
TZOFFSETFROM:-0500
TZOFFSETTO:-0400
TZNAME:EDT
DTSTART:20220313T070000
END:DAYLIGHT
BEGIN:STANDARD
TZOFFSETFROM:-0400
TZOFFSETTO:-0500
TZNAME:EST
DTSTART:20221106T060000
END:STANDARD
BEGIN:DAYLIGHT
TZOFFSETFROM:-0500
TZOFFSETTO:-0400
TZNAME:EDT
DTSTART:20230312T070000
END:DAYLIGHT
BEGIN:STANDARD
TZOFFSETFROM:-0400
TZOFFSETTO:-0500
TZNAME:EST
DTSTART:20231105T060000
END:STANDARD
BEGIN:DAYLIGHT
TZOFFSETFROM:-0500
TZOFFSETTO:-0400
TZNAME:EDT
DTSTART:20240310T070000
END:DAYLIGHT
BEGIN:STANDARD
TZOFFSETFROM:-0400
TZOFFSETTO:-0500
TZNAME:EST
DTSTART:20241103T060000
END:STANDARD
END:VTIMEZONE
BEGIN:VEVENT
DTSTART;TZID=America/New_York:20230805T110000
DTEND;TZID=America/New_York:20230805T123000
DTSTAMP:20260425T223131
CREATED:20230619T214818Z
LAST-MODIFIED:20230708T193819Z
UID:6972-1691233200-1691238600@gasocietysar.org
SUMMARY:Compatriot Grave Marking - Curtis McWaters - 11:00 AM
DESCRIPTION:The Captain John Collins Chapter\, Athens Chapter and Button Gwinnett Chapter of the Georgia Society Sons of the American Revolution \nRequest the honor of your presence at the dedication of a grave marker honoring the service of  \nCompatriot Curtis Eugene McWaters \nSaturday\, August 5\, 2023\, 11:00 AM  \nGeorgia Memorial Park Funeral Home & Cemetery located at 2000 Cobb Parkway SE\, Marietta\, GA  30060 \nGPS Coordinates: 33.904636\, -84.4903556. \n  \nSeating Will Be Limited\, Please Consider Bringing A Chair For Your Comfort.   \nIf you plan to lay a wreath\, please contact: Earl Cagle\, Sr.  \n                                    Email: ecagle1@bellsouth.net \nOrganization\, Presenter’s Name\, Presenter’s Title\, Phone Number\, Email address\, street address. \n Deadline to R.S.V.P.\, July 31\, 2023
URL:https://gasocietysar.org/event/compatriot-grave-marking-curtis-mcwaters-1100-am/
CATEGORIES:GASSAR Color Guard,Grave Dedication
END:VEVENT
BEGIN:VEVENT
DTSTART;TZID=America/New_York:20230826T103000
DTEND;TZID=America/New_York:20230826T120000
DTSTAMP:20260425T223131
CREATED:20230619T215253Z
LAST-MODIFIED:20230703T182959Z
UID:6974-1693045800-1693051200@gasocietysar.org
SUMMARY:Patriot Grave marking - James and William Dysart - 10:30 AM
DESCRIPTION:The Robert Forsyth Chapter\, Georgia Society Sons of the American Revolution\, invites you to attend the dedication of two grave markers commemorating the service of patriot soldiers\, father and son: \nJames DYSART   P-152144 &  William DYSART    P-152149 \n  \nSaturday\, August 26\, 2023\, at 10:30 A.M. \nPine Log UMC Cemetery & Campground Pavilion\, 3497 Pine Log Rd NE\, Rydal\, GA 30171 \nDirections:  From Atlanta\, GA: North on I-75 to Hwy 411\, turn North\, 9 Miles\, Left on Pine Log Rd\, under the railroad tracks\, Church on the right \n(Please note that this is the Marker GPS 34.349247 N\, – 84.724995 W) \n  \nPlease R.S.V.P. by 10 August 2023 if you Plan to lay a wreath or participate in Color Guard / Militia. \nPlease send registration to David Johnson\, 4725 Connie Mara\, Suwanee\, GA 30024 or Email: davidj0613@gmail.com  \nPhone 770 – 344 – 8375 \n  \nRegistration information: \nChapter\, Contact Person\, Address\, Phone\, Email\, Presenter(s) Name
URL:https://gasocietysar.org/event/patriot-grave-marking-details-to-be-announced/
CATEGORIES:GA Society Events,GASSAR Color Guard,Grave Dedication
END:VEVENT
END:VCALENDAR