BEGIN:VCALENDAR
VERSION:2.0
PRODID:-//Georgia Society, Sons of the American Revolution - ECPv6.15.20//NONSGML v1.0//EN
CALSCALE:GREGORIAN
METHOD:PUBLISH
X-WR-CALNAME:Georgia Society, Sons of the American Revolution
X-ORIGINAL-URL:https://gasocietysar.org
X-WR-CALDESC:Events for Georgia Society, Sons of the American Revolution
REFRESH-INTERVAL;VALUE=DURATION:PT1H
X-Robots-Tag:noindex
X-PUBLISHED-TTL:PT1H
BEGIN:VTIMEZONE
TZID:America/New_York
BEGIN:DAYLIGHT
TZOFFSETFROM:-0500
TZOFFSETTO:-0400
TZNAME:EDT
DTSTART:20220313T070000
END:DAYLIGHT
BEGIN:STANDARD
TZOFFSETFROM:-0400
TZOFFSETTO:-0500
TZNAME:EST
DTSTART:20221106T060000
END:STANDARD
BEGIN:DAYLIGHT
TZOFFSETFROM:-0500
TZOFFSETTO:-0400
TZNAME:EDT
DTSTART:20230312T070000
END:DAYLIGHT
BEGIN:STANDARD
TZOFFSETFROM:-0400
TZOFFSETTO:-0500
TZNAME:EST
DTSTART:20231105T060000
END:STANDARD
BEGIN:DAYLIGHT
TZOFFSETFROM:-0500
TZOFFSETTO:-0400
TZNAME:EDT
DTSTART:20240310T070000
END:DAYLIGHT
BEGIN:STANDARD
TZOFFSETFROM:-0400
TZOFFSETTO:-0500
TZNAME:EST
DTSTART:20241103T060000
END:STANDARD
END:VTIMEZONE
BEGIN:VEVENT
DTSTART;TZID=America/New_York:20231001T100000
DTEND;TZID=America/New_York:20231001T110000
DTSTAMP:20260425T193356
CREATED:20230619T221142Z
LAST-MODIFIED:20230910T193055Z
UID:6981-1696154400-1696158000@gasocietysar.org
SUMMARY:Compatriot Grave Marking - Larry Guest
DESCRIPTION:The Athens Chapter\nGeorgia Society \nSons of the American Revolution \nAnd \nThe Elijah Clarke Chapter\nNational Society \nDaughters of the American Revolution \nRequests the honor of your presence at the dedication of the grave marker \nFor Compatriot Larry David Guest \nIn Winterville\, GA\,\n10 AM\, Sunday\, October 1\, 2023\nWinterville Cemetery\nParkview Road\nWinterville\, Georgia 30683 \nPlease R.S.V.P. Before Friday\, September 22\, 2023\nIf you plan to lay a wreath\, contact \nBilly Galt\nbillyg1030@gmail.com\n706-424-6086 \nProvide Name\, Chapter\, Position \nPlease see page two for directions \nDirections:\nWinterville Cemetery \nFrom Athens loop: Take exit 8 and go East on Lexington Road. Go to Lowes\nHome Improvement Store and take a left on Cherokee Rd. Stay on Cherokee Rd.\nuntil you get to Winterville. Take a right on Athens Rd. and then an immediate\nright on N. Main St. Follow Main St. just past the old train station and take a left\non Parkview Rd. You’ll pass Pittard Park on the left. The Winterville Cemetery is \nabout ¼ mile down on the left.\nGPS coordinates 33°58&#39;09&quot; N 83°16&#39;24&quot;W \nA Barbeque luncheon will be provided at the Pittard Park Pavilion following the Ceremony\nBarbeque provided by Compatriot Jay Guest and deserts and drinks provided by \nThe Elijah Clarke Chapter\, National Society of the\nDaughters of the American Revolution
URL:https://gasocietysar.org/event/compatriot-grave-marking-larry-guest-100-pm-tba/
LOCATION:Winterville Cemetery\, Parkview Road\, Winterville\, Georgia\, 30683
CATEGORIES:GASSAR Color Guard,Grave Dedication
END:VEVENT
BEGIN:VEVENT
DTSTART;TZID=America/New_York:20231021T140000
DTEND;TZID=America/New_York:20231021T153000
DTSTAMP:20260425T193356
CREATED:20230529T201037Z
LAST-MODIFIED:20231003T150327Z
UID:6951-1697896800-1697902200@gasocietysar.org
SUMMARY:Grave Marking - Patriots John Bagby and Patriot Philip Isley - 2:00 PM
DESCRIPTION:Double Grave Marker Dedication Ceremony for Patriot John Bagby (P-106531) and Patriot Philip Isley (P-189998)\, who both fought at the 1781 battle of Guilford Courthouse in Greensboro\, NC. \nSaturday\, October 21\, 2023 at 2:00 PM \nFairview Presbyterian Church Cemetery\, 857 Duluth Highway\, Lawrenceville\, GA   30043 \n33.5806\, -84.0116 \nSponsored by the Button Gwinnett Chapter\, Blue Ridge Mountains Chapter\, and Robert Forsyth Chapter of the Georgia Society SAR. \nPlease contact Don McCarty at donald_mccarty “at” bellsouth “dot” net by October 14\, 2023 to register a wreath. – Provide Presenter’s name\, organization and position title.
URL:https://gasocietysar.org/event/grave-marking-patriots-john-bagby-and-patriot-philip-isley-200-pm/
CATEGORIES:GA Society Events,Grave Dedication
END:VEVENT
END:VCALENDAR