BEGIN:VCALENDAR
VERSION:2.0
PRODID:-//Georgia Society, Sons of the American Revolution - ECPv6.15.20//NONSGML v1.0//EN
CALSCALE:GREGORIAN
METHOD:PUBLISH
X-WR-CALNAME:Georgia Society, Sons of the American Revolution
X-ORIGINAL-URL:https://gasocietysar.org
X-WR-CALDESC:Events for Georgia Society, Sons of the American Revolution
REFRESH-INTERVAL;VALUE=DURATION:PT1H
X-Robots-Tag:noindex
X-PUBLISHED-TTL:PT1H
BEGIN:VTIMEZONE
TZID:America/New_York
BEGIN:DAYLIGHT
TZOFFSETFROM:-0500
TZOFFSETTO:-0400
TZNAME:EDT
DTSTART:20230312T070000
END:DAYLIGHT
BEGIN:STANDARD
TZOFFSETFROM:-0400
TZOFFSETTO:-0500
TZNAME:EST
DTSTART:20231105T060000
END:STANDARD
BEGIN:DAYLIGHT
TZOFFSETFROM:-0500
TZOFFSETTO:-0400
TZNAME:EDT
DTSTART:20240310T070000
END:DAYLIGHT
BEGIN:STANDARD
TZOFFSETFROM:-0400
TZOFFSETTO:-0500
TZNAME:EST
DTSTART:20241103T060000
END:STANDARD
BEGIN:DAYLIGHT
TZOFFSETFROM:-0500
TZOFFSETTO:-0400
TZNAME:EDT
DTSTART:20250309T070000
END:DAYLIGHT
BEGIN:STANDARD
TZOFFSETFROM:-0400
TZOFFSETTO:-0500
TZNAME:EST
DTSTART:20251102T060000
END:STANDARD
END:VTIMEZONE
BEGIN:VEVENT
DTSTART;TZID=America/New_York:20240817T100000
DTEND;TZID=America/New_York:20240817T120000
DTSTAMP:20260424T202158
CREATED:20240206T200457Z
LAST-MODIFIED:20240206T200457Z
UID:7502-1723888800-1723896000@gasocietysar.org
SUMMARY:National (KY) - Battle of Blue Licks Memorial Service
DESCRIPTION:The Gov. Isaac Shelby Chapter Kentucky Society Sons of the American Revolution invites you to attend the Memorial Service for the 242nd Anniversary of the Battle of Blue Licks\nTIME: Saturday\, 17 August\, 2024 @ 10 a.m. EDT\nLOCATION: Blue Licks Battlefield State Park\, 10299 Maysville Road\, Carlisle\, KY \n(Color Guard muster at 9:00 a.m.)\nContact Scott Giltner – stgilt@earthlink.net to register. \nThis event normally has a five patriot grave marking ceremony included in it. \nJoin us in this National Color Guard event by presenting a wreath\, carrying your state flag or participating in the flintlock gun salute.
URL:https://gasocietysar.org/event/national-ky-battle-of-blue-licks-memorial-service/
CATEGORIES:Grave Dedication,National Events
END:VEVENT
BEGIN:VEVENT
DTSTART;TZID=America/New_York:20240818T083000
DTEND;TZID=America/New_York:20240818T093000
DTSTAMP:20260424T202158
CREATED:20240206T200804Z
LAST-MODIFIED:20240810T144038Z
UID:7504-1723969800-1723973400@gasocietysar.org
SUMMARY:(KY) - Five Patriot Grave marker Dedication Ceremony - Lexington\, KY - 8:30 AM
DESCRIPTION:PATRIOT GRAVE MARKING SERVICE \n In Honor Of Five REVOLUTIONARY WAR PATRIOTS Sponsored by Lafayette Chapter – KYSSAR \n Sunday Aug 18\, 2024 – Muster 8:30 a.m. – Service 9:30 a.m. \n Bethel Presbyterian Church Cemetery – 4620 Bethel Rd. Lexington\, KY 40511  \n(38.130542\, -84.584821) \nFor questions and/or information\, contact Patrick Wesolosky. ( 65moots@gmail.com ) \nFor SAR/FFK/DAR/C.A.R./DVF Wreath Presentation Registration and/or Color Guard/Flintlock Registration\, register here: \nhttps://forms.gle/87oAm316Lbkd8nDYA \nby 08/11/24 to be in the program.
URL:https://gasocietysar.org/event/ky-five-patriot-grave-marker-dedication-ceremony-lexington-ky/
CATEGORIES:Grave Dedication
END:VEVENT
BEGIN:VEVENT
DTSTART;TZID=America/New_York:20240823T163000
DTEND;TZID=America/New_York:20240823T180000
DTSTAMP:20260424T202158
CREATED:20240702T141025Z
LAST-MODIFIED:20240702T141053Z
UID:7807-1724430600-1724436000@gasocietysar.org
SUMMARY:Grave Markings (NC) as part of the 250th Anniversary of the New Bern Resolves
DESCRIPTION:250th New Bern Resolves \nThe SAR New Bern Chapter\, DAR Richard Dobbs Spaight Chapter\, the North Carolina History Center and Tryon Palace Historic Site\, St. Johns Masonic Lodge #3\, the National Sojourners\, Valley of New Bern Scottish Rite\, and New Bern York Rite will host a ceremony in remembrance of the 71 Delegates and Resolves of America’s First Provincial Congress held in New Bern during 25-27 August 1774. \nThe event will be in person on: \nFriday\, 23 August 2024: \nFive (5) Patriot Grave Markings at Christ Episcopal Church\, 309 Middle Street\, New Bern NC\, 28560 \n4:30pm: Color Guard Line-up on. Sidewalk just below at Patriot’s Corner on Middle Street. \n5:00-6:00pm: Grave Marking Ceremony\, Colonial Chapel area\, Christ Episcopal Church\, 320 Pollock St\, New Bern\, NC 28560 \n6:00 pm Catered Buffet Supper – Harrison Center\, 311 Middle Street\, New Bern\, 28560 (Ticket purchase required for catered buffet) \nhttps://forms.gle/oM1SNtWFxRWa9HCv6 \nIf you have any questions\, please contact us at: newbernresolves@gmail.com
URL:https://gasocietysar.org/event/grave-markings-nc-as-part-of-the-250th-anniversary-of-the-new-bern-resolves/
LOCATION:Christ EpiscopalChurch\, 309 Middle Street\, New Bern\, NC\, 28560\, United States
CATEGORIES:Grave Dedication
END:VEVENT
END:VCALENDAR