BEGIN:VCALENDAR
VERSION:2.0
PRODID:-//Georgia Society, Sons of the American Revolution - ECPv6.15.20//NONSGML v1.0//EN
CALSCALE:GREGORIAN
METHOD:PUBLISH
X-ORIGINAL-URL:https://gasocietysar.org
X-WR-CALDESC:Events for Georgia Society, Sons of the American Revolution
REFRESH-INTERVAL;VALUE=DURATION:PT1H
X-Robots-Tag:noindex
X-PUBLISHED-TTL:PT1H
BEGIN:VTIMEZONE
TZID:America/New_York
BEGIN:DAYLIGHT
TZOFFSETFROM:-0500
TZOFFSETTO:-0400
TZNAME:EDT
DTSTART:20250309T070000
END:DAYLIGHT
BEGIN:STANDARD
TZOFFSETFROM:-0400
TZOFFSETTO:-0500
TZNAME:EST
DTSTART:20251102T060000
END:STANDARD
BEGIN:DAYLIGHT
TZOFFSETFROM:-0500
TZOFFSETTO:-0400
TZNAME:EDT
DTSTART:20260308T070000
END:DAYLIGHT
BEGIN:STANDARD
TZOFFSETFROM:-0400
TZOFFSETTO:-0500
TZNAME:EST
DTSTART:20261101T060000
END:STANDARD
BEGIN:DAYLIGHT
TZOFFSETFROM:-0500
TZOFFSETTO:-0400
TZNAME:EDT
DTSTART:20270314T070000
END:DAYLIGHT
BEGIN:STANDARD
TZOFFSETFROM:-0400
TZOFFSETTO:-0500
TZNAME:EST
DTSTART:20271107T060000
END:STANDARD
END:VTIMEZONE
BEGIN:VEVENT
DTSTART;TZID=America/New_York:20260516T130000
DTEND;TZID=America/New_York:20260516T140000
DTSTAMP:20260423T130039
CREATED:20260125T202412Z
LAST-MODIFIED:20260125T233623Z
UID:19943-1778936400-1778940000@gasocietysar.org
SUMMARY:Patriot Enoch Smith Grave Marker Dedication - Ellijay at 1:00 PM
DESCRIPTION:WHAT/WHO:  Single Patriot Enoch Smith grave marking jointly co-sponsor Blue Ridge Mountains (BRM) Chapter SAR with Capt. James Kell (CJK) Chapter DAR \nWHERE: This will be at Macedonia Baptist Church\, 6568 Big Creek Road\, Ellijay\, GA   30536 at 1:00 PM \nHOW:  The DAR have determined that the grave is lost to time but will place a plaque on a pole in the cemetery with the dedication.  SAR will mark with our traditional granite plaque at its foot. \n  \nOther details forthcoming. 
URL:https://gasocietysar.org/event/patriot-enoch-smith-grave-marker-dedication/
CATEGORIES:DAR Events,GASSAR Color Guard,Grave Dedication
END:VEVENT
BEGIN:VEVENT
DTSTART;TZID=America/New_York:20260523T110000
DTEND;TZID=America/New_York:20260523T120000
DTSTAMP:20260423T130039
CREATED:20260315T133909Z
LAST-MODIFIED:20260315T133909Z
UID:21448-1779534000-1779537600@gasocietysar.org
SUMMARY:Grave Marking - Patrito Thomas A Hinesley
DESCRIPTION:Casimir Pulaski Chapter Georgia Society SAR invites you to a Grave Marker Dedciation Ceremony for Patriot Thomas A Hinesley (P-182083) \nDate: 23 May 2026 \nTime: 11:00 AM \nLocation: Carroll County Veterans Memorial Park – 1050 Newman Road  – Carrollton\, Georgia 30116 \nContact Jim Swinson for more details – jgswinson@yahoo.com – 770-658-4976
URL:https://gasocietysar.org/event/grave-marking-patrito-thomas-a-hinesley/
LOCATION:Carroll County Veterans Memorial Park\, 1050 newman Road\, Carrollton\, GA\, 30116\, United States
CATEGORIES:GASSAR Color Guard,Grave Dedication
END:VEVENT
END:VCALENDAR