BEGIN:VCALENDAR
VERSION:2.0
PRODID:-//Georgia Society, Sons of the American Revolution - ECPv6.15.20//NONSGML v1.0//EN
CALSCALE:GREGORIAN
METHOD:PUBLISH
X-ORIGINAL-URL:https://gasocietysar.org
X-WR-CALDESC:Events for Georgia Society, Sons of the American Revolution
REFRESH-INTERVAL;VALUE=DURATION:PT1H
X-Robots-Tag:noindex
X-PUBLISHED-TTL:PT1H
BEGIN:VTIMEZONE
TZID:America/New_York
BEGIN:DAYLIGHT
TZOFFSETFROM:-0500
TZOFFSETTO:-0400
TZNAME:EDT
DTSTART:20220313T070000
END:DAYLIGHT
BEGIN:STANDARD
TZOFFSETFROM:-0400
TZOFFSETTO:-0500
TZNAME:EST
DTSTART:20221106T060000
END:STANDARD
BEGIN:DAYLIGHT
TZOFFSETFROM:-0500
TZOFFSETTO:-0400
TZNAME:EDT
DTSTART:20230312T070000
END:DAYLIGHT
BEGIN:STANDARD
TZOFFSETFROM:-0400
TZOFFSETTO:-0500
TZNAME:EST
DTSTART:20231105T060000
END:STANDARD
BEGIN:DAYLIGHT
TZOFFSETFROM:-0500
TZOFFSETTO:-0400
TZNAME:EDT
DTSTART:20240310T070000
END:DAYLIGHT
BEGIN:STANDARD
TZOFFSETFROM:-0400
TZOFFSETTO:-0500
TZNAME:EST
DTSTART:20241103T060000
END:STANDARD
END:VTIMEZONE
BEGIN:VEVENT
DTSTART;TZID=America/New_York:20231104T110000
DTEND;TZID=America/New_York:20231104T123000
DTSTAMP:20260425T163052
CREATED:20230202T151732Z
LAST-MODIFIED:20230202T162325Z
UID:6802-1699095600-1699101000@gasocietysar.org
SUMMARY:Grave marking for Patriot Captain Jacob Higginbotham
DESCRIPTION:Grave marking for Patriot Captain Jacob Higginbotham – PRS P-181019 \nSaturday. November 4\, 2023 at 11:00 AM \nThe Samuel Elbert Chapter GASSAR\, and Stephen Heard NSDAR Chapter invite the GASSAR\, NSDAR\, and family descendants to attend a Revolutionary War Grave Marking Ceremony. On November 4\, 2023 at 11:00 a.m. Patriot Jacob Higginbotham. \n  \nInformation for the Higginbotham Ceremony. \nDirections from Downtown Elberton: (Intersection of Highway 17 aka College Avenue and Highway 77 aka N Oliver Street to the Jacob Higginbotham Grave) Go North on College Avenue / Highway 77 approx. 7.2 miles\, turn left on Centerville Road\, right beside Elbert Co. Fire Dept. Station 6. Centerville Rd. will change to Cunningham Rd. and the grave is approximately 4/10 miles from the Fire Department. \n911 address approx. is 2367 Cunningham Rd. Elberton\, GA 30635. \nGPS 34.207224 / -82.898806. \nWe will have SAR signs at Centerville Rd.\, Cunningham Rd and the cemetery. \nNote: Send this reservation to Attention: Russell Terrell 706-491-2714 or rbterrell58@gmail.com \nPlease bring your own chair. The grave is in an open field. \n  \nWreath Presenters Register by October 31\, 2023\, 2023 to be printed in the program. \nDescendants – RSVP your attendance to be recognized during the ceremony. \nNote: Send this reservation to Attention: Russell Terrell 706-491-2714 or rbterrell58@gmail.com
URL:https://gasocietysar.org/event/grave-marking-for-patriot-captain-jacob-higginbotham/
CATEGORIES:DAR Events,GASSAR Color Guard,Grave Dedication
END:VEVENT
END:VCALENDAR