BEGIN:VCALENDAR
VERSION:2.0
PRODID:-//Georgia Society, Sons of the American Revolution - ECPv6.15.20//NONSGML v1.0//EN
CALSCALE:GREGORIAN
METHOD:PUBLISH
X-ORIGINAL-URL:https://gasocietysar.org
X-WR-CALDESC:Events for Georgia Society, Sons of the American Revolution
REFRESH-INTERVAL;VALUE=DURATION:PT1H
X-Robots-Tag:noindex
X-PUBLISHED-TTL:PT1H
BEGIN:VTIMEZONE
TZID:America/New_York
BEGIN:DAYLIGHT
TZOFFSETFROM:-0500
TZOFFSETTO:-0400
TZNAME:EDT
DTSTART:20220313T070000
END:DAYLIGHT
BEGIN:STANDARD
TZOFFSETFROM:-0400
TZOFFSETTO:-0500
TZNAME:EST
DTSTART:20221106T060000
END:STANDARD
BEGIN:DAYLIGHT
TZOFFSETFROM:-0500
TZOFFSETTO:-0400
TZNAME:EDT
DTSTART:20230312T070000
END:DAYLIGHT
BEGIN:STANDARD
TZOFFSETFROM:-0400
TZOFFSETTO:-0500
TZNAME:EST
DTSTART:20231105T060000
END:STANDARD
BEGIN:DAYLIGHT
TZOFFSETFROM:-0500
TZOFFSETTO:-0400
TZNAME:EDT
DTSTART:20240310T070000
END:DAYLIGHT
BEGIN:STANDARD
TZOFFSETFROM:-0400
TZOFFSETTO:-0500
TZNAME:EST
DTSTART:20241103T060000
END:STANDARD
END:VTIMEZONE
BEGIN:VEVENT
DTSTART;TZID=America/New_York:20231117T150000
DTEND;TZID=America/New_York:20231117T163000
DTSTAMP:20260425T163052
CREATED:20230829T193144Z
LAST-MODIFIED:20230829T193144Z
UID:7086-1700233200-1700238600@gasocietysar.org
SUMMARY:Patriot Grave marking - Colonel John McIntosh - 3:00 PM
DESCRIPTION:Patriot Grave marking – Colonel John McIntosh  (1754 – 12 Nov 1826) \nMallow Plantation Cemetery \nPine Harbor\, McIntosh County\, Georgia \nSAR #P-246473 and DAR #A077296 \nCemetery GPS 31.54601\, -83.37621 \nSponsored by the Saint Andrew’s parish Chapter Georgia State Society NSDAR and the Marshes of Glynn Chapter Georgia Society SAR \n 
URL:https://gasocietysar.org/event/patriot-grave-marking-colonel-john-mcintosh-300-pm/
CATEGORIES:DAR Events,GA Society Events,GASSAR Color Guard,Grave Dedication
END:VEVENT
END:VCALENDAR