BEGIN:VCALENDAR
VERSION:2.0
PRODID:-//Georgia Society, Sons of the American Revolution - ECPv6.15.20//NONSGML v1.0//EN
CALSCALE:GREGORIAN
METHOD:PUBLISH
X-ORIGINAL-URL:https://gasocietysar.org
X-WR-CALDESC:Events for Georgia Society, Sons of the American Revolution
REFRESH-INTERVAL;VALUE=DURATION:PT1H
X-Robots-Tag:noindex
X-PUBLISHED-TTL:PT1H
BEGIN:VTIMEZONE
TZID:America/New_York
BEGIN:DAYLIGHT
TZOFFSETFROM:-0500
TZOFFSETTO:-0400
TZNAME:EDT
DTSTART:20230312T070000
END:DAYLIGHT
BEGIN:STANDARD
TZOFFSETFROM:-0400
TZOFFSETTO:-0500
TZNAME:EST
DTSTART:20231105T060000
END:STANDARD
BEGIN:DAYLIGHT
TZOFFSETFROM:-0500
TZOFFSETTO:-0400
TZNAME:EDT
DTSTART:20240310T070000
END:DAYLIGHT
BEGIN:STANDARD
TZOFFSETFROM:-0400
TZOFFSETTO:-0500
TZNAME:EST
DTSTART:20241103T060000
END:STANDARD
BEGIN:DAYLIGHT
TZOFFSETFROM:-0500
TZOFFSETTO:-0400
TZNAME:EDT
DTSTART:20250309T070000
END:DAYLIGHT
BEGIN:STANDARD
TZOFFSETFROM:-0400
TZOFFSETTO:-0500
TZNAME:EST
DTSTART:20251102T060000
END:STANDARD
END:VTIMEZONE
BEGIN:VEVENT
DTSTART;TZID=America/New_York:20240913T130000
DTEND;TZID=America/New_York:20240913T150000
DTSTAMP:20260424T190018
CREATED:20240206T202737Z
LAST-MODIFIED:20240702T142723Z
UID:7511-1726232400-1726239600@gasocietysar.org
SUMMARY:(TN) - Three Patriot Grave Marker Dedication Ceremony
DESCRIPTION:Three Patriot Grave Marking Event – September 13th \nThe day before the Gathering is an opportunity to honor three Revolutionary War Patriots with two grave marking ceremonies. \nFirst Grave Marking Events\nWhere: Old Jonesborough Cemetery\, East Main Street\, Jonesborough\, Tennessee\n(There is no parking at the cemetery. You must park at the First Baptist Church and take the sidewalk to the cemetery.)\nWhen: 1:00 pm\nWho: Honoring David Deadrick (P-145904) and Robert Patton (P-266874) \nSecond Grave Marking Events\nWhere: Johnson City Brewing at Boones Creek\, 2362 Boones Creek Rd\, Johnson City\, Tennessee\nWhen: 2:00 pm\nWho: Honoring Capt. Joseph Crouch (P-141703) \n 
URL:https://gasocietysar.org/event/tn-five-patriot-grave-marker-dedication-ceremony/
CATEGORIES:Grave Dedication,Miscellaneous Events
END:VEVENT
END:VCALENDAR