BEGIN:VCALENDAR
VERSION:2.0
PRODID:-//Georgia Society, Sons of the American Revolution - ECPv6.15.20//NONSGML v1.0//EN
CALSCALE:GREGORIAN
METHOD:PUBLISH
X-ORIGINAL-URL:https://gasocietysar.org
X-WR-CALDESC:Events for Georgia Society, Sons of the American Revolution
REFRESH-INTERVAL;VALUE=DURATION:PT1H
X-Robots-Tag:noindex
X-PUBLISHED-TTL:PT1H
BEGIN:VTIMEZONE
TZID:America/New_York
BEGIN:DAYLIGHT
TZOFFSETFROM:-0500
TZOFFSETTO:-0400
TZNAME:EDT
DTSTART:20230312T070000
END:DAYLIGHT
BEGIN:STANDARD
TZOFFSETFROM:-0400
TZOFFSETTO:-0500
TZNAME:EST
DTSTART:20231105T060000
END:STANDARD
BEGIN:DAYLIGHT
TZOFFSETFROM:-0500
TZOFFSETTO:-0400
TZNAME:EDT
DTSTART:20240310T070000
END:DAYLIGHT
BEGIN:STANDARD
TZOFFSETFROM:-0400
TZOFFSETTO:-0500
TZNAME:EST
DTSTART:20241103T060000
END:STANDARD
BEGIN:DAYLIGHT
TZOFFSETFROM:-0500
TZOFFSETTO:-0400
TZNAME:EDT
DTSTART:20250309T070000
END:DAYLIGHT
BEGIN:STANDARD
TZOFFSETFROM:-0400
TZOFFSETTO:-0500
TZNAME:EST
DTSTART:20251102T060000
END:STANDARD
END:VTIMEZONE
BEGIN:VEVENT
DTSTART;TZID=America/New_York:20241122T150000
DTEND;TZID=America/New_York:20241122T160000
DTSTAMP:20260424T161550
CREATED:20241023T203329Z
LAST-MODIFIED:20241130T145229Z
UID:8139-1732287600-1732291200@gasocietysar.org
SUMMARY:Four Patriot Grave marking - 3:00 PM - Townsend\, GA
DESCRIPTION:DISTRICT Event for Color Guard Reporting purposes \nSons of the American Revolution Georgia Society Marshes of Glynn Chapter\, Robert Forsyth Chapter\, Edward Telfair Chapter and Button Gwinnett Chapter \nInvites you to a Four Patriot Grave Marking \nFriday\, November 22\, 2024 \n3:00 pm (Day before the Siege of Ft. Morris “Come and take it”) \nContentment Bluff Plantation Cemetery – Camp Kicklighter Rd (Shellman Buff) – Townsend\, GA \n  \nHonoring \nJOHN CALDER – Hammond’s Reg of Light Dragoons\, SC Militia and GA Col Elijah Clarke – (Calder Cemetery) – P-127236 (GPS 31.5741400\, -81.3204300) \nJAMES GILLIGIANT\, Sr. – SC Army/Militia – P-165877 (GPS 31.5772570\, -81.3197120) \nLT.COL. JOHN COOPER – Ga Troops\, Commissioner of the Peace – P-138554 (GPS 31.5719000\, -81.3192000) \nCAPT JAMES NEPHEW – Served in the Col John Baker Regiment Liberty Co.\, GA\, GA Militia – P-255407 (GPS 31.5572220\, -81.3196800) \n  \nIf you would like to present a wreath\, provide your name\, chapter\, organization\, and position. \nContact: J. Steven Hinson (GA) • stevenhinson61@gmail.com • 912-258-2033
URL:https://gasocietysar.org/event/four-patriot-grave-marking-300-pm-townsend-ga/
CATEGORIES:GASSAR Color Guard,Grave Dedication
END:VEVENT
END:VCALENDAR