BEGIN:VCALENDAR
VERSION:2.0
PRODID:-//Georgia Society, Sons of the American Revolution - ECPv6.15.20//NONSGML v1.0//EN
CALSCALE:GREGORIAN
METHOD:PUBLISH
X-ORIGINAL-URL:https://gasocietysar.org
X-WR-CALDESC:Events for Georgia Society, Sons of the American Revolution
REFRESH-INTERVAL;VALUE=DURATION:PT1H
X-Robots-Tag:noindex
X-PUBLISHED-TTL:PT1H
BEGIN:VTIMEZONE
TZID:America/New_York
BEGIN:DAYLIGHT
TZOFFSETFROM:-0500
TZOFFSETTO:-0400
TZNAME:EDT
DTSTART:20220313T070000
END:DAYLIGHT
BEGIN:STANDARD
TZOFFSETFROM:-0400
TZOFFSETTO:-0500
TZNAME:EST
DTSTART:20221106T060000
END:STANDARD
BEGIN:DAYLIGHT
TZOFFSETFROM:-0500
TZOFFSETTO:-0400
TZNAME:EDT
DTSTART:20230312T070000
END:DAYLIGHT
BEGIN:STANDARD
TZOFFSETFROM:-0400
TZOFFSETTO:-0500
TZNAME:EST
DTSTART:20231105T060000
END:STANDARD
BEGIN:DAYLIGHT
TZOFFSETFROM:-0500
TZOFFSETTO:-0400
TZNAME:EDT
DTSTART:20240310T070000
END:DAYLIGHT
BEGIN:STANDARD
TZOFFSETFROM:-0400
TZOFFSETTO:-0500
TZNAME:EST
DTSTART:20241103T060000
END:STANDARD
END:VTIMEZONE
BEGIN:VEVENT
DTSTART;TZID=America/New_York:20230303T090000
DTEND;TZID=America/New_York:20230303T150000
DTSTAMP:20260425T223324
CREATED:20230103T225512Z
LAST-MODIFIED:20230103T225610Z
UID:6675-1677834000-1677855600@gasocietysar.org
SUMMARY:Education Day at the Brier Creek Battlefield
DESCRIPTION:03-03-2023 – Friday\, Education Day at the Brier Creek Battlefield – 9:00 AM\, 10:30 AM\, 12:00 PM (Noon)\, and 1:30 PM. \nDetails to be announced
URL:https://gasocietysar.org/event/education-day-at-the-brier-creek-battlefield/
CATEGORIES:GASSAR Color Guard,Historic Sites & Celebrations
END:VEVENT
BEGIN:VEVENT
DTSTART;TZID=America/New_York:20230303T183000
DTEND;TZID=America/New_York:20230303T210000
DTSTAMP:20260425T223324
CREATED:20230103T225851Z
LAST-MODIFIED:20230103T225851Z
UID:6677-1677868200-1677877200@gasocietysar.org
SUMMARY:BCRWBA\, Inc. Annual Banquet
DESCRIPTION:03-03-2023 – Friday\, BCRWBA\, Inc. Annual Banquet – 6:30 PM\, location TBA \nDetails to be announced
URL:https://gasocietysar.org/event/bcrwba-inc-annual-banquet/
CATEGORIES:GASSAR Color Guard,Historic Sites & Celebrations
END:VEVENT
BEGIN:VEVENT
DTSTART;TZID=America/New_York:20230304T110000
DTEND;TZID=America/New_York:20230304T123000
DTSTAMP:20260425T223324
CREATED:20230103T230020Z
LAST-MODIFIED:20230103T230058Z
UID:6679-1677927600-1677933000@gasocietysar.org
SUMMARY:Commemoration of the Battle of Brier Creek
DESCRIPTION:03-04-2023 – Saturday – Brier Creek Battlefield Commemoration – 244th – 11:00 AM at the Battlefield. \nDetails to be announced
URL:https://gasocietysar.org/event/commemoration-of-the-battle-of-brier-creek/
CATEGORIES:GA Society Events,GASSAR Color Guard,Historic Sites & Celebrations
END:VEVENT
BEGIN:VEVENT
DTSTART;TZID=America/New_York:20230311T100000
DTEND;TZID=America/New_York:20230311T120000
DTSTAMP:20260425T223324
CREATED:20230103T230357Z
LAST-MODIFIED:20230103T230442Z
UID:6681-1678528800-1678536000@gasocietysar.org
SUMMARY:Last Naval Battle (FL)
DESCRIPTION:Last Naval Battle – National SAR event in FL \n(Florida) \nBREVARD COUNTY’S SONS\, DAUGHTERS AND CHILDREN OF THE AMERICAN REVOLUTION INVITE YOUR \nGROUP TO MARCH WITH US AT OUR ANNUAL ANNIVERSARY CELEBRATION OF THE LAST NAVAL BATTLE OF THE AMERICAN REVOLUTION THAT WAS FOUGHT OFF THE COAST OF CAPE CANAVERAL \nMarch 11\, 2023\, at 10:00 AM at the Veteran’s Memorial Center \n400 South Sykes Creek Parkway\, Merritt Island
URL:https://gasocietysar.org/event/last-naval-battle-fl/
CATEGORIES:Historic Sites & Celebrations,National Events
END:VEVENT
BEGIN:VEVENT
DTSTART;TZID=America/New_York:20230315T100000
DTEND;TZID=America/New_York:20230315T120000
DTSTAMP:20260425T223324
CREATED:20221205T151922Z
LAST-MODIFIED:20230222T152131Z
UID:6601-1678874400-1678881600@gasocietysar.org
SUMMARY:Battle of Guilford Courthouse Commemoration - (NC) - 10:00 AM
DESCRIPTION:2023 BATTLE OF GUILFORD COURTHOUSE COMMEMORATION\nMARCH 15\, 2023\n11:00 AM\, WEDNESDAY MARCH 15\, 2023\nGUILFORD COURTHOUSE NATIONAL MILITARY PARK\n2332 NEW GARDEN ROAD\nGREENSBORO\, NC 27410\nOur most sincere greetings to all SAR\, DAR\, CAR &amp; other Patriotic and Historic Societies. \nThe Nathanael Greene Chapter of the North Carolina Society\, Sons of the American Revolution (NCSSAR)\, cordially invites you to attend the 241st Anniversary Observance of the Battle of Guilford Courthouse. \nWreaths will be transported by the National Park Staff and volunteers to the Nathanael Greene Monument and positioned in the front of the monument. The annual parade led by the National Color Guard Commander and the Combined SAR Color Guard will commence at 11:00 am. Please be punctual\, in line\, and ready to begin the march by 10:45 am. We would ask that the Presenters advance to the front and center of the Nathanael Greene Monument and facing it\, render their respects. \nThose desiring to present a wreath or participate in the volunteer jobs for the program should meet at the Visitors Center at 10:00 am for their assignments. Advanced registration is requested. For a schedule of other events occurring\, please consult the 2023 Anniversary Schedule on the Guilford Courthouse National Military Park website: www.nps.gov/guco \nFor out of town guests\, there is a block of 10 rooms at the Wyndham Garden Hotel at 415 S. Swing Road\, Greensboro (336.299.7650). Ask for the SAR rate of $119 + tax. There will also be a fellowship luncheon after the Commemoration at Kickback Jack’s just up the road on New Garden Road. \nPlease register your wreath by Friday March 10th 2023. Please mail or email the following information to Danny Murray\n23 Fountain Manor Drive\, Unit E\, Greensboro\, NC 27405 or by email to: dmurray001@triad.rr.com or by phone: 336-215-5341. \n 
URL:https://gasocietysar.org/event/battle-of-guilford-courthouse-commemoration-1000-am/
LOCATION:Guilfod Courhouse Natl MP\, 2332 New Garden Road\, Greensboro\, NC\, ilford\, United States
CATEGORIES:GASSAR Color Guard,Historic Sites & Celebrations,National Events
END:VEVENT
BEGIN:VEVENT
DTSTART;TZID=America/New_York:20230325T100000
DTEND;TZID=America/New_York:20230325T123000
DTSTAMP:20260425T223324
CREATED:20230103T231000Z
LAST-MODIFIED:20230103T231134Z
UID:6686-1679738400-1679747400@gasocietysar.org
SUMMARY:Battle of Thomas Creek (FL)
DESCRIPTION:246th Anniversary of the Battle of Thomas Creek  \nSaturday 10:00 AM\, March 25\, 2023\, in Jacksonville\, Florida  \nNational SAR event in FL \nThe Florida Society SAR commemorates the 246th anniversary for the Battle of Thomas Creek (the Southernmost Battle of the American Revolutionary War). The ceremony will be held at Seaton Creek Historic Preserve Park at 10:00 AM. \nIf placing a wreath and/or participating in the color guard\, please arrive no later than 9:30AM to register your wreath. The park is located off I-95 at Exit 366 then head west 2.5 miles on Pecan Park Rd. to 2145 Gold Star Family Parkway / Arnold Rd.). This new 3.4 mile road accesses the Jacksonville National Cemetery that connects with to the Lem Turner Road (US#1). \nTo assure your organization’s recognition and to receive a flag streamer\, please complete the following by February 15\, 2023 and forward to: \nDavid H. Ramseur (FLSSAR President 2011-12) \n3733 River Hall Drive\, Jacksonville\, FL 32217 \n(904)-502-4819; Davidramseur12@gmail.com \nWe will have a social and orientation meeting Friday evening at 5 p.m. on March 24th at the Hampton Inn & Suites\, 13551 Airport Court\, $126 current rate for the 24th . We will then walk over\, as we have done in the past\, to the Long Horn Steak House for dinner together.
URL:https://gasocietysar.org/event/battle-of-thomas-creek-fl/
CATEGORIES:GASSAR Color Guard,Historic Sites & Celebrations,National Events
END:VEVENT
END:VCALENDAR