BEGIN:VCALENDAR
VERSION:2.0
PRODID:-//Georgia Society, Sons of the American Revolution - ECPv6.15.20//NONSGML v1.0//EN
CALSCALE:GREGORIAN
METHOD:PUBLISH
X-ORIGINAL-URL:https://gasocietysar.org
X-WR-CALDESC:Events for Georgia Society, Sons of the American Revolution
REFRESH-INTERVAL;VALUE=DURATION:PT1H
X-Robots-Tag:noindex
X-PUBLISHED-TTL:PT1H
BEGIN:VTIMEZONE
TZID:America/New_York
BEGIN:DAYLIGHT
TZOFFSETFROM:-0500
TZOFFSETTO:-0400
TZNAME:EDT
DTSTART:20220313T070000
END:DAYLIGHT
BEGIN:STANDARD
TZOFFSETFROM:-0400
TZOFFSETTO:-0500
TZNAME:EST
DTSTART:20221106T060000
END:STANDARD
BEGIN:DAYLIGHT
TZOFFSETFROM:-0500
TZOFFSETTO:-0400
TZNAME:EDT
DTSTART:20230312T070000
END:DAYLIGHT
BEGIN:STANDARD
TZOFFSETFROM:-0400
TZOFFSETTO:-0500
TZNAME:EST
DTSTART:20231105T060000
END:STANDARD
BEGIN:DAYLIGHT
TZOFFSETFROM:-0500
TZOFFSETTO:-0400
TZNAME:EDT
DTSTART:20240310T070000
END:DAYLIGHT
BEGIN:STANDARD
TZOFFSETFROM:-0400
TZOFFSETTO:-0500
TZNAME:EST
DTSTART:20241103T060000
END:STANDARD
END:VTIMEZONE
BEGIN:VEVENT
DTSTART;TZID=America/New_York:20230508T103000
DTEND;TZID=America/New_York:20230508T130000
DTSTAMP:20260425T163119
CREATED:20230103T234918Z
LAST-MODIFIED:20230202T160416Z
UID:6700-1683541800-1683550800@gasocietysar.org
SUMMARY:Battle of Pensacola – Galvez Days (FL) - 10:30 AM Central
DESCRIPTION:The Pensacola Chapter\, Florida Society Sons of the American Revolution\nInvites your group to the 2023 Battle of Pensacola Commemoration and Galvez Day Celebration \nMonday\, May 8\, 2023 – (Color Guard Muster 9:30 AM Central – Event 10:30 AM Central Time) \nOn May 8\, the Sons of the American Revolution Color Guard will once again present the opening procession for the Galvez Day Celebration sponsored by the Pensacola Heritage Foundation. \nThe Color Guard will muster at 09:30 AM (Central) at Fort George (501 N. Palafox Street) and march down Palafox Street to one of the largest monuments in the United States to General Bernardo de Galvez as the opening ceremony of Pensacola’s Galvez Day celebration. \nAll participating Color Guard Units will receive a BATTLE OF PENSACOLA FLAG STREAMER. \nAdditional information (including information on blocks of hotel rooms) can be found at\nwww.pensacolasar.org/index.php/events/battle-of-pensacola-commemoration \nPlease use the form below to register your participation in the events. Color guard unit position will be based on the order in which reservations are received. For questions email: battle@pensacolasar.org \nRESERVATION FORM\nSociety Name: ________________________________________________________________\nChapter or Organization Name: __________________________________________________\nContact Name: _______________________________________________________________\nContact Phone Number: _________________ Email Address: _________________________\nHow does the group wish to be announced?\n________________________________________________________________________\nNumber attending each event:\n_____ Color Guard Procession (May 8th 10:30 Central – Muster at 09:30)\nPlease send your completed form to battle@pensacolasar.org\nor mail to:\nPensacola SAR\nc/o Chris Washler\n3400 Connell
URL:https://gasocietysar.org/event/interment-of-14-patriot-soldiers-on-the-camden-battlefield-in-camden-sc-details-to-be-announced/
CATEGORIES:GASSAR Color Guard,Historic Sites & Celebrations,National Events
END:VEVENT
BEGIN:VEVENT
DTSTART;TZID=America/New_York:20230527T103000
DTEND;TZID=America/New_York:20230527T120000
DTSTAMP:20260425T163119
CREATED:20230516T221036Z
LAST-MODIFIED:20230516T221036Z
UID:6932-1685183400-1685188800@gasocietysar.org
SUMMARY:Battle of Waxhaws - Buford's Massacre - Commemoration (SC)
DESCRIPTION:National Society of the Sons of the American Revolution South Carolina Society of the Sons of the American Revolution And The General Francis Marion Chapter cordially invite you to participate in the 243rd Commemoration And Grave Marking of Patriots of Buford’s Massacre Battle of the Waxhaws Saturday\, May 27\, 2023 \nBuford’s Massacre Site\, Buford’s Crossroad\, South Carolina \n  \nSAR\, DAR\, CAR\, and SR societies and chapters are invited to participate in a formal wreath laying ceremony at the Park’s US Monument beginning at 10:30 a.m. \nParticipants desiring to present wreaths must deliver them to the Park no later than 10:00 a.m.\, May 27th\, to label and arrange them. \n  \nAll compatriots are encouraged to wear period dress (Continental or Militia). \nWreaths may be dedicated to a unit or group of patriots or an individual patriot. \n  \nTo ensure all participants are recognized in the celebration program\, it is requested you complete and mail your intent for my receipt not later than May 19th to: \nGreg Ohanesian\, Past President\, S.C.S.S.A.R.\, Post Office Box 1373\, Bennettsville\, S.C. 29512
URL:https://gasocietysar.org/event/battle-of-waxhaws-bufords-massacre-commemoration-sc/
CATEGORIES:GASSAR Color Guard,Historic Sites & Celebrations,National Events
END:VEVENT
END:VCALENDAR