BEGIN:VCALENDAR
VERSION:2.0
PRODID:-//Georgia Society, Sons of the American Revolution - ECPv6.15.20//NONSGML v1.0//EN
CALSCALE:GREGORIAN
METHOD:PUBLISH
X-WR-CALNAME:Georgia Society, Sons of the American Revolution
X-ORIGINAL-URL:https://gasocietysar.org
X-WR-CALDESC:Events for Georgia Society, Sons of the American Revolution
REFRESH-INTERVAL;VALUE=DURATION:PT1H
X-Robots-Tag:noindex
X-PUBLISHED-TTL:PT1H
BEGIN:VTIMEZONE
TZID:America/New_York
BEGIN:DAYLIGHT
TZOFFSETFROM:-0500
TZOFFSETTO:-0400
TZNAME:EDT
DTSTART:20220313T070000
END:DAYLIGHT
BEGIN:STANDARD
TZOFFSETFROM:-0400
TZOFFSETTO:-0500
TZNAME:EST
DTSTART:20221106T060000
END:STANDARD
BEGIN:DAYLIGHT
TZOFFSETFROM:-0500
TZOFFSETTO:-0400
TZNAME:EDT
DTSTART:20230312T070000
END:DAYLIGHT
BEGIN:STANDARD
TZOFFSETFROM:-0400
TZOFFSETTO:-0500
TZNAME:EST
DTSTART:20231105T060000
END:STANDARD
BEGIN:DAYLIGHT
TZOFFSETFROM:-0500
TZOFFSETTO:-0400
TZNAME:EDT
DTSTART:20240310T070000
END:DAYLIGHT
BEGIN:STANDARD
TZOFFSETFROM:-0400
TZOFFSETTO:-0500
TZNAME:EST
DTSTART:20241103T060000
END:STANDARD
END:VTIMEZONE
BEGIN:VEVENT
DTSTART;TZID=America/New_York:20230826T093000
DTEND;TZID=America/New_York:20230826T120000
DTSTAMP:20260425T121650
CREATED:20230104T001542Z
LAST-MODIFIED:20230104T001542Z
UID:6718-1693042200-1693051200@gasocietysar.org
SUMMARY:New Bern Resolves (NC)
DESCRIPTION:249th New Bern Resolves \nThe New Bern Chapter-SAR\, Richard Dobbs Spaight Chapter-DAR\, Christ Episcopal Church\, North Carolina History Center at Tryon Palace\, St. Johns Masonic Lodge #3 and the National Sojourners\, Inc. invite all to join us for a commemoration ceremony to honor the 248th Anniversary Observance of the 1st North Carolina Provincial Congress and signing of the New Bern Resolves\, which was held in New Bern during 25-27 August 1774. \nThe event will be in person\, Saturday August 26th. Check-in will begin at 8:30 a.m. across the street from the Centenary United Methodist Church parking lot located next to the US District Court House at 413 Middle St\, New Bern\, NC 28560. \nThe event procession will begin at 9:45 a.m. at the Centenary United Methodist Church parking lot. \nThe Ceremony will begin at approximately 10:00 a.m. at the (outdoor) Colonial Chapel of Christ Episcopal Church\, 320 Pollock Street New Bern NC\, 28560. \nIf you have any questions\, please contact us at: newbernresolves@gmail.com
URL:https://gasocietysar.org/event/new-bern-resolves-nc/
CATEGORIES:Historic Sites & Celebrations
END:VEVENT
END:VCALENDAR