BEGIN:VCALENDAR
VERSION:2.0
PRODID:-//Georgia Society, Sons of the American Revolution - ECPv6.15.20//NONSGML v1.0//EN
CALSCALE:GREGORIAN
METHOD:PUBLISH
X-WR-CALNAME:Georgia Society, Sons of the American Revolution
X-ORIGINAL-URL:https://gasocietysar.org
X-WR-CALDESC:Events for Georgia Society, Sons of the American Revolution
REFRESH-INTERVAL;VALUE=DURATION:PT1H
X-Robots-Tag:noindex
X-PUBLISHED-TTL:PT1H
BEGIN:VTIMEZONE
TZID:America/New_York
BEGIN:DAYLIGHT
TZOFFSETFROM:-0500
TZOFFSETTO:-0400
TZNAME:EDT
DTSTART:20220313T070000
END:DAYLIGHT
BEGIN:STANDARD
TZOFFSETFROM:-0400
TZOFFSETTO:-0500
TZNAME:EST
DTSTART:20221106T060000
END:STANDARD
BEGIN:DAYLIGHT
TZOFFSETFROM:-0500
TZOFFSETTO:-0400
TZNAME:EDT
DTSTART:20230312T070000
END:DAYLIGHT
BEGIN:STANDARD
TZOFFSETFROM:-0400
TZOFFSETTO:-0500
TZNAME:EST
DTSTART:20231105T060000
END:STANDARD
BEGIN:DAYLIGHT
TZOFFSETFROM:-0500
TZOFFSETTO:-0400
TZNAME:EDT
DTSTART:20240310T070000
END:DAYLIGHT
BEGIN:STANDARD
TZOFFSETFROM:-0400
TZOFFSETTO:-0500
TZNAME:EST
DTSTART:20241103T060000
END:STANDARD
END:VTIMEZONE
BEGIN:VEVENT
DTSTART;TZID=America/New_York:20230916T083000
DTEND;TZID=America/New_York:20230916T163000
DTSTAMP:20260425T110433
CREATED:20230104T002850Z
LAST-MODIFIED:20230104T002850Z
UID:6725-1694853000-1694881800@gasocietysar.org
SUMMARY:Vigil at George Washington’s Tomb (VA)
DESCRIPTION:Vigil at George Washington’s Tomb \nA National SAR event in VA \nDate appears to be September 16\, 2023\, at \nMount Vernon\,  3200 Mount Vernon Memorial Highway\, Mount Vernon\, VZ   22121 \nMarch to the Tomb is at 8:30 AM with tomb shifts every 15 minutes beginning at 9:00 AM.  Closing ceremony and march back to the Mansion begins at 4:00 PM. \nDetails and electronic signup will be announced at a latter date. \n  \nNSSAR Guardsmen\, The National Color Guard staff cordially invites you to honor our patriot commander and join us at Mt Vernon for the annual George Washington Tomb Vigil of Saturday September 17th. \nThere are several hotels close to Mount Vernon \nHampton Inn & Suites – Fort Belvoir Alexandria South \nCandlewood Suites – Alexandria – Fort Belvoir\, an IHG Hotel \nBest Wester Plus – Mount Vernon/Fort Belvoir \n  \nWe have again been given permission to bring our weapons\, under the following stipulations: \n\nCommanders may wear their swords\, all blunted edged and only removed from their sheaths when marching the guard.\nNo other knives will be allowed.\nMuskets may be carried by the guard as they march and stand guard at the tomb.\nNo powder\, ball or bayonets are to be brought onto the property.\nThere will be a safety check preformed in the parking lot before any guardsmen can move any further on the property.\nAll muskets must always be in the control of guardsmen and all additional national weapons safety rules are to be followed.\n\nDue to the steepness of the hill from the Estate to the tomb please consider your ability to traverse a 800 foot 4 percent grade before signing up. \n 
URL:https://gasocietysar.org/event/vigil-at-george-washingtons-tomb-va/
CATEGORIES:Historic Sites & Celebrations,National Events
END:VEVENT
BEGIN:VEVENT
DTSTART;TZID=America/New_York:20230916T093000
DTEND;TZID=America/New_York:20230916T120000
DTSTAMP:20260425T110433
CREATED:20230619T220544Z
LAST-MODIFIED:20230828T214628Z
UID:6979-1694856600-1694865600@gasocietysar.org
SUMMARY:Constitution Day Program - Augusta\, GA - 9:30 AM
DESCRIPTION:9:30 AM – 10:30AM. Our Combined SAR Color Guards will support the Augusta Chapter\, NSDAR in conducting Constitution Day activities at St. Paul’s Church\, 605 Reynolds Street. \n12:00 PM – 1:00 PM. The Augusta Chapter\, NSDAR and the local SAR chapters will host a luncheon consisting of BBQ sandwiches\, potato salad\, and tea provided by Larry Sconyers BBQ in the Kroc Center Lunchroom.  There will be cake for dessert.  You must sign up for the luncheon in advance and the cost is $16.00 per person. \nSonny and Sue Pittman\, Event Coordinators\n2202 Holly Haven Court\, Augusta\, GA 30907-3779\n(706) 860-1050; sonnypittman@comcast.net and shpittman@comcast.net \nWill Participate in the 12:00 PM lunch @ $16 dollars per person.\nChecks for lunch should be sent to Sue Pittman\, 2202 Holly Haven Court\, Augusta\, GA 30907.\nNumber of Attendees for lunch: __________________ x $16.00 =_______________tota1
URL:https://gasocietysar.org/event/constitution-day-program-augusta-ga-tba/
CATEGORIES:DAR Events,GASSAR Color Guard,Historic Sites & Celebrations
END:VEVENT
BEGIN:VEVENT
DTSTART;TZID=America/New_York:20230917T080000
DTEND;TZID=America/New_York:20230917T170000
DTSTAMP:20260425T110433
CREATED:20230104T002959Z
LAST-MODIFIED:20230104T002959Z
UID:6727-1694937600-1694970000@gasocietysar.org
SUMMARY:Constitution Day
DESCRIPTION:Constitution Day \nThe anniversary of the signing of the United States Constitution is Sunday September 17\, 2023 \nDetails on observances in Georgia will be announced on a later date.
URL:https://gasocietysar.org/event/constitution-day-2/
CATEGORIES:GASSAR Color Guard,Historic Sites & Celebrations
END:VEVENT
BEGIN:VEVENT
DTSTART;TZID=America/New_York:20230921T180000
DTEND;TZID=America/New_York:20230921T210000
DTSTAMP:20260425T110433
CREATED:20230907T000215Z
LAST-MODIFIED:20230907T000257Z
UID:7110-1695319200-1695330000@gasocietysar.org
SUMMARY:Brier Creek Revolutionary War Battlefield Association Banquet
DESCRIPTION:“One cannot think well\, if one has not dined well.”  Accept this public invitation to do both\, September 21st (Thursday) from 6-9 pm when the Brier Creek Revolutionary War Battlefield Association (BCRWBA) will hold a Banquet at “Statesboro’s crown jewel of fine dining” the Forest Heights Country Club located at 3772 Country Club Road in Statesboro.  Dress is Business Casual\, cost is $35.  Mail your check to:\n \nBCRWBA\nPO Box 603\,\nSwainsboro\, GA 30401The Dinner will be served Buffet Style:  Roasted pork loin with caramelized onions in Dijon wine sauce\, Fried chicken\, macaroni and cheese\, lemon-parmesan herb roasted red potatoes\, roasted broccoli\, southern green beans and garden fresh salad with dressings\, dinner rolls with whipped butter and assorted desserts.  \n\n \n\nDr. John Derden\, Professor Emeritus of History will present the “Treaty of Paris of 1781\,” the formal ending of the American Revolution recognizing the United States as an independent nation.  \nFeaturing colorful Revolutionary Era military uniforms\, the SAR will serve both as Color Guard and flag bearers for the event.
URL:https://gasocietysar.org/event/brier-creek-revolutionary-war-battlefield-association-banquet/
LOCATION:Forest Heights Country Club\, 3772 Country Club Road\, Statesboro\, GA\, 30458\, United States
CATEGORIES:Historic Sites & Celebrations
END:VEVENT
END:VCALENDAR