BEGIN:VCALENDAR
VERSION:2.0
PRODID:-//Georgia Society, Sons of the American Revolution - ECPv6.15.20//NONSGML v1.0//EN
CALSCALE:GREGORIAN
METHOD:PUBLISH
X-WR-CALNAME:Georgia Society, Sons of the American Revolution
X-ORIGINAL-URL:https://gasocietysar.org
X-WR-CALDESC:Events for Georgia Society, Sons of the American Revolution
REFRESH-INTERVAL;VALUE=DURATION:PT1H
X-Robots-Tag:noindex
X-PUBLISHED-TTL:PT1H
BEGIN:VTIMEZONE
TZID:America/New_York
BEGIN:DAYLIGHT
TZOFFSETFROM:-0500
TZOFFSETTO:-0400
TZNAME:EDT
DTSTART:20230312T070000
END:DAYLIGHT
BEGIN:STANDARD
TZOFFSETFROM:-0400
TZOFFSETTO:-0500
TZNAME:EST
DTSTART:20231105T060000
END:STANDARD
BEGIN:DAYLIGHT
TZOFFSETFROM:-0500
TZOFFSETTO:-0400
TZNAME:EDT
DTSTART:20240310T070000
END:DAYLIGHT
BEGIN:STANDARD
TZOFFSETFROM:-0400
TZOFFSETTO:-0500
TZNAME:EST
DTSTART:20241103T060000
END:STANDARD
BEGIN:DAYLIGHT
TZOFFSETFROM:-0500
TZOFFSETTO:-0400
TZNAME:EDT
DTSTART:20250309T070000
END:DAYLIGHT
BEGIN:STANDARD
TZOFFSETFROM:-0400
TZOFFSETTO:-0500
TZNAME:EST
DTSTART:20251102T060000
END:STANDARD
END:VTIMEZONE
BEGIN:VEVENT
DTSTART;TZID=America/New_York:20240817T090000
DTEND;TZID=America/New_York:20240817T173000
DTSTAMP:20260424T185942
CREATED:20240206T224233Z
LAST-MODIFIED:20240806T161010Z
UID:7550-1723885200-1723915800@gasocietysar.org
SUMMARY:Rescheduled - (SC) Battle of Camden
DESCRIPTION:RESCHEDULED – COMMEMORATING THE 244th ANNIVERSARY OF THE BATTLE OF CAMDEN \nRESCHEDULED – 17 Aug 2024  \nCondensed Schedule \n9:00am – Battle of Camden Commemoration @ Battle of Camden Battlefield – New Pavilion Area – SAR Color Guard and Bugle\, DAR and SAR Participation\, Historic Camden Participation\, Wreath Laying Ceremony \n10:30am – Honoring the Camden-12 Ceremony @ Quaker Cemetery – DAR & SAR Sponsored Event with help from Historic Camden.  Speaker will provide the Public with a High-Level overview of new events occurring in the immediate area of the Camden-12.   Wreath Laying Ceremony \n********************************** \nPlease register your wreath by August 4th.  Send registration information to John Goodwin.  Include Chapter Name and Person(s) presenting\, email and/or phone number. \nLocation: Battle of Camden Battlefield – 1698 Flat Rock Rd\, Camden\, SC \nThis event is Jointly Hosted by: Historic Camden\, The Col Joseph Kershaw Chapter SCSSAR\, The Hobkirk Hill Chapter NSDAR\, The Joseph Kershaw Chapter NSDAR \n  \nJohn Goodwin: JohnCGoodwinIII@gmail.com  or call/text 678-521-1193 for more information
URL:https://gasocietysar.org/event/sc-battle-of-camden-1000-date/
LOCATION:Camden Battlefield\, 1698 Flat Rock Rd\, Camden\, SC\, 29020\, United States
CATEGORIES:Historic Sites & Celebrations,Miscellaneous Events
END:VEVENT
BEGIN:VEVENT
DTSTART;TZID=America/New_York:20240824T080000
DTEND;TZID=America/New_York:20240824T230000
DTSTAMP:20260424T185942
CREATED:20240702T141548Z
LAST-MODIFIED:20240805T213049Z
UID:7811-1724486400-1724540400@gasocietysar.org
SUMMARY:New Bern Resolves (NC) - 250th Anniversary - 10:00 AM - DISTRICT EVENT
DESCRIPTION:Saturday\, 24 August 2024: Check-in NC History Center\, 8:00-9:00 a.m. \nLine-up at 9:00 a.m. Procession starts at 9:30 a.m. Ceremony follows. \nGuest Speaker: Chief Justice Paul Newby\, NC Supreme Court \nThe Ceremony will begin at approximately 10:00 a.m. at the South Lawn of Tryon Palace\, 529 South Front Street\, New Bern\, NC 28562. \nThere will be a STATIC  ONLY (no color guard or Greetings/Wreath Presentation options) Zoom session for anyone wishing to view the procession and ceremony. \nOnline registration for the event\, which includes: \n\nRegistration to receive the link for the STATIC ONLY Zoom session\nSign-up for those wishing to bring greetings (IN-PERSON\, National & State level only)\nSign-up for those wishing to present a wreath/render honors (IN-PERSON\, all levels)\nSign-up for those wishing to participate in the event Color Guard\n\nIf you have any questions\, please contact us at: newbernresolves@gmail.com \nhttps://forms.gle/oM1SNtWFxRWa9HCv6 \n 
URL:https://gasocietysar.org/event/new-bern-resolves-nc-250th-anniversary-1000-am/
LOCATION:Tryon Palace\, 529 South Fourth Street\, New Bern\, NC\, 28562\, United States
CATEGORIES:District Event,Historic Sites & Celebrations
END:VEVENT
END:VCALENDAR