BEGIN:VCALENDAR
VERSION:2.0
PRODID:-//Georgia Society, Sons of the American Revolution - ECPv6.15.20//NONSGML v1.0//EN
CALSCALE:GREGORIAN
METHOD:PUBLISH
X-ORIGINAL-URL:https://gasocietysar.org
X-WR-CALDESC:Events for Georgia Society, Sons of the American Revolution
REFRESH-INTERVAL;VALUE=DURATION:PT1H
X-Robots-Tag:noindex
X-PUBLISHED-TTL:PT1H
BEGIN:VTIMEZONE
TZID:America/New_York
BEGIN:DAYLIGHT
TZOFFSETFROM:-0500
TZOFFSETTO:-0400
TZNAME:EDT
DTSTART:20230312T070000
END:DAYLIGHT
BEGIN:STANDARD
TZOFFSETFROM:-0400
TZOFFSETTO:-0500
TZNAME:EST
DTSTART:20231105T060000
END:STANDARD
BEGIN:DAYLIGHT
TZOFFSETFROM:-0500
TZOFFSETTO:-0400
TZNAME:EDT
DTSTART:20240310T070000
END:DAYLIGHT
BEGIN:STANDARD
TZOFFSETFROM:-0400
TZOFFSETTO:-0500
TZNAME:EST
DTSTART:20241103T060000
END:STANDARD
BEGIN:DAYLIGHT
TZOFFSETFROM:-0500
TZOFFSETTO:-0400
TZNAME:EDT
DTSTART:20250309T070000
END:DAYLIGHT
BEGIN:STANDARD
TZOFFSETFROM:-0400
TZOFFSETTO:-0500
TZNAME:EST
DTSTART:20251102T060000
END:STANDARD
END:VTIMEZONE
BEGIN:VEVENT
DTSTART;TZID=America/New_York:20241123T100000
DTEND;TZID=America/New_York:20241123T120000
DTSTAMP:20260424T120753
CREATED:20240206T205438Z
LAST-MODIFIED:20240803T180653Z
UID:7523-1732356000-1732363200@gasocietysar.org
SUMMARY:National (GA) - Siege of Fort Morris - Come & Take It - 10:00
DESCRIPTION: 246th Anniversary of the “Come and Take” – Siege of Fort Morris\nSaturday\, November 23rd\, 2024 \n10:00 am \nFort Morris Historic Site – 2559 Fort Morris Road – Midway\, GA   31320 \nState Park Admission Fee per person is required.  \nThe fee for participating Color Guard compatriots will be taken care of for their service in the color guard – guest and other visitors will need to pay. \n  \nWreath Registration \nName of Wreath Presenter:                                                                                             \nOrganization: SAR\, DAR\, CAR (Please circle) other:                                                                      \nChapter/Society:                                                                                                                 \nPosition:                                                                                                                                            \nPresenter’s e-mail address:                                                                                             \nColor Guard:                                    Musket:                                  \nLoves Seafood #                         Sunbury Crab Co#                  (Limited Seating) \nPlease send the registration form in by November 18th\, 2024 to: Steven Hinson\, Marshes of Glynn Chapter – Email: stevenhinson61@gmail.com – 912-258-2033 \n*********************************************************** \nHOTEL RESERVATIONS \nHoliday Inn Express\, Richmond Hill (Newly Renovated) – 4601 US Highway 17 – Richmond Hill\, GA 31324 \n\nGROUP NAME: Sons of the American Revolution\nGROUP CODE:  IUD\nDATES:  November 23-24\, 2024\nRATE: $139 plus taxes per night (Nov 1 cutoff for the booked rate)\nCALL IN RESERVATIONS: 912-756-6668 – Reference the above information\nYou can make your reservations online through the following Link\n\nhttps://www.hiexpress.com/redirect?path=rates&brandCode=EX&localeCode=en&regionCode=1&hotelCode=SAVRH&checkInDate=22&checkInMonthYear=102024&checkOutDate=24&checkOutMonthYear=102024&_PMID=99801505&GPC=IUD&cn=no&viewfullsite=true \nOnce reservations are made you will have up to 24 hours prior to arrival to cancel the reservation. If you cancel less than 1 day prior to arrival\, you will be charged a 1-night cancellation fee. When making a reservation a valid credit card must be provided. Guests will be required to provide a credit card upon check In at the Hotel. \n*********************************************** \nFriday Evening Hospitality will be from 4:30 pm – 6:00 pm om the lobby Area in the Holiday Inn Express.  A time to meet and greet. \nFriday Evening Dinner Gathering:     7:00pm (DUTCH) \nLoves Seafood Restaurant – 6817 Chief of Love Rd – Savannah\, GA 31419 – (912) 925-3616 \nSaturday Lunch Will be at NOON (DUTCH) \nSunbury Crab Company – 541 Brigantine-Dunmore Road – Sunbury\, Georgia – (912)-884-8640 \nIf Waze etc. can’t find that address the use 539 Brigantine-Dunmore Rd\, then continue straight. \n 
URL:https://gasocietysar.org/event/national-ga-siege-of-fort-morris-come-take-it-1000/
LOCATION:Fort Morris Historic Site State Park\, 2559 fort Morris Road\, Midway\, GA\, 31320\, United States
CATEGORIES:GA Society Events,GASSAR Color Guard,Historic Sites & Celebrations,National Events
END:VEVENT
END:VCALENDAR