BEGIN:VCALENDAR
VERSION:2.0
PRODID:-//Georgia Society, Sons of the American Revolution - ECPv6.15.20//NONSGML v1.0//EN
CALSCALE:GREGORIAN
METHOD:PUBLISH
X-WR-CALNAME:Georgia Society, Sons of the American Revolution
X-ORIGINAL-URL:https://gasocietysar.org
X-WR-CALDESC:Events for Georgia Society, Sons of the American Revolution
REFRESH-INTERVAL;VALUE=DURATION:PT1H
X-Robots-Tag:noindex
X-PUBLISHED-TTL:PT1H
BEGIN:VTIMEZONE
TZID:America/New_York
BEGIN:DAYLIGHT
TZOFFSETFROM:-0500
TZOFFSETTO:-0400
TZNAME:EDT
DTSTART:20220313T070000
END:DAYLIGHT
BEGIN:STANDARD
TZOFFSETFROM:-0400
TZOFFSETTO:-0500
TZNAME:EST
DTSTART:20221106T060000
END:STANDARD
BEGIN:DAYLIGHT
TZOFFSETFROM:-0500
TZOFFSETTO:-0400
TZNAME:EDT
DTSTART:20230312T070000
END:DAYLIGHT
BEGIN:STANDARD
TZOFFSETFROM:-0400
TZOFFSETTO:-0500
TZNAME:EST
DTSTART:20231105T060000
END:STANDARD
BEGIN:DAYLIGHT
TZOFFSETFROM:-0500
TZOFFSETTO:-0400
TZNAME:EDT
DTSTART:20240310T070000
END:DAYLIGHT
BEGIN:STANDARD
TZOFFSETFROM:-0400
TZOFFSETTO:-0500
TZNAME:EST
DTSTART:20241103T060000
END:STANDARD
END:VTIMEZONE
BEGIN:VEVENT
DTSTART;TZID=America/New_York:20231009T080000
DTEND;TZID=America/New_York:20231009T110000
DTSTAMP:20260425T105509
CREATED:20230104T142051Z
LAST-MODIFIED:20230829T201505Z
UID:6741-1696838400-1696849200@gasocietysar.org
SUMMARY:Siege of Savannah – 2023 Battlefield Memorial March - 8:45 AM - NEW TIME
DESCRIPTION:Siege of Savannah – 2023 Battlefield Memorial March \nIn the early morning hours of October 9\, 1779\, the Battle of Savannah occurred on the current grounds of Coastal Heritage Society’s Tricentennial Park.  The battle was one of the bloodiest of the American Revolution\, where approximately 800 troops died or were wounded. \nOn Monday\, October 9th\, 2023\, the Society\, our friends\, donors\, patriotic organizations\, and community leaders will follow in the footsteps of those who fought that day\, 244 years ago. \nOn behalf of Coastal Heritage Society\, we invite you to attend the 2023 Battlefield Memorial March to honor those who fought\, fell\, and sacrificed for our freedom.  The event will include a ceremonial march on the path of the allied attacking columns\, followed by a dedication of stones and a presentation of wreaths to commemorate the fallen soldiers. \nOn Monday\, October 9th\, participants will meet at 8:45 AM in the Savannah History Museum parking lot at 303 Martin Luther King Jr. Boulevard. The march will begin promptly at 9:00 AM and will proceed down West Boundary Street and along Louisville Road\, where it will conclude at Battlefield Memorial Park. Breakfast and refreshments will be available following the ceremony for the event attendees. \nAdditional event details and wreath registration will be announced at a later date.
URL:https://gasocietysar.org/event/siege-of-savannah-2023-battlefield-memorial-march-645-am/
CATEGORIES:GASSAR Color Guard,Historic Sites & Celebrations
END:VEVENT
END:VCALENDAR