BEGIN:VCALENDAR
VERSION:2.0
PRODID:-//Georgia Society, Sons of the American Revolution - ECPv6.15.20//NONSGML v1.0//EN
CALSCALE:GREGORIAN
METHOD:PUBLISH
X-WR-CALNAME:Georgia Society, Sons of the American Revolution
X-ORIGINAL-URL:https://gasocietysar.org
X-WR-CALDESC:Events for Georgia Society, Sons of the American Revolution
REFRESH-INTERVAL;VALUE=DURATION:PT1H
X-Robots-Tag:noindex
X-PUBLISHED-TTL:PT1H
BEGIN:VTIMEZONE
TZID:America/New_York
BEGIN:DAYLIGHT
TZOFFSETFROM:-0500
TZOFFSETTO:-0400
TZNAME:EDT
DTSTART:20240310T070000
END:DAYLIGHT
BEGIN:STANDARD
TZOFFSETFROM:-0400
TZOFFSETTO:-0500
TZNAME:EST
DTSTART:20241103T060000
END:STANDARD
BEGIN:DAYLIGHT
TZOFFSETFROM:-0500
TZOFFSETTO:-0400
TZNAME:EDT
DTSTART:20250309T070000
END:DAYLIGHT
BEGIN:STANDARD
TZOFFSETFROM:-0400
TZOFFSETTO:-0500
TZNAME:EST
DTSTART:20251102T060000
END:STANDARD
BEGIN:DAYLIGHT
TZOFFSETFROM:-0500
TZOFFSETTO:-0400
TZNAME:EDT
DTSTART:20260308T070000
END:DAYLIGHT
BEGIN:STANDARD
TZOFFSETFROM:-0400
TZOFFSETTO:-0500
TZNAME:EST
DTSTART:20261101T060000
END:STANDARD
END:VTIMEZONE
BEGIN:VEVENT
DTSTART;TZID=America/New_York:20250816T100000
DTEND;TZID=America/New_York:20250816T140000
DTSTAMP:20260424T012213
CREATED:20250603T224710Z
LAST-MODIFIED:20250603T224710Z
UID:18104-1755338400-1755352800@gasocietysar.org
SUMMARY:(SC) - 245th Anniversary of the Battle of Camden - 10:00 AM
DESCRIPTION:245th Anniversary of the Battle of Camden\nSaturday\, 16 August 2025 \n  \n10:00 AM Commemorative Service & Wreath Laying \nCamden Battlefield\, Pavilion Area \n1606 Flat Rock Road\, Camden\, SC \n  \n11:30 AM – Wreath Laying Honoring the Camden 12 \nOld Presbyterian Burying Ground\, Quaker Cemetery \n713 Meeting Street\, Camden\, SC \n  \n12:00 to 1:00 PM – Drop-in with Chef Justin Cherry \nMcCaa Tavern\, Historic Camden \n222 Broad Street\, Camden\, SC \n  \nRSVP for all events to JohnCGoodwiniii@gmail.com
URL:https://gasocietysar.org/event/sc-245th-anniversary-of-the-battle-of-camden-1000-am/
LOCATION:Camden Battlefield\, 1698 Flat Rock Rd\, Camden\, SC\, 29020\, United States
CATEGORIES:Historic Sites & Celebrations
END:VEVENT
END:VCALENDAR