BEGIN:VCALENDAR
VERSION:2.0
PRODID:-//Georgia Society, Sons of the American Revolution - ECPv6.15.20//NONSGML v1.0//EN
CALSCALE:GREGORIAN
METHOD:PUBLISH
X-WR-CALNAME:Georgia Society, Sons of the American Revolution
X-ORIGINAL-URL:https://gasocietysar.org
X-WR-CALDESC:Events for Georgia Society, Sons of the American Revolution
REFRESH-INTERVAL;VALUE=DURATION:PT1H
X-Robots-Tag:noindex
X-PUBLISHED-TTL:PT1H
BEGIN:VTIMEZONE
TZID:America/New_York
BEGIN:DAYLIGHT
TZOFFSETFROM:-0500
TZOFFSETTO:-0400
TZNAME:EDT
DTSTART:20160313T070000
END:DAYLIGHT
BEGIN:STANDARD
TZOFFSETFROM:-0400
TZOFFSETTO:-0500
TZNAME:EST
DTSTART:20161106T060000
END:STANDARD
BEGIN:DAYLIGHT
TZOFFSETFROM:-0500
TZOFFSETTO:-0400
TZNAME:EDT
DTSTART:20170312T070000
END:DAYLIGHT
BEGIN:STANDARD
TZOFFSETFROM:-0400
TZOFFSETTO:-0500
TZNAME:EST
DTSTART:20171105T060000
END:STANDARD
BEGIN:DAYLIGHT
TZOFFSETFROM:-0500
TZOFFSETTO:-0400
TZNAME:EDT
DTSTART:20180311T070000
END:DAYLIGHT
BEGIN:STANDARD
TZOFFSETFROM:-0400
TZOFFSETTO:-0500
TZNAME:EST
DTSTART:20181104T060000
END:STANDARD
BEGIN:DAYLIGHT
TZOFFSETFROM:-0500
TZOFFSETTO:-0400
TZNAME:EDT
DTSTART:20190310T070000
END:DAYLIGHT
BEGIN:STANDARD
TZOFFSETFROM:-0400
TZOFFSETTO:-0500
TZNAME:EST
DTSTART:20191103T060000
END:STANDARD
BEGIN:DAYLIGHT
TZOFFSETFROM:-0500
TZOFFSETTO:-0400
TZNAME:EDT
DTSTART:20200308T070000
END:DAYLIGHT
BEGIN:STANDARD
TZOFFSETFROM:-0400
TZOFFSETTO:-0500
TZNAME:EST
DTSTART:20201101T060000
END:STANDARD
END:VTIMEZONE
BEGIN:VEVENT
DTSTART;VALUE=DATE:20190906
DTEND;VALUE=DATE:20190908
DTSTAMP:20260424T012159
CREATED:20190723T200251Z
LAST-MODIFIED:20190818T183416Z
UID:3328-1567728000-1567900799@gasocietysar.org
SUMMARY:Eutaw Springs Commemoration
DESCRIPTION:                            For additional information and to register please CLICK HERE
URL:https://gasocietysar.org/event/eutaw-springs-commemoration/
CATEGORIES:Historic Sites & Celebrations
END:VEVENT
BEGIN:VEVENT
DTSTART;TZID=America/New_York:20190413T100000
DTEND;TZID=America/New_York:20190413T130000
DTSTAMP:20260424T012159
CREATED:20190328T190202Z
LAST-MODIFIED:20190328T190203Z
UID:3273-1555149600-1555160400@gasocietysar.org
SUMMARY:Frederica Patriots Day Celebration
DESCRIPTION:St. Simons Island\, Georgia\nSaturday\, April 13\, 2019\nCeremony 10:00am – Parade 11:45am\nContact Bill Ramsaur 912-223-1438\nwframsaur@aol.com
URL:https://gasocietysar.org/event/frederica-patriots-day-celebration/
CATEGORIES:Historic Sites & Celebrations
END:VEVENT
BEGIN:VEVENT
DTSTART;TZID=America/New_York:20190208T103000
DTEND;TZID=America/New_York:20190208T143000
DTSTAMP:20260424T012159
CREATED:20190111T143443Z
LAST-MODIFIED:20190111T182038Z
UID:2504-1549621800-1549636200@gasocietysar.org
SUMMARY:Elijah Clarke and Heros of the Hornet's Nest
DESCRIPTION:Elijah Clarke and Heroes of the Hornets’ Nest\nRemembrance Day \nFriday\, February 8\, 2019\n10:30 a.m. – 2:30 p.m. \nElijah Clark State Park\n2959 McCormick Highway\nEast of Downtown Lincolnton\, GA \nCome when you can.\n10:30 a.m. Living history at restored cabin and Elijah Clark Museum-\ncolonial lifestyle demonstrations – period music –\nmusket and cannon firings – traveling trunk display- book signings\n12:00 p.m. Free chili luncheon and dessert buffet\n1:30 p.m. Heroes of the Hornets’ Nest Wreath Ceremony\nFeatured speaker this year is noted historian and author Robert S. Davis with recently-discovered information on Kettle Creek hero and original Wilkes County resident Colonel John Dooly. A wreath ceremony at Elijah Clarke’s grave follows\, and regional color guard and militia units will combine to bring pomp and circumstance to the occasion. \nIndoor facilities are available in the event of inclement weather. \nPark entry fees will be waived for participants\, and special discounts\nwill be offered for 2-night cabin rentals at the park. \nSponsored by the Elijah Clark State Park; Friends of the Elijah Clark Park; Lincoln County Historical Society; Atlanta and William Few Chapters of the Sons of the American Revolution; the Elijah Clarke and Elijah Clarke Chapters of the Daughters of the American Revolution ; and the General Nathaniel Greene Chapter Sons of the Revolution.
URL:https://gasocietysar.org/event/elijah-clarke-and-heros-of-the-hornets-nest/
CATEGORIES:Historic Sites & Celebrations
END:VEVENT
BEGIN:VEVENT
DTSTART;VALUE=DATE:20180209
DTEND;VALUE=DATE:20180213
DTSTAMP:20260424T012159
CREATED:20180110T151350Z
LAST-MODIFIED:20180123T195331Z
UID:1573-1518134400-1518479999@gasocietysar.org
SUMMARY:Battle of Kettle Creek Anniversary - multiple events
DESCRIPTION:Various events are planned in celebration of the Kettle Creek Anniversary \n\n239th Anniversary of the Battle of Kettle Creek Revolutionary Days – more information\nKettle Creek Battlefield Association annual banquet – more information\nDedication of 180 newly acquired acres to the Kettle Creek Battlefield – more information
URL:https://gasocietysar.org/event/battle-of-kettle-creek-anniversary-multiple-events/
CATEGORIES:GA Society Events,Historic Sites & Celebrations
END:VEVENT
BEGIN:VEVENT
DTSTART;TZID=America/New_York:20171202T080000
DTEND;TZID=America/New_York:20171202T170000
DTSTAMP:20260424T012159
CREATED:20170615T175048Z
LAST-MODIFIED:20170615T175048Z
UID:741-1512201600-1512234000@gasocietysar.org
SUMMARY:GSSAR Color Guard
DESCRIPTION:Battle of Vann’s Creek\, Elbert County\, GA: Allen Greenly\, Ed Rigel\, Sr.\, Don Thomas\, Jack Dugger\, Bill Palmer\, George Thurmond\, Larry Wilson
URL:https://gasocietysar.org/event/gssar-color-guard-19/
CATEGORIES:Historic Sites & Celebrations
END:VEVENT
BEGIN:VEVENT
DTSTART;TZID=America/New_York:20171118T080000
DTEND;TZID=America/New_York:20171118T170000
DTSTAMP:20260424T012159
CREATED:20170615T174934Z
LAST-MODIFIED:20170615T174934Z
UID:739-1510992000-1511024400@gasocietysar.org
SUMMARY:GSSAR Color Guard
DESCRIPTION:Fort Morris “Come and Take It!”\, Midway\, GA: Allen Greenly\, Paul Prescott\, Jack Dugger\, Bill Ramsaur\, Jimmy Boatright\, Steven Hinson\, Steven Ford\, Bill Palmer\, Charlie Newcomer
URL:https://gasocietysar.org/event/gssar-color-guard-18/
CATEGORIES:Historic Sites & Celebrations
END:VEVENT
BEGIN:VEVENT
DTSTART;TZID=America/New_York:20171019T080000
DTEND;TZID=America/New_York:20171019T170000
DTSTAMP:20260424T012159
CREATED:20170615T174348Z
LAST-MODIFIED:20170615T174348Z
UID:731-1508400000-1508432400@gasocietysar.org
SUMMARY:GSSAR Color Guard
DESCRIPTION:Yorktown Days\, Yorktown\, VA: Don Thomas
URL:https://gasocietysar.org/event/gssar-color-guard-15/
CATEGORIES:Historic Sites & Celebrations
END:VEVENT
BEGIN:VEVENT
DTSTART;TZID=America/New_York:20171009T080000
DTEND;TZID=America/New_York:20171009T170000
DTSTAMP:20260424T012159
CREATED:20170615T174249Z
LAST-MODIFIED:20170615T174249Z
UID:729-1507536000-1507568400@gasocietysar.org
SUMMARY:GSSAR Color Guard
DESCRIPTION:Siege of Savannah\, Savannah\, GA: Jack Dugger\, Bill Palmer\, Charlie Newcomer
URL:https://gasocietysar.org/event/gssar-color-guard-14/
CATEGORIES:Historic Sites & Celebrations
END:VEVENT
BEGIN:VEVENT
DTSTART;TZID=America/New_York:20171007T080000
DTEND;TZID=America/New_York:20171007T170000
DTSTAMP:20260424T012159
CREATED:20170615T174133Z
LAST-MODIFIED:20170615T174133Z
UID:727-1507363200-1507395600@gasocietysar.org
SUMMARY:GSSAR Color Guard
DESCRIPTION:Kings Mountain\, Blacksburg\, SC: Ed Rigel\, Sr.\, Ed Rigel\, Jr.\, Hall Martin\, Sr.\, David Martin\, Jack Dugger\, Shep Hammack\, Bill Palmer\, Allen Greenly\, Larry Wilson
URL:https://gasocietysar.org/event/gssar-color-guard-13/
CATEGORIES:Historic Sites & Celebrations
END:VEVENT
BEGIN:VEVENT
DTSTART;VALUE=DATE:20170704
DTEND;VALUE=DATE:20170705
DTSTAMP:20260424T012159
CREATED:20170615T150614Z
LAST-MODIFIED:20170615T180443Z
UID:699-1499126400-1499212799@gasocietysar.org
SUMMARY:GSSAR Color Guard
DESCRIPTION:Atlanta Braves Stadium\n11:00am – 4th of July Parade Demorest
URL:https://gasocietysar.org/event/gssar-color-guard-2/
CATEGORIES:Historic Sites & Celebrations
END:VEVENT
BEGIN:VEVENT
DTSTART;TZID=America/New_York:20170617T080000
DTEND;TZID=America/New_York:20170617T170000
DTSTAMP:20260424T012159
CREATED:20170615T172205Z
LAST-MODIFIED:20170615T175804Z
UID:705-1497686400-1497718800@gasocietysar.org
SUMMARY:GSSAR Color Guard
DESCRIPTION:Battle of Ramsour’s Mill\, Lincolnton\, SC: Allen Greenly\, Ed Rigel\, Sr.\, Hall Martin\, Sr.\, David Martin\, Jack Dugger\, Bill Palmer
URL:https://gasocietysar.org/event/gssar-color-guard-4/
CATEGORIES:Historic Sites & Celebrations
END:VEVENT
BEGIN:VEVENT
DTSTART;TZID=America/New_York:20170611T110000
DTEND;TZID=America/New_York:20170611T130000
DTSTAMP:20260424T012159
CREATED:20170615T172042Z
LAST-MODIFIED:20170615T175827Z
UID:703-1497178800-1497186000@gasocietysar.org
SUMMARY:GSSAR Color Guard
DESCRIPTION:Warrior Classic: Bill Palmer\, Carter Wood
URL:https://gasocietysar.org/event/gssar-color-guard-3/
CATEGORIES:Historic Sites & Celebrations
END:VEVENT
END:VCALENDAR