BEGIN:VCALENDAR
VERSION:2.0
PRODID:-//Georgia Society, Sons of the American Revolution - ECPv6.15.20//NONSGML v1.0//EN
CALSCALE:GREGORIAN
METHOD:PUBLISH
X-WR-CALNAME:Georgia Society, Sons of the American Revolution
X-ORIGINAL-URL:https://gasocietysar.org
X-WR-CALDESC:Events for Georgia Society, Sons of the American Revolution
REFRESH-INTERVAL;VALUE=DURATION:PT1H
X-Robots-Tag:noindex
X-PUBLISHED-TTL:PT1H
BEGIN:VTIMEZONE
TZID:America/New_York
BEGIN:DAYLIGHT
TZOFFSETFROM:-0500
TZOFFSETTO:-0400
TZNAME:EDT
DTSTART:20230312T070000
END:DAYLIGHT
BEGIN:STANDARD
TZOFFSETFROM:-0400
TZOFFSETTO:-0500
TZNAME:EST
DTSTART:20231105T060000
END:STANDARD
BEGIN:DAYLIGHT
TZOFFSETFROM:-0500
TZOFFSETTO:-0400
TZNAME:EDT
DTSTART:20240310T070000
END:DAYLIGHT
BEGIN:STANDARD
TZOFFSETFROM:-0400
TZOFFSETTO:-0500
TZNAME:EST
DTSTART:20241103T060000
END:STANDARD
BEGIN:DAYLIGHT
TZOFFSETFROM:-0500
TZOFFSETTO:-0400
TZNAME:EDT
DTSTART:20250309T070000
END:DAYLIGHT
BEGIN:STANDARD
TZOFFSETFROM:-0400
TZOFFSETTO:-0500
TZNAME:EST
DTSTART:20251102T060000
END:STANDARD
END:VTIMEZONE
BEGIN:VEVENT
DTSTART;TZID=America/New_York:20240905T080000
DTEND;TZID=America/New_York:20240905T170000
DTSTAMP:20260424T225028
CREATED:20240702T141822Z
LAST-MODIFIED:20240830T135004Z
UID:7816-1725523200-1725555600@gasocietysar.org
SUMMARY:(PA) Potential stamp dedication by the US Postal Service for the First Continental Congress
DESCRIPTION:The basics are 11 am\, Thursday\, September 5\, 2024\, at Carpenters’ Hall in Philadelphia. We’d ask that you arrive NLT 10:15 to do the walk through. Ten guardsmen max in the unit due to space constraints\, but it will be open to the public\, so any other guardsman who wants to come in uniform is welcome to do so to add to the general festive nature of the event. \n 
URL:https://gasocietysar.org/event/pa-potential-stamp-dedication-by-the-us-postal-service-for-the-first-continental-congress/
CATEGORIES:Miscellaneous Events
END:VEVENT
BEGIN:VEVENT
DTSTART;TZID=America/New_York:20240906T053000
DTEND;TZID=America/New_York:20240906T210000
DTSTAMP:20260424T225028
CREATED:20240805T185940Z
LAST-MODIFIED:20240805T190041Z
UID:7998-1725600600-1725656400@gasocietysar.org
SUMMARY:BCRWBA Semi Annual Banquet
DESCRIPTION:Brier Creek Revolutionary War Battlefield Association Semi Annual Banquet \nWhen: September 6th (Friday) – Visit displays & mingle\, cocktails & drinks available 5:30-6 pm – Meeting and Presentation 6 – 8:30 pm\nWhere: Forest Heights Country Club – (3772 Country Club Road\, Statesboro\, Georgia) \nBattlefield Archaeologist Dan T. Elliott President of the LAMAR\, Institute Inc. – Presenting new research from the Brier Creek Battlefield \nSons of the American Revolution will serve as Color Guard and ﬂag bearers for this event. \n******************* \nThe Dinner will be Buffet Style: Roasted pork loin with caramelized onions in Dijon wine sauce\, fried chicken\, macaroni and cheese\, lemon-parmesan herb roasted red potatoes\, roasted broccoli\, southern green beans and garden fresh salad with dressings\, dinner rolls with whipped butter and assorted desserts. \nMail RSVP $40 check to: BCRWBA\, PO Box 603 Swainsboro\, GA 30401
URL:https://gasocietysar.org/event/bcrwba-semi-annual-banquet/
LOCATION:Forest Heights Country Club\, 3772 Country Club Road\, Statesboro\, GA\, 30458\, United States
CATEGORIES:GASSAR Color Guard,Miscellaneous Events
END:VEVENT
BEGIN:VEVENT
DTSTART;TZID=America/New_York:20240907T110000
DTEND;TZID=America/New_York:20240907T140000
DTSTAMP:20260424T225028
CREATED:20240702T142042Z
LAST-MODIFIED:20240702T142308Z
UID:7818-1725706800-1725717600@gasocietysar.org
SUMMARY:National (VA) - Battle of the Capes - 11:00 AM
DESCRIPTION:September 7th\, 2024\, Saturday (11:00 am) – Commemoration of the Battle of the Capes\, Virginia Beach\, VA Event Level: National \nHost/POC:  Norfolk Chapter VASSAR / John Hall. \nLocation:  Vice Admiral Francois Joseph Paul de Grasse Statue\, Fort Story\, Virginia Beach\, VA. \nFiring Event: No \nDetails: The Battle of the Chesapeake\, also known as the Battle of the Virginia Capes or simply the Battle of the Capes\, was a crucial naval battle in the American Revolutionary War that took place near the mouth of the Chesapeake Bay on September 5\, 1781. The combatants were a British fleet led by Rear Admiral Sir Thomas Graves and a French fleet led by Rear Admiral Francois Joseph Paul\, the Comte de Grasse. The battle strategically prevented the Royal Navy from reinforcing or evacuating the besieged forces of Lieutenant General Lord Cornwallis at Yorktown\, Virginia. The French achieved control of the sea lanes against the British and provided the Franco-American army with siege artillery and French reinforcements. These proved decisive in the Siege of Yorktown\, effectively securing independence for the Thirteen Colonies. (Note: this event was approved to become a National Level Event by NSSAR leadership on March 3rd\, 2024.) Virginia SAR Color Guard Attendees: Dunaway\, Lynch\, Melhuish\, Osborn\, Thompson. \nFrench Navy Color Guard Attendee: TBA.
URL:https://gasocietysar.org/event/national-va-battle-of-the-capes-1100-am/
CATEGORIES:Miscellaneous Events,National Events
END:VEVENT
BEGIN:VEVENT
DTSTART;TZID=America/New_York:20240911T053000
DTEND;TZID=America/New_York:20240911T193000
DTSTAMP:20260424T225028
CREATED:20240909T132905Z
LAST-MODIFIED:20240909T132921Z
UID:8066-1726032600-1726083000@gasocietysar.org
SUMMARY:September 11th Remembrance Service - Clarkesville\, GA
DESCRIPTION:A 911 service will be held on September 11\, 2023 at 5:30 p.m. at the \nChattahoochee Mountain Fairground\, 4235 Toccoa Highway\, (GA state route 115)\, Clarkesville GA  30523. \nThe event will be sponsored by Joseph Habersham Chapter\, Georgia Society SAR\, and Grant-Reeves VFW Post # 7720. \nWe are requesting as many Color Guard members as can attend to be there for this event.  Black Powder Musket Volley is planned \nWe will have our cannon there and it will be fired. \nMany thanks\,  Larry Whitfield – My phone # is 706-499-9437  if there are any questions.
URL:https://gasocietysar.org/event/september-11th-remembrance-service-clarkesville-ga/
LOCATION:Chattaoochee Mountain Firgound\, 4235 Toccoa Highway\, Clarkesville\, GA\, 30523\, United States
CATEGORIES:GASSAR Color Guard,Miscellaneous Events
END:VEVENT
BEGIN:VEVENT
DTSTART;TZID=America/New_York:20240913T130000
DTEND;TZID=America/New_York:20240913T150000
DTSTAMP:20260424T225028
CREATED:20240206T202737Z
LAST-MODIFIED:20240702T142723Z
UID:7511-1726232400-1726239600@gasocietysar.org
SUMMARY:(TN) - Three Patriot Grave Marker Dedication Ceremony
DESCRIPTION:Three Patriot Grave Marking Event – September 13th \nThe day before the Gathering is an opportunity to honor three Revolutionary War Patriots with two grave marking ceremonies. \nFirst Grave Marking Events\nWhere: Old Jonesborough Cemetery\, East Main Street\, Jonesborough\, Tennessee\n(There is no parking at the cemetery. You must park at the First Baptist Church and take the sidewalk to the cemetery.)\nWhen: 1:00 pm\nWho: Honoring David Deadrick (P-145904) and Robert Patton (P-266874) \nSecond Grave Marking Events\nWhere: Johnson City Brewing at Boones Creek\, 2362 Boones Creek Rd\, Johnson City\, Tennessee\nWhen: 2:00 pm\nWho: Honoring Capt. Joseph Crouch (P-141703) \n 
URL:https://gasocietysar.org/event/tn-five-patriot-grave-marker-dedication-ceremony/
CATEGORIES:Grave Dedication,Miscellaneous Events
END:VEVENT
BEGIN:VEVENT
DTSTART;TZID=America/New_York:20240915T150000
DTEND;TZID=America/New_York:20240915T163000
DTSTAMP:20260424T225028
CREATED:20240909T140144Z
LAST-MODIFIED:20240909T140144Z
UID:8069-1726412400-1726417800@gasocietysar.org
SUMMARY:Constitution event - Watkinsville Junior American Citizens
DESCRIPTION:CONSTITUTION CELEBRATION!\n\n\nHosted by THE REVEREND JOHN ANDREW CHAPTER NSDAR\n\n\nSunday\, 15 September 2024 – 3:00 PM to 4:30 PM \nAshford Memorial Methodist Church – 1 North mains Street – Watkinsville\, GA   30677 \n  \nCome help us celebrate the document that covers us all! Listen to the voices of young Americans recount the riveting history of the U.S. Constitution in anticipation of the 237th anniversary of its historic signing! \nPATRIOTIC MUSIC\nAthens Area Homeschool Band\n& Watkinsville Junior American Citizens \nCONSTITUTION HISTORY PROGRAM\nWatkinsville Junior American Citizens \nCOOKIES & MUSKET FIRE \n 
URL:https://gasocietysar.org/event/constitution-event-watkinsville-junior-american-citizens/
LOCATION:Ashford Memorial Church\, 1 North Main Street\, Watkinsville\, 30677\, United States
CATEGORIES:GASSAR Color Guard,Miscellaneous Events
END:VEVENT
BEGIN:VEVENT
DTSTART;TZID=America/New_York:20240917T080000
DTEND;TZID=America/New_York:20240917T170000
DTSTAMP:20260424T225028
CREATED:20240206T204032Z
LAST-MODIFIED:20240702T152050Z
UID:7516-1726560000-1726592400@gasocietysar.org
SUMMARY:Constitution Day
DESCRIPTION:September 17 is Constitution Day and Citizenship Day (Constitution Day). This day commemorates the September 17\, 1787 signing of the United States Constitution. \nEach educational institution that receives Federal funds for a fiscal year is required to hold an educational program about the U.S. Constitution for its students on September 17 (if it falls on a weekend; it should be held in the previous or next week). \n 
URL:https://gasocietysar.org/event/constitution-day-3/
CATEGORIES:Miscellaneous Events
END:VEVENT
BEGIN:VEVENT
DTSTART;TZID=America/New_York:20240925T080000
DTEND;TZID=America/New_York:20240925T170000
DTSTAMP:20260424T225028
CREATED:20240925T164519Z
LAST-MODIFIED:20240925T164519Z
UID:8094-1727251200-1727283600@gasocietysar.org
SUMMARY:National Society Colonial Dames XVII Century – Grave Marking
DESCRIPTION:National Society Colonial Dames XVII Century – Grave Marking\n\nFRIDAY – October 25 @ 11:00 am – 12:00 pm\n\n\n\nPlease join the National Society Colonial Dames XVII Century – Thomas Johnson Chapter\nHonoring our Chapters’ Founder Zelma Monroe Johnson \nWith a grave marking ceremony Friday\, October 25th \, 2024 at 11:00 am \nArlington Memorial Park \, 201 Mt. Vernon Highway NE\, Sandy Springs\, GA 30328 \nPlease RSVP: Judi Miehl\, judimiehl@gmail.com \nRefreshments to follow ceremony \nThis is a request for a SAR Color Guard and for us to support a fellow lineage society.  It is not an SAR grave marking
URL:https://gasocietysar.org/event/national-society-colonial-dames-xvii-century-grave-marking-2/
LOCATION:Arlington Memorial Park\, 201 Mount Vernon Highway NE\, Sandy Springs\, GA\, 30328\, United States
CATEGORIES:GASSAR Color Guard,Miscellaneous Events
END:VEVENT
BEGIN:VEVENT
DTSTART;TZID=America/New_York:20240927T110000
DTEND;TZID=America/New_York:20240927T120000
DTSTAMP:20260424T225028
CREATED:20240909T141701Z
LAST-MODIFIED:20240925T164143Z
UID:8073-1727434800-1727438400@gasocietysar.org
SUMMARY:POSTPONED - National Society Colonial Dames XVII Century - Grave Marking - POTPONED
DESCRIPTION:POSTPONED DUE TO POTENTIAL WEATHER ISSUES \nRE-SCHEDULED FOR FRIDAY 25 OCT 2024 \nPlease join the National Society Colonial Dames XVII Century – Thomas Johnson Chapter\nHonoring our Chapters’ Founder Zelma Monroe Johnson \nThis is a request for a SAR Color Guard and for us to support a fellow lineage society.  It is not an SAR grave marking.
URL:https://gasocietysar.org/event/national-society-colonial-dames-xvii-century-grave-marking/
CATEGORIES:Miscellaneous Events
END:VEVENT
BEGIN:VEVENT
DTSTART;TZID=America/New_York:20240928T093000
DTEND;TZID=America/New_York:20240928T143000
DTSTAMP:20260424T225028
CREATED:20240208T164743Z
LAST-MODIFIED:20240927T165521Z
UID:7659-1727515800-1727533800@gasocietysar.org
SUMMARY:CANCELLED - 244th Anniversary Commemoration of the First Siege of Augusta - CANCELLED
DESCRIPTION:CANCELLED due to weather related issues in the area.\nThe Henry Laurens Chapter (Aiken) South Carolina Society and the Colonel William Few Chapter (Augusta) Georgia Society Sons of the American Revolution \nCordially invite you to attend the \n244th Anniversary Commemoration of the First Siege of Augusta \nSaturday\, 1:00 PM\, September 28\, 2024 \nSalvation Army Kroc Center Auditorium\, 1833 Broad Street\, Augusta\, Georgia \nSchedule of Events: \n\n9:30 AM – 12:00 PM. We will host a combined meeting of the Georgia and South Carolina C.A.R. in the Kroc Center Auditorium.\n12:00 PM – 1:00 PM. The local SAR chapters with assistance from the Augusta Chapter\, NSDAR\, will host a luncheon consisting of BBQ sandwiches\, potato salad\, and tea provided by Larry Sconyers BBQ in the Kroc Center Lunchroom. There will also be dessert. You must sign up for the luncheon in advance and the cost is $16.00 per person.\n1:00 PM – 1:45 PM. We will conduct the commemoration ceremony in the comfortable 300-seat Kroc Center Auditorium. The ceremony will consist of bringing greetings\, a battle seminar by Historian Steven Rauch and wreath presentations.\nFollowing the indoor ceremony\, we will go out to the battlefield behind the Kroc Center to watch a mock battle reenactment demonstration to be conducted by our militia and artillery sections firing black powder muskets and six black powder cannons.\n\n  \nSAR\, DAR\, C.A.R. and other patriotic and lineage societies and chapters are invited to participate in a formal wreath laying ceremony as part of the program. Participants presenting a wreath need to fill out the following form and return it to me. Please check in with Sue at the registration table by 12:30 PM. Continental\, Militia or period attire is encouraged. \nTo ensure your organization’s recognition in the program\, please complete and return the registration form provided to \nSonny Pittman\, Event Coordinator\, \nat: sonnypittman@comcast.net \nor \nSonny and Sue Pittman\, Event Coordinators \n2202 Holly Haven Court\, Augusta\, GA 30907-3779 \n(706) 860-1050; sonnypittman@comcast.net \n  \n244th Anniversary of the First Siege of Augusta \nAttendance and Wreath Registration \nRegistration forms should be returned to Sonny Pittman at sonnypittman@comcast.net \nYour Contact Information (will be held in strict confidence): \nName: ___________________________________________________________________ \nAddress: _________________________________________________________________ \nTelephone Number &amp; Email Address: __________________________________________ \nSociety Name: ____________________________________________________________ \nChapter Name: ___________________________________________________________ \nName of Presenter: _______________________________________________________ \nTitle (if desired): _________________________________________________________ \nWill be in Uniform/Militia or Colonial Attire: Yes _______ No _______ \nWill Participate in the Color Guard: ________________ \nWill Participate in the 12:00 PM lunch @ $16 dollars per person. Yes ______ No ______ \n  \nNumber of Attendees for lunch: __________________ x $16.00 =_______________total
URL:https://gasocietysar.org/event/siege-of-augusta-time/
LOCATION:Kroc Center Auditorium\, 1833 Broad Street\, Augusta\, GA\, 30904\, United States
CATEGORIES:DAR Events,GA Society Events,GASSAR Color Guard,Miscellaneous Events
END:VEVENT
END:VCALENDAR