BEGIN:VCALENDAR
VERSION:2.0
PRODID:-//Georgia Society, Sons of the American Revolution - ECPv6.15.20//NONSGML v1.0//EN
CALSCALE:GREGORIAN
METHOD:PUBLISH
X-WR-CALNAME:Georgia Society, Sons of the American Revolution
X-ORIGINAL-URL:https://gasocietysar.org
X-WR-CALDESC:Events for Georgia Society, Sons of the American Revolution
REFRESH-INTERVAL;VALUE=DURATION:PT1H
X-Robots-Tag:noindex
X-PUBLISHED-TTL:PT1H
BEGIN:VTIMEZONE
TZID:America/New_York
BEGIN:DAYLIGHT
TZOFFSETFROM:-0500
TZOFFSETTO:-0400
TZNAME:EDT
DTSTART:20230312T070000
END:DAYLIGHT
BEGIN:STANDARD
TZOFFSETFROM:-0400
TZOFFSETTO:-0500
TZNAME:EST
DTSTART:20231105T060000
END:STANDARD
BEGIN:DAYLIGHT
TZOFFSETFROM:-0500
TZOFFSETTO:-0400
TZNAME:EDT
DTSTART:20240310T070000
END:DAYLIGHT
BEGIN:STANDARD
TZOFFSETFROM:-0400
TZOFFSETTO:-0500
TZNAME:EST
DTSTART:20241103T060000
END:STANDARD
BEGIN:DAYLIGHT
TZOFFSETFROM:-0500
TZOFFSETTO:-0400
TZNAME:EDT
DTSTART:20250309T070000
END:DAYLIGHT
BEGIN:STANDARD
TZOFFSETFROM:-0400
TZOFFSETTO:-0500
TZNAME:EST
DTSTART:20251102T060000
END:STANDARD
END:VTIMEZONE
BEGIN:VEVENT
DTSTART;TZID=America/New_York:20241007T140000
DTEND;TZID=America/New_York:20241007T160000
DTSTAMP:20260425T001415
CREATED:20240809T172031Z
LAST-MODIFIED:20241003T015929Z
UID:8019-1728309600-1728316800@gasocietysar.org
SUMMARY:POSTPONED - South Atlantic District Meeting
DESCRIPTION:POSTPONED\n  \nSouth Atlantic District Meeting \nWhen: Monday\, 7 Oct 2024 from 2:00 PM to 4:00 PM \nWhere: Gaffney Visitors Center and Art Gallery – 210 West Frederick St\, Gaffney\, SC 29341 \nThe event will be held after the Kings Mountain Commemoration and will include a Candidates Forum for National office. \n 
URL:https://gasocietysar.org/event/south-atlantic-district-meeting-3/
LOCATION:Gaffney Visitors Center and Art Gallery\, 210 West Frederick St\, Gaffney\, SC\, 29341\, United States
CATEGORIES:District Event,GASSAR Color Guard,Miscellaneous Events
END:VEVENT
BEGIN:VEVENT
DTSTART;TZID=America/New_York:20241019T103000
DTEND;TZID=America/New_York:20241019T120000
DTSTAMP:20260425T001415
CREATED:20240206T235910Z
LAST-MODIFIED:20240206T235910Z
UID:7574-1729333800-1729339200@gasocietysar.org
SUMMARY:(VA) - Battle of Yorktown Victory Parade
DESCRIPTION:October 19th\, 2024\, Saturday (10:30 am) – Battle of Yorktown Victory Parade\, Yorktown\, VA\nEvent Level: National\nHost/POC: Thomas Nelson Jr Chapter VASSAR / Gary Hodges.\nLocation:  Yorktown\, VA.\nFiring Event: No \nDetails: The Siege of Yorktown\, also known as the Battle of Yorktown\, the surrender at Yorktown\, or the German Battle\, ending on October 19\, 1781\, at Yorktown\, Virginia\, was a decisive victory by a combined force of the American Continental Army troops led by General George Washington and French Army troops led by the Comte de Rochambeau over a British army commanded by Lieutenant General Charles Cornwallis. The culmination of the Yorktown campaign\, the siege proved to be the last major land battle of the American Revolutionary War in the North American region\, as the surrender by Cornwallis\, and the capture of both him and his army\, prompted the British government to negotiate an end to the conflict.\nParade formation may be viewed here (click on link): Yorktown SAR Formation\nNote: this event also marks the bicentennial of the return of the Marquis de Lafayette to Yorktown in October 1824 and is expected to be a significant commemoration.
URL:https://gasocietysar.org/event/va-battle-of-yorktown-victory-parade/
CATEGORIES:Miscellaneous Events
END:VEVENT
END:VCALENDAR