BEGIN:VCALENDAR
VERSION:2.0
PRODID:-//Georgia Society, Sons of the American Revolution - ECPv6.15.20//NONSGML v1.0//EN
CALSCALE:GREGORIAN
METHOD:PUBLISH
X-WR-CALNAME:Georgia Society, Sons of the American Revolution
X-ORIGINAL-URL:https://gasocietysar.org
X-WR-CALDESC:Events for Georgia Society, Sons of the American Revolution
REFRESH-INTERVAL;VALUE=DURATION:PT1H
X-Robots-Tag:noindex
X-PUBLISHED-TTL:PT1H
BEGIN:VTIMEZONE
TZID:America/New_York
BEGIN:DAYLIGHT
TZOFFSETFROM:-0500
TZOFFSETTO:-0400
TZNAME:EDT
DTSTART:20240310T070000
END:DAYLIGHT
BEGIN:STANDARD
TZOFFSETFROM:-0400
TZOFFSETTO:-0500
TZNAME:EST
DTSTART:20241103T060000
END:STANDARD
BEGIN:DAYLIGHT
TZOFFSETFROM:-0500
TZOFFSETTO:-0400
TZNAME:EDT
DTSTART:20250309T070000
END:DAYLIGHT
BEGIN:STANDARD
TZOFFSETFROM:-0400
TZOFFSETTO:-0500
TZNAME:EST
DTSTART:20251102T060000
END:STANDARD
BEGIN:DAYLIGHT
TZOFFSETFROM:-0500
TZOFFSETTO:-0400
TZNAME:EDT
DTSTART:20260308T070000
END:DAYLIGHT
BEGIN:STANDARD
TZOFFSETFROM:-0400
TZOFFSETTO:-0500
TZNAME:EST
DTSTART:20261101T060000
END:STANDARD
END:VTIMEZONE
BEGIN:VEVENT
DTSTART;TZID=America/New_York:20250207T170000
DTEND;TZID=America/New_York:20250207T210000
DTSTAMP:20260424T120011
CREATED:20240702T160538Z
LAST-MODIFIED:20241231T165736Z
UID:7865-1738947600-1738962000@gasocietysar.org
SUMMARY:Kettle Creek Battlefield Association - Annual Dinner
DESCRIPTION:The Kettle Creek Battlefield Association\nAnnual Banquet celebrating the “Battle of Kettle Creek” \nWhen: Friday\, February 7\, 2025 – Reception 5:00 PM – Dinner 6: 30 PM \nwhere: Washington Wilkes Country Club\, 300 Country Club Dr.\, Washington\, GA 30673 \nSpeaker: John T. Trussell – “Marquis de Lafayette American Tour 1824-1825” \n  \nDinner Cost $45.00 per individual  \nPlease make you check payable to the \nKettle Creek Battlefield Association \nMail to: PO BOX 729\, Washington\, GA 30673 \nPlease include your email address \nDinner reservation must be received by January 31\, 2025 \nFor questions contact: Walker Chewning – 678–409-4644 \nFNOTE: Those wishing to sit as a group or family please designate on your RSVP –Tables seat “6” and will be assigned by number.
URL:https://gasocietysar.org/event/kettle-creek-battlefield-association-annual-dinner/
CATEGORIES:GASSAR Color Guard,Miscellaneous Events
END:VEVENT
BEGIN:VEVENT
DTSTART;TZID=America/New_York:20250217T080000
DTEND;TZID=America/New_York:20250217T170000
DTSTAMP:20260424T120011
CREATED:20240702T204111Z
LAST-MODIFIED:20240702T204111Z
UID:7940-1739779200-1739811600@gasocietysar.org
SUMMARY:President Day
DESCRIPTION:
URL:https://gasocietysar.org/event/president-day/
CATEGORIES:Miscellaneous Events
END:VEVENT
BEGIN:VEVENT
DTSTART;TZID=America/New_York:20250222T080000
DTEND;TZID=America/New_York:20250222T170000
DTSTAMP:20260424T120011
CREATED:20240702T203602Z
LAST-MODIFIED:20240702T203602Z
UID:7936-1740211200-1740243600@gasocietysar.org
SUMMARY:George Washington Birthday
DESCRIPTION:
URL:https://gasocietysar.org/event/george-washington-birthday/
CATEGORIES:Miscellaneous Events,National Events
END:VEVENT
END:VCALENDAR