BEGIN:VCALENDAR
VERSION:2.0
PRODID:-//Georgia Society, Sons of the American Revolution - ECPv6.15.20//NONSGML v1.0//EN
CALSCALE:GREGORIAN
METHOD:PUBLISH
X-ORIGINAL-URL:https://gasocietysar.org
X-WR-CALDESC:Events for Georgia Society, Sons of the American Revolution
REFRESH-INTERVAL;VALUE=DURATION:PT1H
X-Robots-Tag:noindex
X-PUBLISHED-TTL:PT1H
BEGIN:VTIMEZONE
TZID:America/New_York
BEGIN:DAYLIGHT
TZOFFSETFROM:-0500
TZOFFSETTO:-0400
TZNAME:EDT
DTSTART:20240310T070000
END:DAYLIGHT
BEGIN:STANDARD
TZOFFSETFROM:-0400
TZOFFSETTO:-0500
TZNAME:EST
DTSTART:20241103T060000
END:STANDARD
BEGIN:DAYLIGHT
TZOFFSETFROM:-0500
TZOFFSETTO:-0400
TZNAME:EDT
DTSTART:20250309T070000
END:DAYLIGHT
BEGIN:STANDARD
TZOFFSETFROM:-0400
TZOFFSETTO:-0500
TZNAME:EST
DTSTART:20251102T060000
END:STANDARD
BEGIN:DAYLIGHT
TZOFFSETFROM:-0500
TZOFFSETTO:-0400
TZNAME:EDT
DTSTART:20260308T070000
END:DAYLIGHT
BEGIN:STANDARD
TZOFFSETFROM:-0400
TZOFFSETTO:-0500
TZNAME:EST
DTSTART:20261101T060000
END:STANDARD
END:VTIMEZONE
BEGIN:VEVENT
DTSTART;TZID=America/New_York:20250509T080000
DTEND;TZID=America/New_York:20250509T120000
DTSTAMP:20260424T081033
CREATED:20240702T195619Z
LAST-MODIFIED:20250504T151150Z
UID:7911-1746777600-1746792000@gasocietysar.org
SUMMARY:National (FL) - Galvez Day - Battle of Pensacola
DESCRIPTION:The National Society SAR and the Florida Society SAR invite you to a National SAR event honoring The Battle of Pensacola and General Bernardo de Galvez.\nSchedule (all times are in Central Time):\n08:30 – Color Guard Muster at Fort George \n09:45 – Color Guard procession from Fort George down to the Galvez Monument \n10:00-10:30 – Ceremony at the Galvez Monument \n11:30 – 2:30 – Luncheon at Pensacola Yacht Club (Reservations are REQUIRED.  Link below) \n3:00 – 3:30 – Wreath Laying at the Minuteman Monument in Veterans Memorial Park \n  \nThe Color Guard will have the pleasure of once again being under the command of Scott Collins\, Vice President General for the NSSAR South Atlantic District and the NSSAR Color Guard Commander. \nYou’ll note that there are some changes to the schedule from what has been published.  There is no service at St. Michael’s Basilica this year due to scheduling problems\, so the overall ceremony in the morning will be much shorter.  Also\, the women from the DAR will be “mustering” with the color guard up at Fort George and following behind the Color Guard as we come down Palafox Street to the Monument.  Unlike past years\, I have asked that the color guard not have to stand flanking the monument with the flags for the entire ceremony but rather post the colors and be able to then find a seat or find some shade.  The City of Pensacola is running the morning ceremony\, and they have asked that we not retire the colors at the end of the ceremony. \n  \nFor those who are staying for the luncheon and the wreath laying\, Rhonda Brach\, the current Regent of the Fort Pickens DAR\, has offered her house at 903 N. Spring Street for Color Guardsmen and others to come and cool off a bit before heading to the Luncheon at 11:30. \n  \nLink to purchase a ticket for the Luncheon:  https://ecom.roller.app/uwfhistorictrust/galvezpublicluncheon/en-us/home \n 
URL:https://gasocietysar.org/event/national-fl-galvez-day-battle-of-pensacola/
CATEGORIES:Miscellaneous Events,National Events
END:VEVENT
BEGIN:VEVENT
DTSTART;TZID=America/New_York:20250524T103000
DTEND;TZID=America/New_York:20250524T113000
DTSTAMP:20260424T081033
CREATED:20240702T200726Z
LAST-MODIFIED:20250512T211040Z
UID:7916-1748082600-1748086200@gasocietysar.org
SUMMARY:National (SC) - Commemoration of the Battle of the Waxhaws (Buford's Massacre) - 10:30 AM
DESCRIPTION:National Society of the Sons of the American Revolution\, South Carolina Society of the Sons of the American Revolution\, And The General Francis Marion Chapter cordially invite you to participate in the 245th Commemoration of \nBuford’s Massacre (also known as the Battle of the Waxhaws) \nSaturday\, May 24\, 2025 \nBuford’s Massacre Site\, Buford’s Crossroad\, South Carolina – Buford Battleground: 262 Rocky River Road\, Lancaster\, SC 29720 – GPS Coordinates: 34.741949\,-80.626124 \n  \nSAR\, DAR\, CAR\, and SR societies and chapters are invited to participate in a formal wreath laying ceremony at the Park’s Monument beginning at 10:30 a.m. \nParticipants desiring to present wreaths must deliver them to the Park no later than 10:00 a.m.\, May 24th\, to label and arrange them. \nAll compatriots are encouraged to wear period dress (Continental or Militia). \n  \nWreaths may be dedicated to the slain at the site\, a unit or group of patriots or an individual patriot. To ensure all participants are recognized in the celebration program\, it is requested you complete and mail your intent for my receipt not later than May 16th to: \nGreg Ohanesian\, Past President\, S.C.S.S.A.R. – Post Office Box 1373 – Bennettsville\, S.C. 29512 \n(843) 479-7193\, Fax: (843) 479-7195\, E-mail: ohanesianfirm@cs.com \n  \nPlease fill out information below and return \nName of Society/Chapter/Individual: \nFirst Middle Last \nLay wreath at the Monument? NO YES Presenter: \nWreath dedicated to: \nBringing unit/chapter flag? Yes No Color Guard? Yes No \nNumber of members expected to attend In Uniform or Colonial Dress
URL:https://gasocietysar.org/event/national-sc-commemoration-of-the-battle-of-the-waxhaws-bufords-massacre/
CATEGORIES:Miscellaneous Events,National Events
END:VEVENT
BEGIN:VEVENT
DTSTART;TZID=America/New_York:20250524T110000
DTEND;TZID=America/New_York:20250524T120000
DTSTAMP:20260424T081033
CREATED:20240702T200049Z
LAST-MODIFIED:20250512T183718Z
UID:7913-1748084400-1748088000@gasocietysar.org
SUMMARY:National (IN) - George Rogers Clark Commemoration - 11:00
DESCRIPTION:George Rogers Clark Memorial Wreath Laying Ceremony \nCelebrating the 246th Anniversary of the Capture of Fort Sackville and Patriot Grave Marking \nFrancois Godere\, Jean Marie Philippe Le Gras\, Jean Baptiste Racine\, Honore Denis\, and Jean Legarde \nMay 24\, 2025 @ 11:00 – 11:45 am EDT George Rogers Clark Memorial 401 S 2nd St \nFree admission and open to the public. Vincennes\, IN 47591\nFor questions contact Robert Cunningham. 812-327-5114\, Email: rpcunnin@iu.edu\nEvent websites: https://www.nps.gov/gero/index.htm and https://www.spiritofvincennes.org/
URL:https://gasocietysar.org/event/national-in-george-rogers-clark-commemoration-2/
CATEGORIES:Miscellaneous Events,National Events
END:VEVENT
BEGIN:VEVENT
DTSTART;TZID=America/New_York:20250525T113000
DTEND;TZID=America/New_York:20250525T150000
DTSTAMP:20260424T081033
CREATED:20240702T201041Z
LAST-MODIFIED:20250512T182124Z
UID:7918-1748172600-1748185200@gasocietysar.org
SUMMARY:National (MO) - Commemoration of the Battle of Fort San Carlos
DESCRIPTION:Battle of Fort San Carlos Festival and Grave Marking \nS U N D A Y \, M A Y 2 5 \, 2 0 2 5 – S T E . G E N E V I E V E \, M I S S O U R I \nPlan your stay now in beautiful\, historic Ste. Genevieve\, the first organized European settlement west of the Mississippi River in present-day Missouri. Lots of great places to stay\, eat and visit.\n11:30 a.m. – Registration at Guibord-Valle House – Commemorative challenge coins and medals available for purchase\n1 p.m. – Memorial Cemetery Ceremony – (rain location: Ste. Genevieve Catholic Church) \nBring your own wreath and receive a commemorative flag streamer Militia and Color Guard muster at 12:30 p.m. at Guibord-Valle House National Color Guard Event \nSons of the American Revolution Participating Color Guard members must contact State Commander Steve Perkins to review safety requirements and eligibility for medal qualification: patriotmarcher@fastmail.com
URL:https://gasocietysar.org/event/national-mo-commemoration-of-the-battle-of-fort-san-carlos/
CATEGORIES:Miscellaneous Events,National Events
END:VEVENT
BEGIN:VEVENT
DTSTART;TZID=America/New_York:20250526T080000
DTEND;TZID=America/New_York:20250526T170000
DTSTAMP:20260424T081033
CREATED:20240702T201237Z
LAST-MODIFIED:20240702T201237Z
UID:7920-1748246400-1748278800@gasocietysar.org
SUMMARY:National (DC) - National Memorial Day Parade
DESCRIPTION:Save teh date – On the Monday of Memorial day normally at 2:00 PM start time
URL:https://gasocietysar.org/event/national-dc-national-memorial-day-parade/
CATEGORIES:Miscellaneous Events,National Events
END:VEVENT
BEGIN:VEVENT
DTSTART;TZID=America/New_York:20250526T080000
DTEND;TZID=America/New_York:20250526T170000
DTSTAMP:20260424T081033
CREATED:20240702T201410Z
LAST-MODIFIED:20240702T201427Z
UID:7922-1748246400-1748278800@gasocietysar.org
SUMMARY:Memorial Day Events
DESCRIPTION:Please support the SAR by participating in community events.
URL:https://gasocietysar.org/event/memorial-day-events/
CATEGORIES:Miscellaneous Events,National Events
END:VEVENT
BEGIN:VEVENT
DTSTART;TZID=America/New_York:20250526T110000
DTEND;TZID=America/New_York:20250526T120000
DTSTAMP:20260424T081033
CREATED:20240702T201604Z
LAST-MODIFIED:20250512T145942Z
UID:7924-1748257200-1748260800@gasocietysar.org
SUMMARY:Memorial Day at Oconee Veterans Park Memorial - 11:00 AM
DESCRIPTION:OCONEE VETERANS PARK\, Watkinsville\, Ga. – The Oconee Veterans Memorial Foundation\, Inc. will host a Memorial Day program on May 26th at the Oconee County Veterans Memorial located at Oconee Veterans Park. The program will begin at 11:00am. \nThis year’s program will include the lighting of memorial candles\, special music\, and guest speaker\, Dr. Henry H. Heard\, DHSc\, PA-C\, Colonel (Ret.) The traditional laying of wreaths will occur at the end of the program.  Dr. Henry H. Heard is a seasoned healthcare leader with over 40 years of experience as a Physician Assistant in multiple specialties\, including emergency medicine\, neurosurgery\, and orthopedics. A former Associate Professor at Mercer University\, he has taught over 1\,000 PA students and continues to serve as an adjunct faculty member. Dr. Heard is also a retired U.S. Air Force Colonel\, honored with the Legion of Merit\, and was the first PA to command an Air Force hospital in Iraq. He holds advanced degrees in health science\, military studies\, and orthopedic PA practice. A published author and licensed commercial pilot\, Dr. Heard brings a wealth of clinical\, academic\, and leadership experience to every audience. \nVeteran Organizations are encouraged to set up display tents beginning at 10:00am to share information and encourage Veteran membership. Attendees are encouraged to bring lawn chairs\, as seating will be limited. In the event of inclement weather\, the ceremony will be moved inside the Community Center at Oconee Veterans Park. \nThe Foundation is pleased to announce that additional names are being accepted for future engraving on the reverse side of the North Wall of Honor as part of Phase III of the Memorial. General donations are encouraged to help support the ongoing maintenance of the Memorial grounds.   \nAll proceeds from Phase III will go toward construction and upkeep of the wall\, as well as the presentation of the 39 Killed in Action names from Oconee County.  This project is made possible in part by generous support from the Reverend John Andrew Chapter of the National Society Daughters of the American Revolution\, Oconee State Bank\, Wells Fargo\, Oconee Foundations\, LLC\, Ruppert Landscape\, and many other Friends of the Memorial. \nWall of Honor nomination forms will be available at the ceremony. Please help us spread the word as we continue to honor our fallen heroes.\nThe Oconee Veterans Memorial Foundation\, Inc. For additional questions and information please contact James Alexander or email the foundation at\noconeeveteransmemorial@gmail.com
URL:https://gasocietysar.org/event/memorial-day-at-oconee-veterans-park-memorial/
LOCATION:Oconee County Veterans Memorial\, 3500 Hog Mountain Road\, Watkinsville\, GA\, 30677\, United States
CATEGORIES:GASSAR Color Guard,Miscellaneous Events
END:VEVENT
END:VCALENDAR