BEGIN:VCALENDAR
VERSION:2.0
PRODID:-//Georgia Society, Sons of the American Revolution - ECPv6.15.20//NONSGML v1.0//EN
CALSCALE:GREGORIAN
METHOD:PUBLISH
X-ORIGINAL-URL:https://gasocietysar.org
X-WR-CALDESC:Events for Georgia Society, Sons of the American Revolution
REFRESH-INTERVAL;VALUE=DURATION:PT1H
X-Robots-Tag:noindex
X-PUBLISHED-TTL:PT1H
BEGIN:VTIMEZONE
TZID:America/New_York
BEGIN:DAYLIGHT
TZOFFSETFROM:-0500
TZOFFSETTO:-0400
TZNAME:EDT
DTSTART:20230312T070000
END:DAYLIGHT
BEGIN:STANDARD
TZOFFSETFROM:-0400
TZOFFSETTO:-0500
TZNAME:EST
DTSTART:20231105T060000
END:STANDARD
BEGIN:DAYLIGHT
TZOFFSETFROM:-0500
TZOFFSETTO:-0400
TZNAME:EDT
DTSTART:20240310T070000
END:DAYLIGHT
BEGIN:STANDARD
TZOFFSETFROM:-0400
TZOFFSETTO:-0500
TZNAME:EST
DTSTART:20241103T060000
END:STANDARD
BEGIN:DAYLIGHT
TZOFFSETFROM:-0500
TZOFFSETTO:-0400
TZNAME:EDT
DTSTART:20250309T070000
END:DAYLIGHT
BEGIN:STANDARD
TZOFFSETFROM:-0400
TZOFFSETTO:-0500
TZNAME:EST
DTSTART:20251102T060000
END:STANDARD
END:VTIMEZONE
BEGIN:VEVENT
DTSTART;TZID=America/New_York:20240419T080000
DTEND;TZID=America/New_York:20240420T170000
DTSTAMP:20260425T080814
CREATED:20240206T185634Z
LAST-MODIFIED:20240206T185634Z
UID:7472-1713513600-1713632400@gasocietysar.org
SUMMARY:SC - 2024 South Carolina Annual Meeting
DESCRIPTION:FRIDAY APRIL 19TH – \n2:00 PM – SCSSAR Bench Dedication – The Revolutionary War Visitor Center\, 212 Broad Street\, Camden\, SC 29020\nThis ceremony will commemorate the placement of the SCSSAR Memorial Bench as part of a nation-wide America 250th initiative. We would encourage all Compatriots with uniforms or period\nclothing to please plan on wearing them for this event.\n3:00 PM – Wreath Laying Ceremony at Quaker Cemetery\, 713 Meeting Street\, Camden\, South Carolina 2902\nImmediately after the Bench Dedication\, we will encourage everyone to join us across the street at Quaker Cemetery for a brief Wreath Laying Ceremony to honor the twelve fallen Patriots\nrecently discovered from the Battle of Camden. This will be a joint SCSSAR event in concert with the Joseph Kershaw and Hobkirk Hill Chapters\, SCDAR.\n5:00 PM – On Site SCSSAR Meeting Registration – Historic Robert Mills Courthouse\, 607 South Broad St.\, Camden\, SC 29020\n6:00 PM – Reception at Historic Robert Mills Courthouse\, 607 South Broad Street\, Camden\, SC 29020\n7:00 PM – Dinner Buffet with Guest Speaker Dan McMichael\, followed by SAR and Youth Award Presentations\nFriday awards banquet attire is Business-Sophisticated for both ladies and gentlemen. That is a suit\, military and colonial equivalent attire\, or kilt.\nEntrées – Roast Beef (au jus) • Fried Chicken • Baked Chicken\nVegetables – Broccoli Casserole • Green Beans with Potatoes\, Tomatoes and Ocra • Biscuits\nDesserts – Banana Pudding • Peach Cobbler\nBeverages -Sweet and Unsweetend Tea • Water \nSATURDAY APRIL 20TH\n7:30 AM – South Atlantic District Meeting – Historic Robert Mills Courthouse.\n8:00 to 9:00 AM – On Site SCSSAR Meeting Registration – Historic Robert Mills Courthouse.\n9:00 AM to 12:30 PM – SCSSAR Annual Meeting – Historic Robert Mills Courthouse.\nAttire: Business\, Suit or Jacket and Tie.\n3:00 PM – Wreath Laying Ceremony and Commemoration of Battle of Hobkirk Hill\, Kirkwood Common Park\, 107 Kirkwood Lane\, Camden\, South Carolina.\nJoint SCSSAR Event with the Hobkirk Hill Chapter and Joseph Kershaw Chapter\, SCDAR. \nHOTEL RESERVATIONS \nHampton Inn\, 122 Wall St.\, Camden SC 29020 – 1-803-272-0600\nHampton Inn (30 rooms at $169 per night) by booking online at\n<http://hampton.com/> and entering the group booking code SAR\nor by calling into the hotel and giving the April 19-20th dates and\ngroup name of: Sons of the American Revolution \nHoliday Inn Express and Suites’ 419 Sumter Hwy.\, Camden\, SC 29020 – 1-888-465-4329\nHoliday Inn Express (20 rooms at $159 per night)\,reservations by\ndirectly calling the hotel and providing the April 19-20th dates and\ngroup name: Sons of the American Revolution. \nBoth properties include free WIFI and a full complementary breakfast.\nRooms available for reserve from April 18-21st should Compatriots\ndesire\, and March 18th will be the deadline for reservations. \nRegistration and payment required for attendance.\n(Registration for dinner must be completed by Friday\, April 12\, 2024) \nREGISTRATION FEES – Dinner $30 • Meeting $25
URL:https://gasocietysar.org/event/sc-2024-south-carolina-annual-meeting/
CATEGORIES:Miscellaneous Events
END:VEVENT
BEGIN:VEVENT
DTSTART;TZID=America/New_York:20240420T073000
DTEND;TZID=America/New_York:20240420T090000
DTSTAMP:20260425T080814
CREATED:20240206T184448Z
LAST-MODIFIED:20240418T200138Z
UID:7470-1713598200-1713603600@gasocietysar.org
SUMMARY:District (SC) - South Atlantic District meeting - 7:30 AM
DESCRIPTION:South Atlantic District Meeting \nHistoric Robert Mills Courthouse in Camden\, SC \n  \nZoom option: \nCompatriots\, Please find attached information for the District Meeting on Saturday\, 20 April at 7:30 AM (EDST). Here is the link again: Join Zoom Meeting \nhttps://zoom.us/j/91024605755?pwd=TmhXWm0va3E5dHlCNCtVWHhNZ21UQT09 \n  \nMeeting ID: 910 2460 5755 \nPasscode: SADSAR
URL:https://gasocietysar.org/event/district-sc-south-atlantic-district-meeting-730-am/
CATEGORIES:Miscellaneous Events,NSSAR Meetings
END:VEVENT
END:VCALENDAR